From mboxrd@z Thu Jan 1 00:00:00 1970 Return-Path: Received: from mails.dpdk.org (mails.dpdk.org [217.70.189.124]) by inbox.dpdk.org (Postfix) with ESMTP id 6869A48890 for ; Thu, 2 Oct 2025 12:19:21 +0200 (CEST) Received: from mails.dpdk.org (localhost [127.0.0.1]) by mails.dpdk.org (Postfix) with ESMTP id 5ED41402F2; Thu, 2 Oct 2025 12:19:21 +0200 (CEST) Received: from mail-qk1-f227.google.com (mail-qk1-f227.google.com [209.85.222.227]) by mails.dpdk.org (Postfix) with ESMTP id 1D785402F2 for ; Thu, 2 Oct 2025 12:19:20 +0200 (CEST) Received: by mail-qk1-f227.google.com with SMTP id af79cd13be357-7f04816589bso101533885a.3 for ; Thu, 02 Oct 2025 03:19:20 -0700 (PDT) DKIM-Signature: v=1; a=rsa-sha256; c=relaxed/relaxed; d=iol.unh.edu; s=unh-iol; t=1759400359; x=1760005159; darn=dpdk.org; h=cc:to:from:subject:message-id:date:from:to:cc:subject:date :message-id:reply-to; bh=zYOmiln0MgzeJ47h7rzkibjKvkKYxrIZTg3R3H4sKlI=; b=g+6RXcM9bSnESFirsf1RjJZbSkU/7fU/HXsUkog0g+V/DjcvVwpwzw4BRs/gjSkAny YVGuu/6E+nNT9LOTegdZAkIXEXsdqZPwiWKr6SNu2XnanWwaK7ktYomcjYPCCMN5IipY z0emXE5UqI72flTTT9ZecIs+sdmCGA/WFTmOI= X-Google-DKIM-Signature: v=1; a=rsa-sha256; c=relaxed/relaxed; d=1e100.net; s=20230601; t=1759400359; x=1760005159; h=cc:to:from:subject:message-id:date:x-gm-message-state:from:to:cc :subject:date:message-id:reply-to; bh=zYOmiln0MgzeJ47h7rzkibjKvkKYxrIZTg3R3H4sKlI=; b=J61n4Jft77Mk22872h48m88ViStaFB3/95E4DFQvQxQ/lYfYCkf5jqfG/JX7r6jFJl C3IVugza7hNwyV1827lP9sp6bOOl+aOf5H/dOJPdOIar3f7uGo9MoWO0x1b3AnEWxADO lm83dO1TBXczTeJ/YlutNuZTThXCq2hZRo+hlwtFpxl9SEz9XCHCOuTCj/S0qsjXcte9 91tadxBFmjUJ1LdKbaPCYVCPrYtjSAlBD71vpZOe6jZdxHgRjsJp8ibv3eSRdBPR77el B/VBOfxcIwihfwSMnVylf+mwmg8ttsqbvYGbCrQesjirlkZPwDxxIkCKrmJCfAOjstc7 z7jw== X-Gm-Message-State: AOJu0YzIHYjmZoU09TfMfjP1nAahq/6+fjHck+m4c87FJuKhhABQuDEy et/eczqT0nXkxfHInnJxzsf9OIgKCsYlIYjqBnRT7TpiFT/L0am3L3+/iV83XYLODMTHH0J6H0j tspbBi7sivc0M8+JGM3iVNB6cTBEgDhIU7ed2hgPGJb/k X-Gm-Gg: ASbGncv49pO1FkOIowhf/y1aT6a/hSfK0/XXJDwnkuRkYw4tJt+KucU9SGkZS0OVlX0 uT2niNZUy/pHc3OknofDevIsl5vyRKqjURr8c9zUYHs325zeWm7e2rdz2NVxuK0/p73snugP7YS HNnNlEKlt0eODI/zA1Heh0sPPRHXNYr8xXv/xSf5ZHCrud5NPfnzl/BPE96YD49rK8VSUk1PRII qy/WrcLHqA8BtA5JJuvVW/QKQrDN4OM7MHSILxRU17L6WaTlT0ViGqDWPOIXZiiGNMazOnd8QLo et4N6pqIPzWG+aYy//bGxkBIedW7FivnFkdA0ZycML3H/skBVPPiIn/EWjBpr7hOJ3l5jEeoTgZ qFQ== X-Google-Smtp-Source: AGHT+IG9mvA8U1rkaVBoXAoubFZHwyTK+7oBzNbQEDIA8+x8FSQ8B/kzRDggANbLsBMimRr6wa7aholSp4xN X-Received: by 2002:a05:620a:1a13:b0:848:a4b7:cb12 with SMTP id af79cd13be357-87371639cb7mr937117785a.25.1759400359392; Thu, 02 Oct 2025 03:19:19 -0700 (PDT) Received: from postal.iol.unh.edu (postal.iol.unh.edu. [132.177.123.84]) by smtp-relay.gmail.com with ESMTPS id 6a1803df08f44-878be04cad5sm1479806d6.29.2025.10.02.03.19.19 (version=TLS1_2 cipher=ECDHE-ECDSA-AES128-GCM-SHA256 bits=128/128); Thu, 02 Oct 2025 03:19:19 -0700 (PDT) X-Relaying-Domain: iol.unh.edu Date: Thu, 02 Oct 2025 03:19:19 -0700 (PDT) Message-ID: <68de51a7.050a0220.107ee1.9252SMTPIN_ADDED_MISSING@mx.google.com> Received: from [172.21.0.2] (unknown [172.18.0.240]) by postal.iol.unh.edu (Postfix) with ESMTP id 11F816051830; Thu, 2 Oct 2025 06:19:19 -0400 (EDT) Subject: |SUCCESS| [GIT MASTER] c04bbd131b2c14b3049bf86d3ef367b34e6fdf1e From: dpdklab@iol.unh.edu To: Test Report Cc: dpdk-test-reports@iol.unh.edu, Stephen Hemminger Content-Type: text/plain X-BeenThere: test-report@dpdk.org X-Mailman-Version: 2.1.29 Precedence: list List-Id: automatic DPDK test reports List-Unsubscribe: , List-Archive: List-Post: List-Help: List-Subscribe: , Errors-To: test-report-bounces@dpdk.org _Testing PASS_ Branch: dpdk-next-net c04bbd131b2c14b3049bf86d3ef367b34e6fdf1e --> testing pass Upstream job id: Generic-DPDK-Compile-Meson#430357 Test environment and result as below: +------------------------------+--------------------+ | Environment | dpdk_meson_compile | +==============================+====================+ | Ubuntu 20.04 | PASS | +------------------------------+--------------------+ | Red Hat Enterprise Linux 9.5 | PASS | +------------------------------+--------------------+ | Debian GNU/Linux 12 | PASS | +------------------------------+--------------------+ | Fedora Linux 42 | PASS | +------------------------------+--------------------+ | Ubuntu 22.04 | PASS | +------------------------------+--------------------+ | CentOS Stream 9 | PASS | +------------------------------+--------------------+ | CentOS Stream 10 | PASS | +------------------------------+--------------------+ | Ubuntu 24.04 | PASS | +------------------------------+--------------------+ Ubuntu 20.04 Kernel: 5.15 Compiler: aarch64-linux-gnu-gcc gcc (Ubuntu 9.4.0-1ubuntu1~20.04.2) 9.4.0 Red Hat Enterprise Linux 9.5 Kernel: 5.4 Compiler: gcc gcc (GCC) 11.5.0 20240719 (Red Hat 11.5.0-2) Debian GNU/Linux 12 Kernel: 5.4 Compiler: gcc gcc (Debian 12.2.0-14+deb12u1) 12.2.0 Fedora Linux 42 Kernel: 5.4 Compiler: gcc gcc (GCC) 15.2.1 20250808 (Red Hat 15.2.1-1) Ubuntu 22.04 Kernel: 5.4 Compiler: gcc gcc (Ubuntu 11.4.0-1ubuntu1~22.04) 11.4.0 CentOS Stream 9 Kernel: 5.4 Compiler: gcc gcc (GCC) 11.5.0 20240719 (Red Hat 11.5.0-11) CentOS Stream 10 Kernel: 5.4 Compiler: gcc gcc (GCC) 14.2.1 20250110 (Red Hat 14.2.1-8) Ubuntu 24.04 Kernel: 5.4 Compiler: gcc gcc (Ubuntu 13.3.0-6ubuntu2~24.04) 13.3.0 To view detailed results, visit: https://lab.dpdk.org/results/dashboard/tarballs/35041/ UNH-IOL DPDK Community Lab To manage your email subscriptions, visit: https://lab.dpdk.org/results/dashboard/preferences/subscriptions/