From mboxrd@z Thu Jan 1 00:00:00 1970 Return-Path: Received: from mails.dpdk.org (mails.dpdk.org [217.70.189.124]) by inbox.dpdk.org (Postfix) with ESMTP id 8317B48890 for ; Thu, 2 Oct 2025 12:19:36 +0200 (CEST) Received: from mails.dpdk.org (localhost [127.0.0.1]) by mails.dpdk.org (Postfix) with ESMTP id 7D4DC402F2; Thu, 2 Oct 2025 12:19:36 +0200 (CEST) Received: from mail-oa1-f97.google.com (mail-oa1-f97.google.com [209.85.160.97]) by mails.dpdk.org (Postfix) with ESMTP id 5438A402F2 for ; Thu, 2 Oct 2025 12:19:35 +0200 (CEST) Received: by mail-oa1-f97.google.com with SMTP id 586e51a60fabf-373b7e07182so611295fac.0 for ; Thu, 02 Oct 2025 03:19:35 -0700 (PDT) DKIM-Signature: v=1; a=rsa-sha256; c=relaxed/relaxed; d=iol.unh.edu; s=unh-iol; t=1759400374; x=1760005174; darn=dpdk.org; h=cc:to:from:subject:message-id:date:from:to:cc:subject:date :message-id:reply-to; bh=yH7dx4V2iB/Feu3osLKD/QOPv0l/fIOjBXJG+pqz2IA=; b=Sy5tjiZ3i+3ZH06YSycinajjV1g1HXVwNluT6tjZMvE26keW0kUxtc4Z+YjIr3aQ/d 43HVtZ4nXKSnvl7vwzEPrnJSg3P5DCTzol4wt15OKp8h0d/TdQNKbqS0xgZRxPS+V9U9 mf25huH9JqZt7T+cGOAbi+IvpGykRuAexjWbg= X-Google-DKIM-Signature: v=1; a=rsa-sha256; c=relaxed/relaxed; d=1e100.net; s=20230601; t=1759400374; x=1760005174; h=cc:to:from:subject:message-id:date:x-gm-message-state:from:to:cc :subject:date:message-id:reply-to; bh=yH7dx4V2iB/Feu3osLKD/QOPv0l/fIOjBXJG+pqz2IA=; b=LETFeg60zn65nx1Ja5og/GpQH1ndqXYvFY+SwBFk0ZB2LOTk3FnzGJCNmL3ULPKf7z Ndwlsn3Tw9qiQvSzGpMLccF0CWnSMljCQpIOXAOSOZ2lCSlXfBSSKIROpd2eWR+WfdMN gKzPB7gpnGtgC62T8zr4fOH05ocIGC7ySUfOGE56TLljO7Ktes6V5oq30CJUpS4fFmkl 14OPV+CSxZjLVShQMvRDpp3y1DFekr6MMeIHw40CrAEERo9B4UBFMxsOhpaGaSXV323C Q+RhPeze/0vu9rHhelQ/QLc8T5kgncJnK2X6N3VoJXmkyU7pmiQ35TgITMztVJEBcCv4 q0oQ== X-Gm-Message-State: AOJu0Yze9sIZ6yhW9ggH0tHjCKTuQcaLNv3PtBSiWOJJ/dSd/DhKCH+5 gb0bjxPz+QDphRiP3sCt9B7QU6a3m0xJOlSNKc62pDLGsQVMYdApm4ap7l78g2VdkOVLFOD2+g+ I7ngYBDTkF7TcR2U173HmovRb46F2hFBQj5iltRMfF3AT X-Gm-Gg: ASbGnctpxEcXCp06iT8X3VtdsfLAjGlEFDXrcxTXcs0cloWuDZEX0foNjDTH8KaPuyQ Gt8drN/weRmrZkzWobGNWZfWp7fvWPLzFlscPf3JD7cnUoc7ED4WE8n9Tp4g5hTev91qtM2SnRc nHFu7frwVnQiAW8KXXtEWi+iDft9XI1BEiRyzQUo+qPeHBNKPyB0/DSA0XKBwFWgCu33iK9ilyY FElPT15MlhDjaJJRZkJ1X7TcQfgu71TGZxxwLD7kSWN3TO4N7L5v/6OVnbmz8+gpIlB96RX9pjH D5HTs3VlLcZTwNdFG2FjrRj5U1rYW+ZoMlyZrzWOCGROsO+lm6PDOzdLMpn2J6yOJmdnfQzMHwi C5w== X-Google-Smtp-Source: AGHT+IFUUOVMYcQtGioo7wtENqRar0/gzSa4kIzC+9WQ61NCcfYsloWoT++X3NEm6Y87cNmoPaJmD/AHkv41 X-Received: by 2002:a05:6870:d106:b0:379:df12:606b with SMTP id 586e51a60fabf-39bb687753bmr3267925fac.51.1759400374513; Thu, 02 Oct 2025 03:19:34 -0700 (PDT) Received: from postal.iol.unh.edu (postal.iol.unh.edu. [132.177.123.84]) by smtp-relay.gmail.com with ESMTPS id 586e51a60fabf-3ab7a045cfdsm178506fac.2.2025.10.02.03.19.34 (version=TLS1_2 cipher=ECDHE-ECDSA-AES128-GCM-SHA256 bits=128/128); Thu, 02 Oct 2025 03:19:34 -0700 (PDT) X-Relaying-Domain: iol.unh.edu Date: Thu, 02 Oct 2025 03:19:34 -0700 (PDT) Message-ID: <68de51b6.050a0220.56916.b6a4SMTPIN_ADDED_MISSING@mx.google.com> Received: from [172.21.0.2] (unknown [172.18.0.240]) by postal.iol.unh.edu (Postfix) with ESMTP id B3B576051830; Thu, 2 Oct 2025 06:19:33 -0400 (EDT) Subject: |SUCCESS| [GIT MASTER] 4159ea62922ce41566c7bab44655ad78bee85458 From: dpdklab@iol.unh.edu To: Test Report Cc: dpdk-test-reports@iol.unh.edu, Chenbo Xia , Maxime Coquelin Content-Type: text/plain X-BeenThere: test-report@dpdk.org X-Mailman-Version: 2.1.29 Precedence: list List-Id: automatic DPDK test reports List-Unsubscribe: , List-Archive: List-Post: List-Help: List-Subscribe: , Errors-To: test-report-bounces@dpdk.org _Testing PASS_ Branch: dpdk-next-virtio 4159ea62922ce41566c7bab44655ad78bee85458 --> testing pass Upstream job id: Generic-DPDK-Compile-Meson#430367 Test environment and result as below: +------------------------------+--------------------+ | Environment | dpdk_meson_compile | +==============================+====================+ | Red Hat Enterprise Linux 9.5 | PASS | +------------------------------+--------------------+ | Ubuntu 20.04 | PASS | +------------------------------+--------------------+ | Debian GNU/Linux 12 | PASS | +------------------------------+--------------------+ | Fedora Linux 42 | PASS | +------------------------------+--------------------+ | Ubuntu 22.04 | PASS | +------------------------------+--------------------+ | Ubuntu 24.04 | PASS | +------------------------------+--------------------+ | CentOS Stream 9 | PASS | +------------------------------+--------------------+ | CentOS Stream 10 | PASS | +------------------------------+--------------------+ Red Hat Enterprise Linux 9.5 Kernel: 5.4 Compiler: gcc gcc (GCC) 11.5.0 20240719 (Red Hat 11.5.0-2) Ubuntu 20.04 Kernel: 5.15 Compiler: aarch64-linux-gnu-gcc gcc (Ubuntu 9.4.0-1ubuntu1~20.04.2) 9.4.0 Debian GNU/Linux 12 Kernel: 5.4 Compiler: gcc gcc (Debian 12.2.0-14+deb12u1) 12.2.0 Fedora Linux 42 Kernel: 5.4 Compiler: gcc gcc (GCC) 15.2.1 20250808 (Red Hat 15.2.1-1) Ubuntu 22.04 Kernel: 5.4 Compiler: gcc gcc (Ubuntu 11.4.0-1ubuntu1~22.04) 11.4.0 Ubuntu 24.04 Kernel: 5.4 Compiler: gcc gcc (Ubuntu 13.3.0-6ubuntu2~24.04) 13.3.0 CentOS Stream 9 Kernel: 5.4 Compiler: gcc gcc (GCC) 11.5.0 20240719 (Red Hat 11.5.0-11) CentOS Stream 10 Kernel: 5.4 Compiler: gcc gcc (GCC) 14.2.1 20250110 (Red Hat 14.2.1-8) To view detailed results, visit: https://lab.dpdk.org/results/dashboard/tarballs/35040/ UNH-IOL DPDK Community Lab To manage your email subscriptions, visit: https://lab.dpdk.org/results/dashboard/preferences/subscriptions/