From mboxrd@z Thu Jan 1 00:00:00 1970 Return-Path: Received: from mails.dpdk.org (mails.dpdk.org [217.70.189.124]) by inbox.dpdk.org (Postfix) with ESMTP id 68DB148890 for ; Thu, 2 Oct 2025 13:25:26 +0200 (CEST) Received: from mails.dpdk.org (localhost [127.0.0.1]) by mails.dpdk.org (Postfix) with ESMTP id 4B8C24013F; Thu, 2 Oct 2025 13:25:26 +0200 (CEST) Received: from mail-io1-f100.google.com (mail-io1-f100.google.com [209.85.166.100]) by mails.dpdk.org (Postfix) with ESMTP id 9EAA74013F for ; Thu, 2 Oct 2025 13:25:24 +0200 (CEST) Received: by mail-io1-f100.google.com with SMTP id ca18e2360f4ac-930a6c601b3so81925639f.3 for ; Thu, 02 Oct 2025 04:25:24 -0700 (PDT) DKIM-Signature: v=1; a=rsa-sha256; c=relaxed/relaxed; d=iol.unh.edu; s=unh-iol; t=1759404324; x=1760009124; darn=dpdk.org; h=cc:to:from:subject:message-id:date:from:to:cc:subject:date :message-id:reply-to; bh=BOyonZiL5PmsemaiAQo91+NtKhwvNHAYDMIy0a02utI=; b=Hd6tKQvkObt7qM5JbuC5dcjHEIR6f/+PI2T8bWfZj2I01myLudA5QmJsT4IxnmTo/V z1a6lHRyHuWRLYBmJP/NXdzK91Q7pV1Ih9RkBU19rkRclmcnM6cOVFYuLN8Q0PRn0+OE 59n7NWqO3iQHQcK/9ZmnCE3pn2F9ohpCLZzuU= X-Google-DKIM-Signature: v=1; a=rsa-sha256; c=relaxed/relaxed; d=1e100.net; s=20230601; t=1759404324; x=1760009124; h=cc:to:from:subject:message-id:date:x-gm-message-state:from:to:cc :subject:date:message-id:reply-to; bh=BOyonZiL5PmsemaiAQo91+NtKhwvNHAYDMIy0a02utI=; b=c5gfV2Q9xdpeQeYKxWaZpAyArUG2EJq/fnvL//ogof4dHWLveZBry5qwyf1R7576fQ uhwVf7p6i4exj1TYbllVXpcsLlVUG/Tbi7D9sazjpq/ULsGRZ78wo7NiRGakNLR0mWNc /C1vVo8JQBe86hX21PKcV4gMvM5FcjkSd+ldUNdx4UFZeXXGK5Bn4eJgE2ykdCqTggDq 0jWO+d5AtZxVwT7z/YgWPclR3FlkGqhGmvW+q0RZmZ7NOuGaluVvMfzoGsgz/UizrnoA 2VXzdpOLCzLA5/8KEvoH34IKBwJUZvRqyX/6kar5oC9Ew/qym6rRBeks04GOkanY94Gy WN1g== X-Gm-Message-State: AOJu0Yy+aeHiTnMD/RbH/3M7jlGkrhmR1698geFSvMVVfHS91gji2U4C IuTGxy9GVFLbEzBdaItmXkmw+XoNCXtTmN5QYGLEE5Oobz6YS0t5rZ9SsiQYqHQQxWn6t/+/Lcb KF6/aUoD0RhlNMMVaA0jdn2Bi/qgWp1gdZkxBOoWSrGHw X-Gm-Gg: ASbGncshIpfYAWNKUmAHLR3kj6WJTIAv2IeFAFduvDYvdwqCySb409Dcha5Bs1xT01y 3CnD7rET/3Oot9qhO31axBxMg6iwEzeIqEecrjuwfNPLx9uMpqdl25TKbsXCiEvGNlzzOdM8eCc j8QKwfLXXXr+M4/w1YiESzNtZWQNU0HhrCbJcgBe3OiOJxv6y8mM2dgtsouJsfpuup0zHCt2lJC 2kgGx30lguvyBYk2k+Ip70ceRC6MMWE1I8cffyTaxftcnjlIUxkHixhBcgs3mo8jD9wbn3au/2M 4C4bgEH8AtPiehHSzc7Q5lSuPU5hYYApNpsP1nxKBW7+6A6ZEWrsoAjcLmksQjgMeaxIyZieLb0 VJw== X-Google-Smtp-Source: AGHT+IHZ9dj1HH/gn8MFH+RPgZpEz4z4cWyzWUBh7ZU3DdHcqXuBxFLAojebVRdBZkLcLR4hW3IHdzoFs+iO X-Received: by 2002:a05:6602:3604:b0:922:e3b2:713c with SMTP id ca18e2360f4ac-937aeba95acmr918970839f.16.1759404323885; Thu, 02 Oct 2025 04:25:23 -0700 (PDT) Received: from postal.iol.unh.edu (postal.iol.unh.edu. [132.177.123.84]) by smtp-relay.gmail.com with ESMTPS id ca18e2360f4ac-93a85624c0bsm10004239f.16.2025.10.02.04.25.23 (version=TLS1_2 cipher=ECDHE-ECDSA-AES128-GCM-SHA256 bits=128/128); Thu, 02 Oct 2025 04:25:23 -0700 (PDT) X-Relaying-Domain: iol.unh.edu Date: Thu, 02 Oct 2025 04:25:23 -0700 (PDT) Message-ID: <68de6123.5d0a0220.14b8ac.6436SMTPIN_ADDED_MISSING@mx.google.com> Received: from [172.21.0.2] (unknown [172.18.0.240]) by postal.iol.unh.edu (Postfix) with ESMTP id 3DB9960003EA; Thu, 2 Oct 2025 07:25:23 -0400 (EDT) Subject: |SUCCESS| [GIT MASTER] e7d8cc7ef4df3552575525697079d3c957cfcdaf From: dpdklab@iol.unh.edu To: Test Report Cc: dpdk-test-reports@iol.unh.edu, Bruce Richardson Content-Type: text/plain X-BeenThere: test-report@dpdk.org X-Mailman-Version: 2.1.29 Precedence: list List-Id: automatic DPDK test reports List-Unsubscribe: , List-Archive: List-Post: List-Help: List-Subscribe: , Errors-To: test-report-bounces@dpdk.org _Testing PASS_ Branch: dpdk-next-net-intel e7d8cc7ef4df3552575525697079d3c957cfcdaf --> testing pass Upstream job id: Generic-VM-Unit-Test-DPDK#31544 Test environment and result as below: +-------------------------------+----------------+ | Environment | dpdk_unit_test | +===============================+================+ | CentOS Stream 9 | PASS | +-------------------------------+----------------+ | CentOS Stream 10 | PASS | +-------------------------------+----------------+ | Debian GNU/Linux 12 | PASS | +-------------------------------+----------------+ | Fedora Linux 40 | PASS | +-------------------------------+----------------+ | Windows Server 2022 | PASS | +-------------------------------+----------------+ | Fedora Linux 41 | PASS | +-------------------------------+----------------+ | Fedora Linux 42 | PASS | +-------------------------------+----------------+ | Red Hat Enterprise Linux 8.10 | PASS | +-------------------------------+----------------+ | Red Hat Enterprise Linux 9.5 | PASS | +-------------------------------+----------------+ | Ubuntu 22.04 | PASS | +-------------------------------+----------------+ | Ubuntu 20.04 | PASS | +-------------------------------+----------------+ | Ubuntu 24.04 | PASS | +-------------------------------+----------------+ CentOS Stream 9 Kernel: 5.15 Compiler: gcc gcc (GCC) 11.5.0 20240719 (Red Hat 11.5.0-11) CentOS Stream 10 Kernel: 5.15 Compiler: gcc gcc (GCC) 14.2.1 20250110 (Red Hat 14.2.1-8) Debian GNU/Linux 12 Kernel: 5.15 Compiler: gcc gcc (Debian 12.2.0-14+deb12u1) 12.2.0 Fedora Linux 40 Kernel: 5.15 Compiler: gcc gcc (GCC) 14.2.1 20240912 (Red Hat 14.2.1-3) Windows Server 2022 Kernel: 10.0.20348.2031 Compiler: clang 15.0.7, gcc 14.1.0 (MinGW), and MSVC VS 19.39.33521 Fedora Linux 41 Kernel: 5.15 Compiler: gcc gcc (GCC) 14.3.1 20250523 (Red Hat 14.3.1-1) Fedora Linux 42 Kernel: 5.15 Compiler: gcc gcc (GCC) 15.2.1 20250808 (Red Hat 15.2.1-1) Red Hat Enterprise Linux 8.10 Kernel: 5.15 Compiler: gcc gcc (GCC) 8.5.0 20210514 (Red Hat 8.5.0-22) Red Hat Enterprise Linux 9.5 Kernel: 5.15 Compiler: gcc gcc (GCC) 11.5.0 20240719 (Red Hat 11.5.0-2) Ubuntu 22.04 Kernel: 5.15 Compiler: gcc gcc (Ubuntu 11.4.0-1ubuntu1~22.04) 11.4.0 Ubuntu 20.04 Kernel: 5.15 Compiler: gcc gcc (Ubuntu 9.4.0-1ubuntu1~20.04.2) 9.4.0 Ubuntu 24.04 Kernel: 5.15 Compiler: gcc gcc (Ubuntu 13.3.0-6ubuntu2~24.04) 13.3.0 To view detailed results, visit: https://lab.dpdk.org/results/dashboard/tarballs/35085/ UNH-IOL DPDK Community Lab To manage your email subscriptions, visit: https://lab.dpdk.org/results/dashboard/preferences/subscriptions/