From mboxrd@z Thu Jan 1 00:00:00 1970 Return-Path: Received: from mails.dpdk.org (mails.dpdk.org [217.70.189.124]) by inbox.dpdk.org (Postfix) with ESMTP id 7461648890 for ; Thu, 2 Oct 2025 13:26:31 +0200 (CEST) Received: from mails.dpdk.org (localhost [127.0.0.1]) by mails.dpdk.org (Postfix) with ESMTP id 69D704013F; Thu, 2 Oct 2025 13:26:31 +0200 (CEST) Received: from mail-il1-f225.google.com (mail-il1-f225.google.com [209.85.166.225]) by mails.dpdk.org (Postfix) with ESMTP id 085F14013F for ; Thu, 2 Oct 2025 13:26:30 +0200 (CEST) Received: by mail-il1-f225.google.com with SMTP id e9e14a558f8ab-42d7ef9a402so8917455ab.0 for ; Thu, 02 Oct 2025 04:26:29 -0700 (PDT) DKIM-Signature: v=1; a=rsa-sha256; c=relaxed/relaxed; d=iol.unh.edu; s=unh-iol; t=1759404389; x=1760009189; darn=dpdk.org; h=cc:to:from:subject:message-id:date:from:to:cc:subject:date :message-id:reply-to; bh=DNPBvW129wa2z61b5mOYArbe2oDIWaP4ubcyMPU1W2U=; b=FQl4FMJ922ooJq4kAszKdOa1P1CnwjoBk2fWHO9sNPEdxILt4PM5P311rKhxgjsz7K Y7YKIjONXCLo4IrxGbmYxBb3W1odv6iDe5QR4/0j13vwErYGTIKw3JhB20twVh+wFLK5 1+sSOuc4NS2cipP4/VeRaz3GJMU6B7sRLUfJE= X-Google-DKIM-Signature: v=1; a=rsa-sha256; c=relaxed/relaxed; d=1e100.net; s=20230601; t=1759404389; x=1760009189; h=cc:to:from:subject:message-id:date:x-gm-message-state:from:to:cc :subject:date:message-id:reply-to; bh=DNPBvW129wa2z61b5mOYArbe2oDIWaP4ubcyMPU1W2U=; b=eA1MdmadTxlW5PWMpEYYzbIb8t25btjmQtF4X3fFQ4Ut65F8aojlKE5kQ+KtOO4ZnA 96EAxeIbOQjmq+BBGxQ2wrAvN8NevFTcg0EO8kzEb/h+0jb6mQc52y/bHHi0fkdQpWa/ HsefWJBWiZ3BZMnlzpfraLEn5bMGM96jU7vBOo71cDUK+MjRJD4PcDeU18iDd3Zag6JH a2RhYYYHmlo00FykrV6oXS2t2aEUQRPYwrGwXc5rt2kHFRQ9dvXT+88cnCyce4M1awQ/ vqVaX6oJBn6yEYIfOJXWLzrWEv+pjkfkzrsBGhCtUGDMRLUjg1j6sK4k/j/0gyFPQDxV IP8Q== X-Gm-Message-State: AOJu0YzI76c2sFJwwTZ/H9y3Z/kRyiHe+JAfBEMUzfSwBCkSTnKJ0r31 qRsZpi56cqVskpZbmBkVZ0g250rhnoHLhLTfvs7Nnb7PXfkMFYZrmmao48mrAnvGHmTwEfjfCAH sZ5DKp8MFl67dFTcSyXNlGpHqY3sbWCAwBxRrxS3knQS1 X-Gm-Gg: ASbGnctcGOgx89dw/QwustccsMAuniGgf+LiupzF6ItKnrvfRTTvpEflkBwK9vKuwKf /KXkYJFhb6EiIMOszPmKIqYOnZqjK5tNWnpOh+j+ShjOgkrI8EXt+M06DDYbfFq9zHh5KVgIMVD 5eMTvqi9qAwQdM3WqUJ1rqBHhyQwP623ndzl5S5ec2sOT1letvGSkqzRBpJtFVXcRxIfIUNABNk i12Yy+Av/nBffPqc4QUknv3ers5NDYkK2baGLZQEpsIh+Lq89p16nINWocahyvvPL85n/U06u5c +RiEqLqba2f/duleeRRLjZilyLXWNbnrHrEASfSdZOjI8uJdBtkSySdmObXB06G1MbR6wLHMfFV 59g== X-Google-Smtp-Source: AGHT+IHVe9v2vC6eK0W+aZdSDQ4/WFIbUF5DZezaClblzgstB6iiq4tUWolt54ISY2pp0B7lb943lk0XObCD X-Received: by 2002:a05:6e02:1808:b0:411:6759:bfad with SMTP id e9e14a558f8ab-42d8b21625fmr31847515ab.10.1759404389255; Thu, 02 Oct 2025 04:26:29 -0700 (PDT) Received: from postal.iol.unh.edu (postal.iol.unh.edu. [132.177.123.84]) by smtp-relay.gmail.com with ESMTPS id 8926c6da1cb9f-57b5eaa3fe5sm148384173.4.2025.10.02.04.26.29 (version=TLS1_2 cipher=ECDHE-ECDSA-AES128-GCM-SHA256 bits=128/128); Thu, 02 Oct 2025 04:26:29 -0700 (PDT) X-Relaying-Domain: iol.unh.edu Date: Thu, 02 Oct 2025 04:26:29 -0700 (PDT) Message-ID: <68de6165.050a0220.150bc3.8fc1SMTPIN_ADDED_MISSING@mx.google.com> Received: from [172.21.0.2] (unknown [172.18.0.240]) by postal.iol.unh.edu (Postfix) with ESMTP id D06CE6051830; Thu, 2 Oct 2025 07:26:28 -0400 (EDT) Subject: |SUCCESS| [GIT MASTER] e7d8cc7ef4df3552575525697079d3c957cfcdaf From: dpdklab@iol.unh.edu To: Test Report Cc: dpdk-test-reports@iol.unh.edu, Bruce Richardson Content-Type: text/plain X-BeenThere: test-report@dpdk.org X-Mailman-Version: 2.1.29 Precedence: list List-Id: automatic DPDK test reports List-Unsubscribe: , List-Archive: List-Post: List-Help: List-Subscribe: , Errors-To: test-report-bounces@dpdk.org _Testing PASS_ Branch: dpdk-next-net-intel e7d8cc7ef4df3552575525697079d3c957cfcdaf --> testing pass Upstream job id: Windows-Compile-DPDK-Native#31376 Test environment and result as below: +---------------------+--------------------+-------------------------+-------------------+----------------------+ | Environment | dpdk_meson_compile | dpdk_llvm_clang_compile | dpdk_msvc_compile | dpdk_mingw64_compile | +=====================+====================+=========================+===================+======================+ | Ubuntu 20.04 | PASS | SKIPPED | SKIPPED | SKIPPED | +---------------------+--------------------+-------------------------+-------------------+----------------------+ | FreeBSD 14.2 | PASS | SKIPPED | SKIPPED | SKIPPED | +---------------------+--------------------+-------------------------+-------------------+----------------------+ | Windows Server 2022 | SKIPPED | PASS | PASS | PASS | +---------------------+--------------------+-------------------------+-------------------+----------------------+ Ubuntu 20.04 Kernel: 4.19 Compiler: gcc gcc (Ubuntu 9.4.0-1ubuntu1~20.04.2) 9.4.0 FreeBSD 14.2 Kernel: 14.2-RELEASE Compiler: clang 18.1.6 Windows Server 2022 Kernel: 10.0.20348.2031 Compiler: clang 15.0.7, gcc 14.1.0 (MinGW), and MSVC VS 19.39.33521 To view detailed results, visit: https://lab.dpdk.org/results/dashboard/tarballs/35085/ UNH-IOL DPDK Community Lab To manage your email subscriptions, visit: https://lab.dpdk.org/results/dashboard/preferences/subscriptions/