From mboxrd@z Thu Jan 1 00:00:00 1970 Return-Path: Received: from mails.dpdk.org (mails.dpdk.org [217.70.189.124]) by inbox.dpdk.org (Postfix) with ESMTP id 189E348886 for ; Thu, 2 Oct 2025 13:32:24 +0200 (CEST) Received: from mails.dpdk.org (localhost [127.0.0.1]) by mails.dpdk.org (Postfix) with ESMTP id EC3454013F; Thu, 2 Oct 2025 13:32:23 +0200 (CEST) Received: from mail-io1-f98.google.com (mail-io1-f98.google.com [209.85.166.98]) by mails.dpdk.org (Postfix) with ESMTP id AC0E24013F for ; Thu, 2 Oct 2025 13:32:22 +0200 (CEST) Received: by mail-io1-f98.google.com with SMTP id ca18e2360f4ac-930a6c601b3so82397539f.3 for ; Thu, 02 Oct 2025 04:32:22 -0700 (PDT) DKIM-Signature: v=1; a=rsa-sha256; c=relaxed/relaxed; d=iol.unh.edu; s=unh-iol; t=1759404742; x=1760009542; darn=dpdk.org; h=cc:to:from:subject:message-id:date:from:to:cc:subject:date :message-id:reply-to; bh=+npgcXss2jHSc7cmiRTpAzonnP6adk9eThK3h3x/n4s=; b=R7CiI/D4KrLR/HIYj4NebyaeedZ0XNjcsMCpGljVm/Iv9s/FhQAC0TEJLx99BAcOnW uDThgNXIvqGZzQ8D09h09WBmtMW/qljkN+Pd4dHmJGTGqeNzBvVebZMKYy0yXR5oDIuB kjkfI3NBhu7GBexzmgRqHfgyKm96HU+wUilVw= X-Google-DKIM-Signature: v=1; a=rsa-sha256; c=relaxed/relaxed; d=1e100.net; s=20230601; t=1759404742; x=1760009542; h=cc:to:from:subject:message-id:date:x-gm-message-state:from:to:cc :subject:date:message-id:reply-to; bh=+npgcXss2jHSc7cmiRTpAzonnP6adk9eThK3h3x/n4s=; b=g14Op/IIthkYUjeEZpMrNG9PGjvGgIJHjkLCnZwzLosm31wz92B+C2gLljGT8jV4j4 fpulXu3Raqq4rLaMAb+OwF2zwb9rl1mo4nju+pYAmQV3zNuMeL9Pt6wq/X7vOIgxR9Z1 3+qEWQkb65pyh7mXntnx2cAlXK3sMA+VSW2bNd0hW9wKh1rLqRty5puUskK/3xK07RsM 0d5or5i34GfoMYKE/sDKmni6v7Vf0UiKPicGu/WR2Cy+R3R+EluoMYz9/oUJjiLXseqm 0BtIoogE44rNYCUAF3AIV2tGqD6Zf8iCOJmpimG3AhDC3WAbMil/N3Vxx1WRXH1sD4qw sBLw== X-Gm-Message-State: AOJu0YxhEEFLZ8ezT75cTDJVNDFWHhQooQheSevBjZACfv1OeZmTokvY TJHa6jMgvXWuCSKUF20d7aEhfhs+gFlTDQihdvOdQtQ0d0y35TgkPkEOcZ7YT0CMbFqX/rel9Dj Bj6srTGEn1xY4Kio/JU30+RIf1GKxsAYJlesLgB8eWEFMm6H3mXVkXR8iye0V X-Gm-Gg: ASbGncv2vExC5ayKzqxr2Br24Og9rczRX1G81O4Vi+rRn9YFruL47WEy/KvU23q4vRs 0Gum4w7kCYTWslORcaTHardeQY+VkumKeX/UhbzO/uF6RczCG+gzvxKlNgM4/G+7C1NfOfDbEsh sZ5WsmnV4v2dnHjZQ8zxAGIOWmK9zywKTa1sPZAEdm+61bopvfqJoK0Oj05gJXFUBA+G/rXbSVS Q0u8X9quj0hKuDiyOz4a/zWQAWsqU5/ISBCR4KE9xc+M5/sjQrf1mw9KmXGPxA4YN0g7CN3XKjp WvFaID3yyHEShZOHupaO3DpF99UYkZmPZRW6/hARXKs9RTb/sykmLZY= X-Google-Smtp-Source: AGHT+IGUseaxBLKsNGk2V+386zf3ZXmij5/NHkNQNceH658wC7Eq0eMOoz9dnEkYYz/Up8XxjtdgjL1ZRPsl X-Received: by 2002:a05:6602:370d:b0:887:6bcd:7471 with SMTP id ca18e2360f4ac-937acc0b87cmr901698039f.11.1759404741983; Thu, 02 Oct 2025 04:32:21 -0700 (PDT) Received: from postal.iol.unh.edu (postal.iol.unh.edu. [2606:4100:3880:1234::84]) by smtp-relay.gmail.com with ESMTPS id 8926c6da1cb9f-57b5ed6b5f0sm143612173.39.2025.10.02.04.32.21 (version=TLS1_2 cipher=ECDHE-ECDSA-AES128-GCM-SHA256 bits=128/128); Thu, 02 Oct 2025 04:32:21 -0700 (PDT) X-Relaying-Domain: iol.unh.edu Date: Thu, 02 Oct 2025 04:32:21 -0700 (PDT) Message-ID: <68de62c5.050a0220.2141ba.87ffSMTPIN_ADDED_MISSING@mx.google.com> Received: from [172.21.0.2] (unknown [172.18.0.240]) by postal.iol.unh.edu (Postfix) with ESMTP id 80CD76051830; Thu, 2 Oct 2025 07:32:21 -0400 (EDT) Subject: |SUCCESS| [GIT MASTER] e7d8cc7ef4df3552575525697079d3c957cfcdaf From: dpdklab@iol.unh.edu To: Test Report Cc: dpdk-test-reports@iol.unh.edu, Bruce Richardson Content-Type: text/plain X-BeenThere: test-report@dpdk.org X-Mailman-Version: 2.1.29 Precedence: list List-Id: automatic DPDK test reports List-Unsubscribe: , List-Archive: List-Post: List-Help: List-Subscribe: , Errors-To: test-report-bounces@dpdk.org _Testing PASS_ Branch: dpdk-next-net-intel e7d8cc7ef4df3552575525697079d3c957cfcdaf --> testing pass Upstream job id: Generic-VM-Unit-Test-DPDK#31545 Test environment and result as below: +-------------------------------+----------------+ | Environment | dpdk_unit_test | +===============================+================+ | CentOS Stream 9 | PASS | +-------------------------------+----------------+ | CentOS Stream 10 | PASS | +-------------------------------+----------------+ | Debian GNU/Linux 12 | PASS | +-------------------------------+----------------+ | Fedora Linux 40 | PASS | +-------------------------------+----------------+ | Windows Server 2022 | PASS | +-------------------------------+----------------+ | Fedora Linux 41 | PASS | +-------------------------------+----------------+ | Fedora Linux 42 | PASS | +-------------------------------+----------------+ | Red Hat Enterprise Linux 8.10 | PASS | +-------------------------------+----------------+ | Red Hat Enterprise Linux 9.5 | PASS | +-------------------------------+----------------+ | Ubuntu 22.04 | PASS | +-------------------------------+----------------+ | Ubuntu 20.04 | PASS | +-------------------------------+----------------+ | Ubuntu 24.04 | PASS | +-------------------------------+----------------+ CentOS Stream 9 Kernel: 5.15 Compiler: gcc gcc (GCC) 11.5.0 20240719 (Red Hat 11.5.0-11) CentOS Stream 10 Kernel: 5.15 Compiler: gcc gcc (GCC) 14.2.1 20250110 (Red Hat 14.2.1-8) Debian GNU/Linux 12 Kernel: 5.15 Compiler: gcc gcc (Debian 12.2.0-14+deb12u1) 12.2.0 Fedora Linux 40 Kernel: 5.15 Compiler: gcc gcc (GCC) 14.2.1 20240912 (Red Hat 14.2.1-3) Windows Server 2022 Kernel: 10.0.20348.2031 Compiler: clang 15.0.7, gcc 14.1.0 (MinGW), and MSVC VS 19.39.33521 Fedora Linux 41 Kernel: 5.15 Compiler: gcc gcc (GCC) 14.3.1 20250523 (Red Hat 14.3.1-1) Fedora Linux 42 Kernel: 5.15 Compiler: gcc gcc (GCC) 15.2.1 20250808 (Red Hat 15.2.1-1) Red Hat Enterprise Linux 8.10 Kernel: 5.15 Compiler: gcc gcc (GCC) 8.5.0 20210514 (Red Hat 8.5.0-22) Red Hat Enterprise Linux 9.5 Kernel: 5.15 Compiler: gcc gcc (GCC) 11.5.0 20240719 (Red Hat 11.5.0-2) Ubuntu 22.04 Kernel: 5.15 Compiler: gcc gcc (Ubuntu 11.4.0-1ubuntu1~22.04) 11.4.0 Ubuntu 20.04 Kernel: 5.15 Compiler: gcc gcc (Ubuntu 9.4.0-1ubuntu1~20.04.2) 9.4.0 Ubuntu 24.04 Kernel: 5.15 Compiler: gcc gcc (Ubuntu 13.3.0-6ubuntu2~24.04) 13.3.0 To view detailed results, visit: https://lab.dpdk.org/results/dashboard/tarballs/35085/ UNH-IOL DPDK Community Lab To manage your email subscriptions, visit: https://lab.dpdk.org/results/dashboard/preferences/subscriptions/