From mboxrd@z Thu Jan 1 00:00:00 1970 Return-Path: Received: from mails.dpdk.org (mails.dpdk.org [217.70.189.124]) by inbox.dpdk.org (Postfix) with ESMTP id 9D70D48892 for ; Thu, 2 Oct 2025 16:06:40 +0200 (CEST) Received: from mails.dpdk.org (localhost [127.0.0.1]) by mails.dpdk.org (Postfix) with ESMTP id 795B140261; Thu, 2 Oct 2025 16:06:40 +0200 (CEST) Received: from mail-pg1-f228.google.com (mail-pg1-f228.google.com [209.85.215.228]) by mails.dpdk.org (Postfix) with ESMTP id 410F340261 for ; Thu, 2 Oct 2025 16:06:39 +0200 (CEST) Received: by mail-pg1-f228.google.com with SMTP id 41be03b00d2f7-b5526b7c54eso687069a12.0 for ; Thu, 02 Oct 2025 07:06:39 -0700 (PDT) DKIM-Signature: v=1; a=rsa-sha256; c=relaxed/relaxed; d=iol.unh.edu; s=unh-iol; t=1759413998; x=1760018798; darn=dpdk.org; h=cc:to:from:subject:message-id:date:from:to:cc:subject:date :message-id:reply-to; bh=lP73xckQSPh6P8upTFmz0yd3sYlhe86fPQl8OWUSUfg=; b=gAi2ZAR38GNPvjVLNLScDeSD9p3g+i/lghm1c+IXJbq341lfKkxtGsCsSf5YpAGu43 aBwQrFHnBMFcOUACtmliivozjZj2Bj+ttLLRwXte/co4DtNz/kkuA6JMHNVDM8HWwT63 9QWeT0QD6ERgkb2kRSkEV7i8KhtZGhCkLCLec= X-Google-DKIM-Signature: v=1; a=rsa-sha256; c=relaxed/relaxed; d=1e100.net; s=20230601; t=1759413998; x=1760018798; h=cc:to:from:subject:message-id:date:x-gm-message-state:from:to:cc :subject:date:message-id:reply-to; bh=lP73xckQSPh6P8upTFmz0yd3sYlhe86fPQl8OWUSUfg=; b=B2CZrtUVlBeoWa13fd9hcA/CUnqmosUnIqcXwtQzVnlAO4DQi7q2peTKMu8UaR0r2V 2oVM8Ao2BpRJHCpwtVJbO1T0e42d3Hfm+z2a+2MZvc+kWFrtbs+cpieVF8I001yta9xV h8xUcsIHKHTssyu7BIs0hiMgzvgG+liIgNJeiPDMMQpOHW4G6Yw6lBMjo5wMru52fPt9 wnIdVykrixxmw1Lgj4npx8VQkOpR/dW5dvLUh2tdoXLo+WKHNsTIVT+vZRLHGdXO77r0 tQRRkKjnkby8RM9AiVKMAbRlD5Ez3TvFKXMdgCeWJNL9GBAze5fd2Nw4PAnTJ8Qok7Si Vz3Q== X-Gm-Message-State: AOJu0YxEunshMWRJxuAmpnnncGG3/vPy2d3JHTGDYV4oE2P6MP9FrTxU S1XaSSwE8YRrAvl9nmO9Jjsh2tCcpmFceuD5DnntrzBa9JCsDGZho6YNlDjfBLq3+lBYG6xScm/ 20sP7mS7UCnZ+iPfAVmHbzZMliRNOvC90PSrs X-Gm-Gg: ASbGncteBLlavg+wKqYGNmBgMVDIddGhZbZhlP/tgMMaeLPuoF5aSL964OlzX6hos+K W4cn9BsD5vy8TIWUfjdIN+XbhdbDfTB9VsM+/fpD9vxHvK6+v633rje8+f5dxkCUdHqLNO/Ilyg PUmbnAhKrTYs2pAdbXBlkZHyiD80pn4WwNwEu1yz6naeeWLfnl2ndVtdhDKniFhdbqWfQ8yKb6H LZtmh2DOC8UjXlPLvu03p3rkuyS5Ea6SMQOkAVPUjxR62qK3m3Y5tgH81jkSPN1rjDnc0t061Ou /2OcKfwwfrFWXmepBaZNaJ5G6I98Fk4PmFwQTo/cwejZtFMuHysGrkQdn6U0sPkHrqCDPqh+ZP+ JcA== X-Google-Smtp-Source: AGHT+IHNqUwsHvRtBxWuXHq1LikqNm6cwneWGsaljxVkgonwsayr5Q9eD8we0fAELma3PMBrQMDylVW7RL8W X-Received: by 2002:a17:902:ce0b:b0:28e:80bc:46b4 with SMTP id d9443c01a7336-28e80bc4968mr85454195ad.55.1759413997817; Thu, 02 Oct 2025 07:06:37 -0700 (PDT) Received: from postal.iol.unh.edu (postal.iol.unh.edu. [132.177.123.84]) by smtp-relay.gmail.com with ESMTPS id d9443c01a7336-28e8d1b21absm1656145ad.70.2025.10.02.07.06.37 (version=TLS1_2 cipher=ECDHE-ECDSA-AES128-GCM-SHA256 bits=128/128); Thu, 02 Oct 2025 07:06:37 -0700 (PDT) X-Relaying-Domain: iol.unh.edu Date: Thu, 02 Oct 2025 07:06:37 -0700 (PDT) Message-ID: <68de86ed.170a0220.1c1e31.a4b9SMTPIN_ADDED_MISSING@mx.google.com> Received: from [172.21.0.2] (unknown [172.18.0.240]) by postal.iol.unh.edu (Postfix) with ESMTP id 17791604D420; Thu, 2 Oct 2025 10:06:37 -0400 (EDT) Subject: |SUCCESS| [GIT MASTER] 3b43ce3f4a54468e7ef65760c2fd7b4d6ee6d9fc From: dpdklab@iol.unh.edu To: Test Report Cc: dpdk-test-reports@iol.unh.edu, Xueming Li , Christian Ehrhardt , Kevin Traynor , Luca Boccassi Content-Type: text/plain X-BeenThere: test-report@dpdk.org X-Mailman-Version: 2.1.29 Precedence: list List-Id: automatic DPDK test reports List-Unsubscribe: , List-Archive: List-Post: List-Help: List-Subscribe: , Errors-To: test-report-bounces@dpdk.org _Testing PASS_ Branch: tags/v22.11 3b43ce3f4a54468e7ef65760c2fd7b4d6ee6d9fc --> testing pass Upstream job id: Generic-DPDK-Compile-Meson#430381 Test environment and result as below: +------------------------------+--------------------+ | Environment | dpdk_meson_compile | +==============================+====================+ | Ubuntu 20.04 | PASS | +------------------------------+--------------------+ | CentOS Stream 10 | PASS | +------------------------------+--------------------+ | Debian GNU/Linux 12 | PASS | +------------------------------+--------------------+ | CentOS Stream 9 | PASS | +------------------------------+--------------------+ | Ubuntu 24.04 | PASS | +------------------------------+--------------------+ | Ubuntu 22.04 | PASS | +------------------------------+--------------------+ | Fedora Linux 42 | PASS | +------------------------------+--------------------+ | Red Hat Enterprise Linux 9.5 | PASS | +------------------------------+--------------------+ Ubuntu 20.04 Kernel: 5.15 Compiler: aarch64-linux-gnu-gcc gcc (Ubuntu 9.4.0-1ubuntu1~20.04.2) 9.4.0 CentOS Stream 10 Kernel: 5.4 Compiler: gcc gcc (GCC) 14.2.1 20250110 (Red Hat 14.2.1-8) Debian GNU/Linux 12 Kernel: 5.4 Compiler: gcc gcc (Debian 12.2.0-14+deb12u1) 12.2.0 CentOS Stream 9 Kernel: 5.4 Compiler: gcc gcc (GCC) 11.5.0 20240719 (Red Hat 11.5.0-11) Ubuntu 24.04 Kernel: 5.4 Compiler: gcc gcc (Ubuntu 13.3.0-6ubuntu2~24.04) 13.3.0 Ubuntu 22.04 Kernel: 5.4 Compiler: gcc gcc (Ubuntu 11.4.0-1ubuntu1~22.04) 11.4.0 Fedora Linux 42 Kernel: 5.4 Compiler: clang gcc (GCC) 15.2.1 20250808 (Red Hat 15.2.1-1) Red Hat Enterprise Linux 9.5 Kernel: 5.4 Compiler: gcc gcc (GCC) 11.5.0 20240719 (Red Hat 11.5.0-2) To view detailed results, visit: https://lab.dpdk.org/results/dashboard/tarballs/35039/ UNH-IOL DPDK Community Lab To manage your email subscriptions, visit: https://lab.dpdk.org/results/dashboard/preferences/subscriptions/