From mboxrd@z Thu Jan 1 00:00:00 1970 Return-Path: Received: from mails.dpdk.org (mails.dpdk.org [217.70.189.124]) by inbox.dpdk.org (Postfix) with ESMTP id 97DE748893 for ; Thu, 2 Oct 2025 18:30:16 +0200 (CEST) Received: from mails.dpdk.org (localhost [127.0.0.1]) by mails.dpdk.org (Postfix) with ESMTP id 9183240268; Thu, 2 Oct 2025 18:30:16 +0200 (CEST) Received: from mail-pl1-f227.google.com (mail-pl1-f227.google.com [209.85.214.227]) by mails.dpdk.org (Postfix) with ESMTP id 60DB240268 for ; Thu, 2 Oct 2025 18:30:15 +0200 (CEST) Received: by mail-pl1-f227.google.com with SMTP id d9443c01a7336-273a0aeed57so27387375ad.1 for ; Thu, 02 Oct 2025 09:30:15 -0700 (PDT) DKIM-Signature: v=1; a=rsa-sha256; c=relaxed/relaxed; d=iol.unh.edu; s=unh-iol; t=1759422614; x=1760027414; darn=dpdk.org; h=references:in-reply-to:cc:to:from:subject:message-id:date:from:to :cc:subject:date:message-id:reply-to; bh=zBv2g7J2GpnyhYKtrRf5qlxcpFV8K02mcoAjrnhn0R4=; b=OR4YxyOVCop0Izzs8s2bKS7BsmUyUI2oRfba0Wexzb8LSowdlcUjqkUps1m1gbuXuA X8nkbSRtM8/EdbQ+pN9ikvq89N9cWtzBVijO83b5gKdSqGgbk8c8oSEQN6IPRjVCJs+k UxgcicwS/RYqK11DvO+k9x0CS1Hs/VwxEWgg8= X-Google-DKIM-Signature: v=1; a=rsa-sha256; c=relaxed/relaxed; d=1e100.net; s=20230601; t=1759422614; x=1760027414; h=references:in-reply-to:cc:to:from:subject:message-id:date :x-gm-message-state:from:to:cc:subject:date:message-id:reply-to; bh=zBv2g7J2GpnyhYKtrRf5qlxcpFV8K02mcoAjrnhn0R4=; b=tsrJfBfq4O2+L/+o3mC4fobg5Zod1DSb3APt74aHK0bhOfjiNvpnpEF87nM2dFhfsw vRo8GyYtqlcwIPKHDEm6ZesDWixYwj2j+V/kptyquZ0PgGjtpVzzsVLtU1kMR0i7uSnn DA9k6lsgdwjpGczMN3CkMK4FmS0I27PnSPUfKdu1EmgSsgEkJAqVqw+CY4GZfM6Kn10Y SEylCPj5GOEZaDNY+52dxWoxajTM1ufqOOa8MlJ4tgEVeclJGXqXGVrZLQP1qS+h4gtu 01c/4EN81d9XoHM0zL3iZksE9KXCL8PZALj41G5C9DY4bBh9BQbpUAuOWU1lJ4dXIVxm IKtA== X-Gm-Message-State: AOJu0YyKWsbXadAA8FvMKGtYOlLbEzZTpdmsw9sUqq0fDeyQB46NURcO N+Rjd4dOTswIRXo5JNRIth4Q+e2+CPKpscZgftQB2BbSgg2C9DoDc13AuKecCxw+Z+T29Na61/e N68K+npieh4QzUFILH6XcX/WUrUBMnav7paJEU/ymfMPFMCcWDBtZChHZ8L67 X-Gm-Gg: ASbGncsfbrAqaQgDIHEiRhUx9gELXu/gqvJv2pRDCPAkSEoGSZP6ujGLe4dz94aP6UH WN8NAjZwOx7eojE64soCr1EhUKugZzcWKS+7k9rrUxgQ8TXgm3oMEibWXd/gE4oV23/423VwSw5 IZGzoqA7XP2B7Rpbs32QZHJlswnUOnAi+qNiSQxrceYGqhSSNWCWC3d1RLJ7HgRV1AcfGod4oSr 8xQIczX3RdL/UE+3xFtkcBA64LyVVPDDDXVmk33r/n7rGfA7h1881UInwPnTGm0EN4m1vbe5Pew tdkHtvBVt2WXccEwoXaRBtl5n4tjWSBWo8sXlHAWiQZq23IHcD5osb4= X-Google-Smtp-Source: AGHT+IF6iUu7FxBl/02BDwl014cqR3Qjmt2xEOt9CvCUzfJYFYrtiCncbKEhf6Ue4lrJGk8pnhtsueWEJbcS X-Received: by 2002:a17:903:1a0d:b0:267:44e6:11d6 with SMTP id d9443c01a7336-28e99bab52emr609365ad.6.1759422614487; Thu, 02 Oct 2025 09:30:14 -0700 (PDT) Received: from postal.iol.unh.edu (postal.iol.unh.edu. [2606:4100:3880:1234::84]) by smtp-relay.gmail.com with ESMTPS id d9443c01a7336-28e8d10878csm1881935ad.12.2025.10.02.09.30.14 (version=TLS1_2 cipher=ECDHE-ECDSA-AES128-GCM-SHA256 bits=128/128); Thu, 02 Oct 2025 09:30:14 -0700 (PDT) X-Relaying-Domain: iol.unh.edu Date: Thu, 02 Oct 2025 09:30:14 -0700 (PDT) Message-ID: <68dea896.170a0220.282471.b6b8SMTPIN_ADDED_MISSING@mx.google.com> Received: from [172.21.0.2] (unknown [172.18.0.240]) by postal.iol.unh.edu (Postfix) with ESMTP id E33876051830; Thu, 2 Oct 2025 12:30:13 -0400 (EDT) Subject: |SUCCESS| pw157207-157208 [PATCH] [v6,2/2] crypto/ipsec-mb: use cons From: dpdklab@iol.unh.edu To: Test Report Cc: dpdk-test-reports@iol.unh.edu In-Reply-To: <20251002153229.98158-2-kai.ji@intel.com> References: <20251002153229.98158-2-kai.ji@intel.com> Content-Type: text/plain X-BeenThere: test-report@dpdk.org X-Mailman-Version: 2.1.29 Precedence: list List-Id: automatic DPDK test reports List-Unsubscribe: , List-Archive: List-Post: List-Help: List-Subscribe: , Errors-To: test-report-bounces@dpdk.org Test-Label: iol-compile-amd64-testing Test-Status: SUCCESS http://dpdk.org/patch/157208 _Testing PASS_ Submitter: Kai Ji Date: Thursday, October 02 2025 15:32:29 DPDK git baseline: Repo:dpdk Branch: master CommitID:76393b98bf67f94dc6aa23cf5016c32571899261 157207-157208 --> testing pass Upstream job id: Windows-Compile-DPDK-Native#31377 Test environment and result as below: +---------------------+--------------------+-------------------------+-------------------+ | Environment | dpdk_meson_compile | dpdk_llvm_clang_compile | dpdk_msvc_compile | +=====================+====================+=========================+===================+ | Ubuntu 20.04 | PASS | SKIPPED | SKIPPED | +---------------------+--------------------+-------------------------+-------------------+ | FreeBSD 14.2 | PASS | SKIPPED | SKIPPED | +---------------------+--------------------+-------------------------+-------------------+ | Windows Server 2022 | SKIPPED | PASS | PASS | +---------------------+--------------------+-------------------------+-------------------+ Ubuntu 20.04 Kernel: 4.19 Compiler: gcc gcc (Ubuntu 9.4.0-1ubuntu1~20.04.2) 9.4.0 FreeBSD 14.2 Kernel: 14.2-RELEASE Compiler: clang 18.1.6 Windows Server 2022 Kernel: 10.0.20348.2031 Compiler: clang 15.0.7, gcc 14.1.0 (MinGW), and MSVC VS 19.39.33521 To view detailed results, visit: https://lab.dpdk.org/results/dashboard/patchsets/34199/ UNH-IOL DPDK Community Lab To manage your email subscriptions, visit: https://lab.dpdk.org/results/dashboard/preferences/subscriptions/