From mboxrd@z Thu Jan 1 00:00:00 1970 Return-Path: Received: from mails.dpdk.org (mails.dpdk.org [217.70.189.124]) by inbox.dpdk.org (Postfix) with ESMTP id D917C48893 for ; Thu, 2 Oct 2025 18:47:01 +0200 (CEST) Received: from mails.dpdk.org (localhost [127.0.0.1]) by mails.dpdk.org (Postfix) with ESMTP id BE2044060A; Thu, 2 Oct 2025 18:47:01 +0200 (CEST) Received: from mail-io1-f100.google.com (mail-io1-f100.google.com [209.85.166.100]) by mails.dpdk.org (Postfix) with ESMTP id 14CAA4060A for ; Thu, 2 Oct 2025 18:47:00 +0200 (CEST) Received: by mail-io1-f100.google.com with SMTP id ca18e2360f4ac-93607aec358so31899239f.0 for ; Thu, 02 Oct 2025 09:47:00 -0700 (PDT) DKIM-Signature: v=1; a=rsa-sha256; c=relaxed/relaxed; d=iol.unh.edu; s=unh-iol; t=1759423619; x=1760028419; darn=dpdk.org; h=references:in-reply-to:cc:to:from:subject:message-id:date:from:to :cc:subject:date:message-id:reply-to; bh=lY5RINw68prJj6oSmkmBKr4t4qp5c7O8c3dCwYmOyvg=; b=jcz0M+gqqNF7wghHPBciJeUyQwtY4sckInOBqk0zxe0fYbm3YJlVS6BttJGdqQC8KH srajBQfjeBNqiLfAuR/9YYzdjyiQaqCgHzc7x6Fa0S8mKLHTFhGFYuigqiIU7jVhtIQY L8hOPNg0MJ+yDk4AUFdpV2mNIQKUDLS95jofQ= X-Google-DKIM-Signature: v=1; a=rsa-sha256; c=relaxed/relaxed; d=1e100.net; s=20230601; t=1759423619; x=1760028419; h=references:in-reply-to:cc:to:from:subject:message-id:date :x-gm-message-state:from:to:cc:subject:date:message-id:reply-to; bh=lY5RINw68prJj6oSmkmBKr4t4qp5c7O8c3dCwYmOyvg=; b=RaExROVRud2PbD7aX2q/L5z0/9t1GjFDH7laYSNExy+DExCpyI9LpuUdYs8rUGBsxF 4Y1YbJRvKvc0vHi7lU118QG6P6aCHzGZoR6W9PxE0Y5oZG+8yUg5oCMTGm8sEo+am8mF C/0xTVdoNldsINhJFgbQGLwwJm2kLL7ri69LRqzt6F2r6gUxMRHzMFDkMXSS1kfQtFU+ fuZUuJblh6VJFkG3mSyOH2cECjFoHlPoa42h9eRIYqFqDwjCUCn8pa9V8tePIUywSmsK Iczk3WnJHzZ7XlpPbzqlaht9H4kRs76FElt/+3mrSjDKBpR6qlyKoBYuNy6/ucqwd5RQ 3TZg== X-Gm-Message-State: AOJu0Yzjo9MT7O47F2vM7xgNXwuoncm02+DwynMUpso6No569RYdFAfQ YkdTUyqXymxIwrcz3iVvRClB/dz54OTURF7JBVsqkkfs/4RQpUPmoYyUDcm+BV320q66aABVRzu IBfz/zdzFdLrxWE53NMTE0QYcJl0Bsqs2dLkpkj+fE3HmSQGA+RE/DiI7+6Gf X-Gm-Gg: ASbGncvbKboLHKmjFgDXu4F0SGZ6yuhaO+4WnspvAXHsPK3hbtkDnT252ZDQsU/4SDW nwA8wqDo2S6EUtsIL9yiq0XAEIsBrX/NPKTQvI6fJH9g9nRIGo/CrQs8qvvYDhWS9LPNeaWuNar O8U4ZdcrS+N56HhavLj8bepE+RAFYBbxmifWSKA3m6ReAInPzNSldjn2ealYeMDRUsHfx57s2RH O1Nl7DsmkF2Lvhx9Gk5nvRbfeJiP6ZyRt1oz1hZSZXBqO87FPbVnPX2Ia3KpKoi8Gidy/0cVkiw hrG1162Gx/tJJeByxZEnTWFUUWHiQ7e3kUbWGG5Ge5khMhH1lwGnQMQ= X-Google-Smtp-Source: AGHT+IGHlQBGeDLvzPmIML40phncIR7JcHdcCtSilmOoG3jYQJJmmUKiA1Jn3p+Z6zhFAL7zP9Ld6hP8lOT6 X-Received: by 2002:a5d:9b07:0:b0:938:9f22:ed34 with SMTP id ca18e2360f4ac-93b96aa20a5mr6535039f.16.1759423619254; Thu, 02 Oct 2025 09:46:59 -0700 (PDT) Received: from postal.iol.unh.edu (postal.iol.unh.edu. [2606:4100:3880:1234::84]) by smtp-relay.gmail.com with ESMTPS id 8926c6da1cb9f-57b5edeb9desm194949173.49.2025.10.02.09.46.59 (version=TLS1_2 cipher=ECDHE-ECDSA-AES128-GCM-SHA256 bits=128/128); Thu, 02 Oct 2025 09:46:59 -0700 (PDT) X-Relaying-Domain: iol.unh.edu Date: Thu, 02 Oct 2025 09:46:59 -0700 (PDT) Message-ID: <68deac83.050a0220.2c601d.bb18SMTPIN_ADDED_MISSING@mx.google.com> Received: from [172.21.0.2] (unknown [172.18.0.240]) by postal.iol.unh.edu (Postfix) with ESMTP id D26FA604D420; Thu, 2 Oct 2025 12:46:58 -0400 (EDT) Subject: |SUCCESS| pw157207-157208 [PATCH] [v6,2/2] crypto/ipsec-mb: use cons From: dpdklab@iol.unh.edu To: Test Report Cc: dpdk-test-reports@iol.unh.edu In-Reply-To: <20251002153229.98158-2-kai.ji@intel.com> References: <20251002153229.98158-2-kai.ji@intel.com> Content-Type: text/plain X-BeenThere: test-report@dpdk.org X-Mailman-Version: 2.1.29 Precedence: list List-Id: automatic DPDK test reports List-Unsubscribe: , List-Archive: List-Post: List-Help: List-Subscribe: , Errors-To: test-report-bounces@dpdk.org Test-Label: iol-compile-amd64-testing Test-Status: SUCCESS http://dpdk.org/patch/157208 _Testing PASS_ Submitter: Kai Ji Date: Thursday, October 02 2025 15:32:29 DPDK git baseline: Repo:dpdk Branch: master CommitID:76393b98bf67f94dc6aa23cf5016c32571899261 157207-157208 --> testing pass Upstream job id: Windows-Compile-DPDK-Native#31378 Test environment and result as below: +---------------------+--------------------+-------------------------+-------------------+----------------------+ | Environment | dpdk_meson_compile | dpdk_llvm_clang_compile | dpdk_msvc_compile | dpdk_mingw64_compile | +=====================+====================+=========================+===================+======================+ | Ubuntu 20.04 | PASS | SKIPPED | SKIPPED | SKIPPED | +---------------------+--------------------+-------------------------+-------------------+----------------------+ | FreeBSD 14.2 | PASS | SKIPPED | SKIPPED | SKIPPED | +---------------------+--------------------+-------------------------+-------------------+----------------------+ | Windows Server 2022 | SKIPPED | PASS | PASS | PASS | +---------------------+--------------------+-------------------------+-------------------+----------------------+ Ubuntu 20.04 Kernel: 4.19 Compiler: gcc gcc (Ubuntu 9.4.0-1ubuntu1~20.04.2) 9.4.0 FreeBSD 14.2 Kernel: 14.2-RELEASE Compiler: clang 18.1.6 Windows Server 2022 Kernel: 10.0.20348.2031 Compiler: clang 15.0.7, gcc 14.1.0 (MinGW), and MSVC VS 19.39.33521 To view detailed results, visit: https://lab.dpdk.org/results/dashboard/patchsets/34199/ UNH-IOL DPDK Community Lab To manage your email subscriptions, visit: https://lab.dpdk.org/results/dashboard/preferences/subscriptions/