From mboxrd@z Thu Jan 1 00:00:00 1970 Return-Path: Received: from mails.dpdk.org (mails.dpdk.org [217.70.189.124]) by inbox.dpdk.org (Postfix) with ESMTP id 2F47848893 for ; Thu, 2 Oct 2025 18:59:14 +0200 (CEST) Received: from mails.dpdk.org (localhost [127.0.0.1]) by mails.dpdk.org (Postfix) with ESMTP id 25A834060B; Thu, 2 Oct 2025 18:59:14 +0200 (CEST) Received: from mail-qv1-f99.google.com (mail-qv1-f99.google.com [209.85.219.99]) by mails.dpdk.org (Postfix) with ESMTP id A56D64060B for ; Thu, 2 Oct 2025 18:59:13 +0200 (CEST) Received: by mail-qv1-f99.google.com with SMTP id 6a1803df08f44-78f75b0a058so13353016d6.0 for ; Thu, 02 Oct 2025 09:59:13 -0700 (PDT) DKIM-Signature: v=1; a=rsa-sha256; c=relaxed/relaxed; d=iol.unh.edu; s=unh-iol; t=1759424353; x=1760029153; darn=dpdk.org; h=references:in-reply-to:cc:to:from:subject:message-id:date:from:to :cc:subject:date:message-id:reply-to; bh=tMx4Imjj01+WX2nezzrUC/Ro2CCsmomJl/aHb/1GfXs=; b=f1u4u792ULv6PJIO/6DxcX9Jlu8EzgmMpSRlagUPOta9OluEN+FFmcDVvhDlz6Xz2Q U9rK5nLTKG1O2c6Eakwgjf8JS+y2hkvEssj+CTTHaOxYa6f6LnA0iQfG6QtR7ivm7ors rBHsKgeImHvpQXvW2HhEJDJvysBg5FUro9TpA= X-Google-DKIM-Signature: v=1; a=rsa-sha256; c=relaxed/relaxed; d=1e100.net; s=20230601; t=1759424353; x=1760029153; h=references:in-reply-to:cc:to:from:subject:message-id:date :x-gm-message-state:from:to:cc:subject:date:message-id:reply-to; bh=tMx4Imjj01+WX2nezzrUC/Ro2CCsmomJl/aHb/1GfXs=; b=Tbl1+uB50JuZfRRFKdRNn3jgSPHr7wDGz39wVD55k4aVIpFcM0lxJyZtWRI0ix/kuQ RamECjPU2+RfsQJPoNHdE2a44IhZN7rpTx8/Q9pV1HpMZL0/Cj9EFU1pziIYAGUE8bEU 1iIyTtaUHyNWG4aRY7GfSz7aO/n2kGaoLmb6OAPP+noruCMQPiK370KFJBw8/QAefCI6 /fFoZkhSMmXqmOOwe6Chy885fMteOSxWcnW9NYh/61Dp/1SkZTQ3vkRYC+zXm2iKZZPs Zsj2faO1+yHp1R/WNMqDUMA78iUGH6SjQJYtf1NKaR3XEzGYn+DYTzktfSTpTY4MgzBv bQLQ== X-Gm-Message-State: AOJu0YyiQxRLuxbkRTEasUvYl2QTCPlMcP12dxuzOE51/5Y1KH2Kn74E QarMoafMmZUZE4fbryOvm630fSdq7v6OK7UBwGvf4/5RtFF9ICuztYJZDTUQA944utqtoxLa0IN yBfRkMK/G6KP1D4uudXlCMiC3ZnT7BnsZm0/2ctV1dKo960dHeAonQ8Vt+gjq X-Gm-Gg: ASbGncunR9C6n0CRHZhvIqsSca/6FVSp0zIODf9FG3SbI4aLlYwpUArduY7zyqVD+yD 3zwKsOkzwEcuOYdOp77FgB3uhbfqyhBa0SFDaAXINWYjz10PAHL6iYGv3pMmlU3md65uLXxJpOw OaAowpxHhzEts5wSeeeg3GIsZkue1yGYhK92zpQ1/1RNrQ2yVZICm5r3w7II4jHNVOtxquSoIyj IOh2FXwUvSIowTMjSFGBwQnDcKXV2IJzTVT+Z/f8J5qUfd5idvU4Uez158Gh4jyWI+nxgW3owL8 2T1pXRMnHqd5RRgLhZHkqXFWVvNxctvYWQH01ZTEa7rwKITDQCPlWV0= X-Google-Smtp-Source: AGHT+IGSuT3lroOojzbRC7jTKNNV9p/NXIsGq+R3z5w03MLJsRQECGdvIerSeEpPp3CXAtdEiLRe6T2o7ba9 X-Received: by 2002:a05:6214:ac1:b0:815:2c80:553c with SMTP id 6a1803df08f44-879dc79b99dmr261866d6.26.1759424352861; Thu, 02 Oct 2025 09:59:12 -0700 (PDT) Received: from postal.iol.unh.edu (postal.iol.unh.edu. [2606:4100:3880:1234::84]) by smtp-relay.gmail.com with ESMTPS id 6a1803df08f44-878bda734c1sm1990956d6.24.2025.10.02.09.59.12 (version=TLS1_2 cipher=ECDHE-ECDSA-AES128-GCM-SHA256 bits=128/128); Thu, 02 Oct 2025 09:59:12 -0700 (PDT) X-Relaying-Domain: iol.unh.edu Date: Thu, 02 Oct 2025 09:59:12 -0700 (PDT) Message-ID: <68deaf60.050a0220.76fa0.cd98SMTPIN_ADDED_MISSING@mx.google.com> Received: from [172.21.0.3] (unknown [172.18.0.240]) by postal.iol.unh.edu (Postfix) with ESMTP id 9A75B604D420; Thu, 2 Oct 2025 12:59:12 -0400 (EDT) Subject: |SUCCESS| pw157207-157208 [PATCH] [v6,2/2] crypto/ipsec-mb: use cons From: dpdklab@iol.unh.edu To: Test Report Cc: dpdk-test-reports@iol.unh.edu In-Reply-To: <20251002153229.98158-2-kai.ji@intel.com> References: <20251002153229.98158-2-kai.ji@intel.com> Content-Type: text/plain X-BeenThere: test-report@dpdk.org X-Mailman-Version: 2.1.29 Precedence: list List-Id: automatic DPDK test reports List-Unsubscribe: , List-Archive: List-Post: List-Help: List-Subscribe: , Errors-To: test-report-bounces@dpdk.org Test-Label: iol-unit-amd64-testing Test-Status: SUCCESS http://dpdk.org/patch/157208 _Testing PASS_ Submitter: Kai Ji Date: Thursday, October 02 2025 15:32:29 DPDK git baseline: Repo:dpdk Branch: master CommitID:76393b98bf67f94dc6aa23cf5016c32571899261 157207-157208 --> testing pass Upstream job id: Generic-Unit-Test-DPDK#377918 Test environment and result as below: +-------------------------------+----------------+ | Environment | dpdk_unit_test | +===============================+================+ | Debian GNU/Linux 12 | PASS | +-------------------------------+----------------+ | CentOS Stream 9 | PASS | +-------------------------------+----------------+ | Windows Server 2022 | PASS | +-------------------------------+----------------+ | CentOS Stream 10 | PASS | +-------------------------------+----------------+ | Fedora Linux 40 | PASS | +-------------------------------+----------------+ | Fedora Linux 41 | PASS | +-------------------------------+----------------+ | Fedora Linux 42 | PASS | +-------------------------------+----------------+ | Red Hat Enterprise Linux 8.10 | PASS | +-------------------------------+----------------+ | Ubuntu 20.04 | PASS | +-------------------------------+----------------+ | Red Hat Enterprise Linux 9.5 | PASS | +-------------------------------+----------------+ | Ubuntu 22.04 | PASS | +-------------------------------+----------------+ | Ubuntu 24.04 | PASS | +-------------------------------+----------------+ Debian GNU/Linux 12 Kernel: 5.15 Compiler: gcc gcc (Debian 12.2.0-14+deb12u1) 12.2.0 CentOS Stream 9 Kernel: 5.15 Compiler: gcc gcc (GCC) 11.5.0 20240719 (Red Hat 11.5.0-11) Windows Server 2022 Kernel: 10.0.20348.2031 Compiler: clang 15.0.7, gcc 14.1.0 (MinGW), and MSVC VS 19.39.33521 CentOS Stream 10 Kernel: 5.15 Compiler: gcc gcc (GCC) 14.2.1 20250110 (Red Hat 14.2.1-8) Fedora Linux 40 Kernel: 5.15 Compiler: gcc gcc (GCC) 14.2.1 20240912 (Red Hat 14.2.1-3) Fedora Linux 41 Kernel: 5.15 Compiler: clang gcc (GCC) 14.3.1 20250523 (Red Hat 14.3.1-1) Fedora Linux 42 Kernel: 5.15 Compiler: gcc gcc (GCC) 15.2.1 20250808 (Red Hat 15.2.1-1) Red Hat Enterprise Linux 8.10 Kernel: 5.15 Compiler: gcc gcc (GCC) 8.5.0 20210514 (Red Hat 8.5.0-22) Ubuntu 20.04 Kernel: 5.15 Compiler: gcc gcc (Ubuntu 9.4.0-1ubuntu1~20.04.2) 9.4.0 Red Hat Enterprise Linux 9.5 Kernel: 5.15 Compiler: gcc gcc (GCC) 11.5.0 20240719 (Red Hat 11.5.0-2) Ubuntu 22.04 Kernel: 5.15 Compiler: gcc gcc (Ubuntu 11.4.0-1ubuntu1~22.04) 11.4.0 Ubuntu 24.04 Kernel: 5.15 Compiler: gcc gcc (Ubuntu 13.3.0-6ubuntu2~24.04) 13.3.0 To view detailed results, visit: https://lab.dpdk.org/results/dashboard/patchsets/34199/ UNH-IOL DPDK Community Lab To manage your email subscriptions, visit: https://lab.dpdk.org/results/dashboard/preferences/subscriptions/