From mboxrd@z Thu Jan 1 00:00:00 1970 Return-Path: Received: from mails.dpdk.org (mails.dpdk.org [217.70.189.124]) by inbox.dpdk.org (Postfix) with ESMTP id 110F548893 for ; Thu, 2 Oct 2025 20:09:25 +0200 (CEST) Received: from mails.dpdk.org (localhost [127.0.0.1]) by mails.dpdk.org (Postfix) with ESMTP id E9317402BB; Thu, 2 Oct 2025 20:09:24 +0200 (CEST) Received: from mail-io1-f99.google.com (mail-io1-f99.google.com [209.85.166.99]) by mails.dpdk.org (Postfix) with ESMTP id C114C402BB for ; Thu, 2 Oct 2025 20:09:23 +0200 (CEST) Received: by mail-io1-f99.google.com with SMTP id ca18e2360f4ac-887764c2868so125513339f.1 for ; Thu, 02 Oct 2025 11:09:23 -0700 (PDT) DKIM-Signature: v=1; a=rsa-sha256; c=relaxed/relaxed; d=iol.unh.edu; s=unh-iol; t=1759428563; x=1760033363; darn=dpdk.org; h=references:in-reply-to:cc:to:from:subject:message-id:date:from:to :cc:subject:date:message-id:reply-to; bh=h3FAwm28BIj0I+1FE9uZDLokfDyvzAOjvyn5T3Urv/g=; b=NC33B2R0GhoyFjKaXSO3l+/AApiPYJlf1iCp3x9ca8YrvBSzcoEbts0XnYsM7fu2V0 ygNgy/z4Q9ztw6a6HvH7bZ9oqt5N9KCkehcQ3kkFsRD9jNFRcZwUFCF86TRrpymjZkmn BWgMHugDArMdbLrv3SSBh9GTdR04ESoSPOmLI= X-Google-DKIM-Signature: v=1; a=rsa-sha256; c=relaxed/relaxed; d=1e100.net; s=20230601; t=1759428563; x=1760033363; h=references:in-reply-to:cc:to:from:subject:message-id:date :x-gm-message-state:from:to:cc:subject:date:message-id:reply-to; bh=h3FAwm28BIj0I+1FE9uZDLokfDyvzAOjvyn5T3Urv/g=; b=S5iqIBqJrsNQGuFKfYiIw2e2ymA6kuiNcIcSyFEwHMG9umB324AnPK73H2uEhw2/Kr nhXWTPEL8jmidmL9LPWx/78cYj4jZyJmqulvb7Bt8B44SUMK4ngElGFUkQTA1XvL/XKK JdrDNiPYCAdIZidG/MUGpw0InmW+XQdtSeJKKllMaJa/QhfF3kETiuC720Kteml9L+Rv 9/qrwLlmEUeNghU7HOXCiGsAo8jBTLdCBCMCl2RvMbUDQA465Iq+IlVuxG17ay+rtp4X s0K9FGLcxOhCwepQuTfMBVOlpVQeZq1iPouiryCGqM5O8oJNq+g9SmUpuYRiSLRnDsPd NT2A== X-Gm-Message-State: AOJu0YyfgWb8S19vb73Msu5MU9c4OnCGSI9UXZTN1jLpdyIJvp9kqp/f QGdy3CkiGrbyuHEqJ0/gWR0HApsWrJKrKubF2KDg2S1Zn/a3fvvNQT0XudbDFqw1kM/0YJ6MRYD 6nXBf+SM4gE50qzPRzZ2Xj1eQwFuDj/fu1ih4GXuTMl8YtqfeVA9GSek9xquR X-Gm-Gg: ASbGncv4od0Nv7SmoZ9ZA7xSQ0vwNa4Ys3dymFR4CwrS/Z4Vhixn5zYkg/bB29O1QHc mocmf0W8ONl02ZzOxUWVnk3KmLooNq4qDzBppcp5qYiBZu48AFEUePE7583d2qw1k0GkEtArdUa CaI7J2ZS8mFHyt9bFpu7pg5WD6bTs7kACVpkQj++e7qOmnJ9G4eWhcjBgMO3z8/dEvMIWptE9Nl 3J+l855iDZeEWsOa928lUA255wSMlxSa6W5WHQ0ecVq/fCtQW76fpXOgvmNVR3CbCXAegR2Hx2/ 9OyemuGRGEJpVfwvvjxAI4+oFxLXWXR597Hq3W9a8TKg9mK08IfaIOQ= X-Google-Smtp-Source: AGHT+IFnEf/bvvMI53xM7cZCdDLvH/lFUZg7hEvvAUbXcCO004x/6x/wh0YxDoeOaCwn07q0tS26AiSgVdKS X-Received: by 2002:a05:6602:a008:b0:893:d33f:e5ad with SMTP id ca18e2360f4ac-93b96aeb313mr35709339f.18.1759428562993; Thu, 02 Oct 2025 11:09:22 -0700 (PDT) Received: from postal.iol.unh.edu (postal.iol.unh.edu. [2606:4100:3880:1234::84]) by smtp-relay.gmail.com with ESMTPS id 8926c6da1cb9f-57b5eaadf21sm193197173.3.2025.10.02.11.09.22 (version=TLS1_2 cipher=ECDHE-ECDSA-AES128-GCM-SHA256 bits=128/128); Thu, 02 Oct 2025 11:09:22 -0700 (PDT) X-Relaying-Domain: iol.unh.edu Date: Thu, 02 Oct 2025 11:09:22 -0700 (PDT) Message-ID: <68debfd2.050a0220.19cacb.c2baSMTPIN_ADDED_MISSING@mx.google.com> Received: from [172.21.0.3] (unknown [172.18.0.240]) by postal.iol.unh.edu (Postfix) with ESMTP id 8AE11604D420; Thu, 2 Oct 2025 14:09:22 -0400 (EDT) Subject: |SUCCESS| pw157209 [PATCH] test/debug: fix crash with mlx5 devices From: dpdklab@iol.unh.edu To: Test Report Cc: dpdk-test-reports@iol.unh.edu In-Reply-To: <20251002165546.523435-1-david.marchand@redhat.com> References: <20251002165546.523435-1-david.marchand@redhat.com> Content-Type: text/plain X-BeenThere: test-report@dpdk.org X-Mailman-Version: 2.1.29 Precedence: list List-Id: automatic DPDK test reports List-Unsubscribe: , List-Archive: List-Post: List-Help: List-Subscribe: , Errors-To: test-report-bounces@dpdk.org Test-Label: iol-compile-amd64-testing Test-Status: SUCCESS http://dpdk.org/patch/157209 _Testing PASS_ Submitter: David Marchand Date: Thursday, October 02 2025 16:55:45 DPDK git baseline: Repo:dpdk Branch: master CommitID:76393b98bf67f94dc6aa23cf5016c32571899261 157209 --> testing pass Upstream job id: Windows-Compile-DPDK-Native#31380 Test environment and result as below: +---------------------+--------------------+-------------------+-------------------------+----------------------+ | Environment | dpdk_meson_compile | dpdk_msvc_compile | dpdk_llvm_clang_compile | dpdk_mingw64_compile | +=====================+====================+===================+=========================+======================+ | Ubuntu 20.04 | PASS | SKIPPED | SKIPPED | SKIPPED | +---------------------+--------------------+-------------------+-------------------------+----------------------+ | FreeBSD 14.2 | PASS | SKIPPED | SKIPPED | SKIPPED | +---------------------+--------------------+-------------------+-------------------------+----------------------+ | Windows Server 2022 | SKIPPED | PASS | PASS | PASS | +---------------------+--------------------+-------------------+-------------------------+----------------------+ Ubuntu 20.04 Kernel: 4.19 Compiler: gcc gcc (Ubuntu 9.4.0-1ubuntu1~20.04.2) 9.4.0 FreeBSD 14.2 Kernel: 14.2-RELEASE Compiler: clang 18.1.6 Windows Server 2022 Kernel: 10.0.20348.2031 Compiler: clang 15.0.7, gcc 14.1.0 (MinGW), and MSVC VS 19.39.33521 To view detailed results, visit: https://lab.dpdk.org/results/dashboard/patchsets/34200/ UNH-IOL DPDK Community Lab To manage your email subscriptions, visit: https://lab.dpdk.org/results/dashboard/preferences/subscriptions/