From mboxrd@z Thu Jan 1 00:00:00 1970 Return-Path: Received: from mails.dpdk.org (mails.dpdk.org [217.70.189.124]) by inbox.dpdk.org (Postfix) with ESMTP id 1FAC048893 for ; Thu, 2 Oct 2025 20:53:14 +0200 (CEST) Received: from mails.dpdk.org (localhost [127.0.0.1]) by mails.dpdk.org (Postfix) with ESMTP id EDCC9402BB; Thu, 2 Oct 2025 20:53:13 +0200 (CEST) Received: from mail-qk1-f227.google.com (mail-qk1-f227.google.com [209.85.222.227]) by mails.dpdk.org (Postfix) with ESMTP id 35BE5402BB for ; Thu, 2 Oct 2025 20:53:12 +0200 (CEST) Received: by mail-qk1-f227.google.com with SMTP id af79cd13be357-85b94fe19e2so140162585a.3 for ; Thu, 02 Oct 2025 11:53:12 -0700 (PDT) DKIM-Signature: v=1; a=rsa-sha256; c=relaxed/relaxed; d=iol.unh.edu; s=unh-iol; t=1759431191; x=1760035991; darn=dpdk.org; h=references:in-reply-to:cc:to:from:subject:message-id:date:from:to :cc:subject:date:message-id:reply-to; bh=4CJZQ/xmB1ZWCqqBUJVwaPWZd3jh0j6x3b/HLq7oLEY=; b=jZEEk1Z5Pk+NCdXRmre4Z2Gek2BRoqpCrL/5FqSumVAw2rfxuVTK+VfN0rr7cZh1/J mbUyJgHfkfzhOwLK3OOc0fwYoSFwouhobRWXzcOwpY4bpmx72LqXUh2CxWs2VlyWD/ts HNeBvs1J/5+COy5Cgd6RvLWXkZMQ68hTjIoas= X-Google-DKIM-Signature: v=1; a=rsa-sha256; c=relaxed/relaxed; d=1e100.net; s=20230601; t=1759431191; x=1760035991; h=references:in-reply-to:cc:to:from:subject:message-id:date :x-gm-message-state:from:to:cc:subject:date:message-id:reply-to; bh=4CJZQ/xmB1ZWCqqBUJVwaPWZd3jh0j6x3b/HLq7oLEY=; b=vv0Q8++wVZCzY7f8TpuDKGuR7h1JRTbpCu0IG2KZTczFvT9tuONiP2qwA7abn/Ldjd /q1S3AzrQpv7Y64r8nPf1gCieCeDVXR1466nLVrW9ubowI0Wz8Z0Y81vxiJ94UsHM+fL SnfhLKfpSP4dAc0tOy3JeR/TjimDVYojCrRr3hlZejDgIcIzzu+5LiC0lJxUsTeSHVGH T/rYaIrZSYPOpDWkFDZp/mph06zoKR9gA8ZPbnTaxxE2yg3iGIwEFEPgzUELzw2XyoqI 8f3Bgj8dj81/xNfJO7GB2tkm+0Pgq1x1OcJ1zsEkWtqlvmQ0YzXcoS5o+Y8y//wkFLxA lpUw== X-Gm-Message-State: AOJu0YyWIdT40S0RNI303WauOP5zkcgsy88LVbkzDzJk2JLOq56ewflV R94ljzv6wcGd3Iz1Jkt5sdGO9108R9QC/Qj64etQy2FGW323ko9GoWOGZoFJX+PurQKNr40X6os eiyyLZC80NCjn9fXBBlxyvNCcD23TRrQs+91CZpBi6lnX39uyBPpjTlWS8YBT X-Gm-Gg: ASbGncsZrTyupOlQ+lMflOsqkH+oA4RVykP9U9yAWorizNj82wMW+lq4iJ/r0po4mG8 kpbFHk99ZuYVQWHc319oaj54poZa5eierCerTsCgTp61xT65eLzxpE3JeY5jNvoXDVRcrEsC3Yh Iejr8fjHfl2wnQdv5RoRj5U8EPupBBtVo4C9+rDwGDdlBk8CtKapo7FwvCE5YVZ9EiBFO2/E5J/ LTW/h4Uw2BwIvNNxfvwlUjdaDHRdIcxXOi2zaoHXkh6VeBs2K+9dk8bkJVIQFx9k/4zmTRy3vJo Vzv+RYwLiQPqp+pBamHL/II0xKA57fj7dp9Q2k9dL6uyS95CemacSHk= X-Google-Smtp-Source: AGHT+IE6A2LJOUgWJ5FOAkY7DSjAsLhBqWrGc6X5YMNbbZz3GGUQ4ogZOIUdSwqB18pT9RxnV/DdN40DbXcL X-Received: by 2002:a05:6214:21c8:b0:78b:139f:8671 with SMTP id 6a1803df08f44-879dc869c40mr6109116d6.60.1759431191445; Thu, 02 Oct 2025 11:53:11 -0700 (PDT) Received: from postal.iol.unh.edu (postal.iol.unh.edu. [2606:4100:3880:1234::84]) by smtp-relay.gmail.com with ESMTPS id 6a1803df08f44-878bac6bef2sm2088246d6.1.2025.10.02.11.53.11 (version=TLS1_2 cipher=ECDHE-ECDSA-AES128-GCM-SHA256 bits=128/128); Thu, 02 Oct 2025 11:53:11 -0700 (PDT) X-Relaying-Domain: iol.unh.edu Date: Thu, 02 Oct 2025 11:53:11 -0700 (PDT) Message-ID: <68deca17.d40a0220.ba2c4.caaaSMTPIN_ADDED_MISSING@mx.google.com> Received: from [172.21.0.3] (unknown [172.18.0.240]) by postal.iol.unh.edu (Postfix) with ESMTP id 2B3B0604D420; Thu, 2 Oct 2025 14:53:11 -0400 (EDT) Subject: |SUCCESS| pw157210 [PATCH] [v2,1/1] ring: safe partial ordering for From: dpdklab@iol.unh.edu To: Test Report Cc: dpdk-test-reports@iol.unh.edu In-Reply-To: <20251002174137.3612042-2-wathsala.vithanage@arm.com> References: <20251002174137.3612042-2-wathsala.vithanage@arm.com> Content-Type: text/plain X-BeenThere: test-report@dpdk.org X-Mailman-Version: 2.1.29 Precedence: list List-Id: automatic DPDK test reports List-Unsubscribe: , List-Archive: List-Post: List-Help: List-Subscribe: , Errors-To: test-report-bounces@dpdk.org Test-Label: iol-compile-amd64-testing Test-Status: SUCCESS http://dpdk.org/patch/157210 _Testing PASS_ Submitter: Wathsala Vithanage Date: Thursday, October 02 2025 17:41:37 DPDK git baseline: Repo:dpdk Branch: master CommitID:76393b98bf67f94dc6aa23cf5016c32571899261 157210 --> testing pass Upstream job id: Windows-Compile-DPDK-Native#31382 Test environment and result as below: +---------------------+--------------------+-------------------------+-------------------+----------------------+ | Environment | dpdk_meson_compile | dpdk_llvm_clang_compile | dpdk_msvc_compile | dpdk_mingw64_compile | +=====================+====================+=========================+===================+======================+ | FreeBSD 14.2 | PASS | SKIPPED | SKIPPED | SKIPPED | +---------------------+--------------------+-------------------------+-------------------+----------------------+ | Ubuntu 20.04 | PASS | SKIPPED | SKIPPED | SKIPPED | +---------------------+--------------------+-------------------------+-------------------+----------------------+ | Windows Server 2022 | SKIPPED | PASS | PASS | PASS | +---------------------+--------------------+-------------------------+-------------------+----------------------+ FreeBSD 14.2 Kernel: 14.2-RELEASE Compiler: clang 18.1.6 Ubuntu 20.04 Kernel: 4.19 Compiler: gcc gcc (Ubuntu 9.4.0-1ubuntu1~20.04.2) 9.4.0 Windows Server 2022 Kernel: 10.0.20348.2031 Compiler: clang 15.0.7, gcc 14.1.0 (MinGW), and MSVC VS 19.39.33521 To view detailed results, visit: https://lab.dpdk.org/results/dashboard/patchsets/34202/ UNH-IOL DPDK Community Lab To manage your email subscriptions, visit: https://lab.dpdk.org/results/dashboard/preferences/subscriptions/