From mboxrd@z Thu Jan 1 00:00:00 1970 Return-Path: Received: from mails.dpdk.org (mails.dpdk.org [217.70.189.124]) by inbox.dpdk.org (Postfix) with ESMTP id 228F748893 for ; Thu, 2 Oct 2025 21:15:04 +0200 (CEST) Received: from mails.dpdk.org (localhost [127.0.0.1]) by mails.dpdk.org (Postfix) with ESMTP id 00EBA402BB; Thu, 2 Oct 2025 21:15:04 +0200 (CEST) Received: from mail-io1-f100.google.com (mail-io1-f100.google.com [209.85.166.100]) by mails.dpdk.org (Postfix) with ESMTP id 470A0402BB for ; Thu, 2 Oct 2025 21:15:02 +0200 (CEST) Received: by mail-io1-f100.google.com with SMTP id ca18e2360f4ac-93b9022d037so31510839f.2 for ; Thu, 02 Oct 2025 12:15:02 -0700 (PDT) DKIM-Signature: v=1; a=rsa-sha256; c=relaxed/relaxed; d=iol.unh.edu; s=unh-iol; t=1759432501; x=1760037301; darn=dpdk.org; h=references:in-reply-to:cc:to:from:subject:message-id:date:from:to :cc:subject:date:message-id:reply-to; bh=k7NGpGnnKMUGv3D71OBaQi0b5OObswlO7/2k6m41Neo=; b=Dd7UrFFzGeMwSY0mIpCeFgrMhgp4nNOIxvNMEb8aV/P4bpjuZOoVmt64bTFcjscPij gVDixWPXcR/jjf1FEWkR7fchjq4ZWA1FswvPBxi8UDuVJTk48Ojs70uKi5TZI7ltSCkC IqtCFyvPJpzrXyXO/ql9+SKsKZWGK/QetuDbA= X-Google-DKIM-Signature: v=1; a=rsa-sha256; c=relaxed/relaxed; d=1e100.net; s=20230601; t=1759432501; x=1760037301; h=references:in-reply-to:cc:to:from:subject:message-id:date :x-gm-message-state:from:to:cc:subject:date:message-id:reply-to; bh=k7NGpGnnKMUGv3D71OBaQi0b5OObswlO7/2k6m41Neo=; b=SxvecjlWkBsCsulD29ciN9L2dJCMkt2QYUUpxv6mBbqRb5L6K3yzAvBpNaZNmQN7nS TltD8NkqAssJFcg23YHACVzzgF3GK+GI1pegwKYgRhOkoOsBpJIcIaI82tYSr1LmMLfM Eq9zzedsJvk5+76Noo8Dpr8e5i1N7qRJn/0rpU8KEoNR52svFAQmNwONn7DHDtLNC39n eaHFatUbDprD+CneMISWkEXNoCcFqlUPHyxJ8jV/XPqzlgwSbQSRO9yx9sfbAMgImFsi +Cx2yr5Max42oKNeyiNJTdvuRBjMX1FGUUs4YIquOzE9QfqpTtRHfwrRSjxW5K5i3DIC 46FA== X-Gm-Message-State: AOJu0YxW1SexxR/v7nVyFnYagS2owWLPRKCH2UfxTqwWrsJPVeJGsJub bVE6Q9T6qnnhYO/pknX6H/EmvFe68MLvoL+dcEzb++cfN+NlFnqVOERu3yJvEBFWC7BAPKcqtXR fddD9sJP0GzO3UeCF3d+Cs1zcaUMSETpKw7ioCBmBmnccejhG74wcdHleVbNe X-Gm-Gg: ASbGnct7knLvDKDe/ECNyX0meDqvQ7GLg+/St3ytz3Fo/FiD+2U6w6+VKnnM82/6sXC RLA0VzEOU3tXWCY0HSronJilnP23HBpO05cv7JfPxdK5H+TjaegCQsKO0r2XmzWp2aDebG4yPHK DxJNANno8wUH8tA3lKNAtdqsK1GO+bDr1BiP4PagvMRGWSOQGLkYHnRW8Z1Hz0VuUIVag1x2O/4 5jFyeWVpJhK82ySkIH3yh4iFt4HZgE8zeDuSkUrofw69TLQLslnVWCBPyHpz11JqwB+UXUks1Df L7ttn9oX78iiyTZ1lAg2c/RmfE49NeGHNOpxNj/ixs2Ae/wlKf2xe4c= X-Google-Smtp-Source: AGHT+IHiRA4oc6qDffoBoAaxWpyz1xBH2zniJxvmdmQSdde37Eh7zsYyEW6slhep6DDCeb4qiDCJACHSMOSb X-Received: by 2002:a05:6602:3fc9:b0:91e:c3a4:537c with SMTP id ca18e2360f4ac-93b96a952f9mr55130739f.14.1759432501460; Thu, 02 Oct 2025 12:15:01 -0700 (PDT) Received: from postal.iol.unh.edu (postal.iol.unh.edu. [2606:4100:3880:1234::84]) by smtp-relay.gmail.com with ESMTPS id ca18e2360f4ac-93a8499fe51sm12787339f.9.2025.10.02.12.15.01 (version=TLS1_2 cipher=ECDHE-ECDSA-AES128-GCM-SHA256 bits=128/128); Thu, 02 Oct 2025 12:15:01 -0700 (PDT) X-Relaying-Domain: iol.unh.edu Date: Thu, 02 Oct 2025 12:15:01 -0700 (PDT) Message-ID: <68decf35.050a0220.12b82c.7b3cSMTPIN_ADDED_MISSING@mx.google.com> Received: from [172.21.0.2] (unknown [172.18.0.240]) by postal.iol.unh.edu (Postfix) with ESMTP id 15831604D420; Thu, 2 Oct 2025 15:15:01 -0400 (EDT) Subject: |SUCCESS| pw157210 [PATCH] [v2,1/1] ring: safe partial ordering for From: dpdklab@iol.unh.edu To: Test Report Cc: dpdk-test-reports@iol.unh.edu In-Reply-To: <20251002174137.3612042-2-wathsala.vithanage@arm.com> References: <20251002174137.3612042-2-wathsala.vithanage@arm.com> Content-Type: text/plain X-BeenThere: test-report@dpdk.org X-Mailman-Version: 2.1.29 Precedence: list List-Id: automatic DPDK test reports List-Unsubscribe: , List-Archive: List-Post: List-Help: List-Subscribe: , Errors-To: test-report-bounces@dpdk.org Test-Label: iol-unit-amd64-testing Test-Status: SUCCESS http://dpdk.org/patch/157210 _Testing PASS_ Submitter: Wathsala Vithanage Date: Thursday, October 02 2025 17:41:37 DPDK git baseline: Repo:dpdk Branch: master CommitID:76393b98bf67f94dc6aa23cf5016c32571899261 157210 --> testing pass Upstream job id: Generic-VM-Unit-Test-DPDK#31551 Test environment and result as below: +-------------------------------+----------------+ | Environment | dpdk_unit_test | +===============================+================+ | CentOS Stream 9 | PASS | +-------------------------------+----------------+ | CentOS Stream 10 | PASS | +-------------------------------+----------------+ | Fedora Linux 40 | PASS | +-------------------------------+----------------+ | Debian GNU/Linux 12 | PASS | +-------------------------------+----------------+ | Fedora Linux 41 | PASS | +-------------------------------+----------------+ | Red Hat Enterprise Linux 8.10 | PASS | +-------------------------------+----------------+ | Red Hat Enterprise Linux 9.5 | PASS | +-------------------------------+----------------+ | Ubuntu 20.04 | PASS | +-------------------------------+----------------+ | Fedora Linux 42 | PASS | +-------------------------------+----------------+ | Ubuntu 22.04 | PASS | +-------------------------------+----------------+ | Ubuntu 24.04 | PASS | +-------------------------------+----------------+ | Windows Server 2022 | PASS | +-------------------------------+----------------+ CentOS Stream 9 Kernel: 5.15 Compiler: gcc gcc (GCC) 11.5.0 20240719 (Red Hat 11.5.0-11) CentOS Stream 10 Kernel: 5.15 Compiler: gcc gcc (GCC) 14.2.1 20250110 (Red Hat 14.2.1-8) Fedora Linux 40 Kernel: 5.15 Compiler: clang gcc (GCC) 14.2.1 20240912 (Red Hat 14.2.1-3) Debian GNU/Linux 12 Kernel: 5.15 Compiler: gcc gcc (Debian 12.2.0-14+deb12u1) 12.2.0 Fedora Linux 41 Kernel: 5.15 Compiler: clang gcc (GCC) 14.3.1 20250523 (Red Hat 14.3.1-1) Red Hat Enterprise Linux 8.10 Kernel: 5.15 Compiler: gcc gcc (GCC) 8.5.0 20210514 (Red Hat 8.5.0-22) Red Hat Enterprise Linux 9.5 Kernel: 5.15 Compiler: gcc gcc (GCC) 11.5.0 20240719 (Red Hat 11.5.0-2) Ubuntu 20.04 Kernel: 5.15 Compiler: gcc gcc (Ubuntu 9.4.0-1ubuntu1~20.04.2) 9.4.0 Fedora Linux 42 Kernel: 5.15 Compiler: clang gcc (GCC) 15.2.1 20250808 (Red Hat 15.2.1-1) Ubuntu 22.04 Kernel: 5.15 Compiler: gcc gcc (Ubuntu 11.4.0-1ubuntu1~22.04) 11.4.0 Ubuntu 24.04 Kernel: 5.15 Compiler: gcc gcc (Ubuntu 13.3.0-6ubuntu2~24.04) 13.3.0 Windows Server 2022 Kernel: 10.0.20348.2031 Compiler: clang 15.0.7, gcc 14.1.0 (MinGW), and MSVC VS 19.39.33521 To view detailed results, visit: https://lab.dpdk.org/results/dashboard/patchsets/34202/ UNH-IOL DPDK Community Lab To manage your email subscriptions, visit: https://lab.dpdk.org/results/dashboard/preferences/subscriptions/