From mboxrd@z Thu Jan 1 00:00:00 1970 Return-Path: Received: from mails.dpdk.org (mails.dpdk.org [217.70.189.124]) by inbox.dpdk.org (Postfix) with ESMTP id 8B0E748893 for ; Thu, 2 Oct 2025 21:47:48 +0200 (CEST) Received: from mails.dpdk.org (localhost [127.0.0.1]) by mails.dpdk.org (Postfix) with ESMTP id 648B1402A6; Thu, 2 Oct 2025 21:47:48 +0200 (CEST) Received: from mail-io1-f98.google.com (mail-io1-f98.google.com [209.85.166.98]) by mails.dpdk.org (Postfix) with ESMTP id 6D46F402A6 for ; Thu, 2 Oct 2025 21:47:47 +0200 (CEST) Received: by mail-io1-f98.google.com with SMTP id ca18e2360f4ac-8b0055cbd0fso112016739f.2 for ; Thu, 02 Oct 2025 12:47:47 -0700 (PDT) DKIM-Signature: v=1; a=rsa-sha256; c=relaxed/relaxed; d=iol.unh.edu; s=unh-iol; t=1759434466; x=1760039266; darn=dpdk.org; h=cc:to:from:subject:message-id:date:from:to:cc:subject:date :message-id:reply-to; bh=+1p/TyhewpqxdoncZtzqww0iSEF2QbvKEZhLFXa2hfk=; b=iV9deHwP724rTpoRqJLisTVGY60HhX9XvoLH7CgFXAkGsetJ4m5CEmH55H2XBwSq7x YRlAjFNzd3I9a2KghQyJS7rg0l7NAHtrfDprdP79ptGv6JI5FwKY+jsjkQ7co9F8qi6d aNtcHfm5iPlScjV0GqEzHiAVB6S4iKu0VYVWM= X-Google-DKIM-Signature: v=1; a=rsa-sha256; c=relaxed/relaxed; d=1e100.net; s=20230601; t=1759434466; x=1760039266; h=cc:to:from:subject:message-id:date:x-gm-message-state:from:to:cc :subject:date:message-id:reply-to; bh=+1p/TyhewpqxdoncZtzqww0iSEF2QbvKEZhLFXa2hfk=; b=bbSGF3a2+2YocWElAoRmRtXwsyABPmeUph98WzwZDEFkRZRxT8fksz54mauNzPoZ6S OhjZcOQ0QNqOnT8GG1/LrT96JfCKQUydXPJgxnUVQ6fUAbzj8KgwSNJ57E0f0xce7oNh tzwx4GTrOt2ANAqIbPI0pJVADGzW70ob9mdu4ByF23Kp4AX4X5f/PjfDBLO19UArHxpI TUaOPZO3OOPNF/NiH7M9R750lCkYWvo//ZY/eRn83hQSyHj6qI1wPpmL0zvmm+Qml9rf pWEC5IGYZ8eMp7WUMg1MC3ND0Z/0Wzwb7hvKBHMLMJeVyMjscC92otYj0ThBcs3IDOph GhtA== X-Gm-Message-State: AOJu0Yy5GHNoZunWzzYUzRc+6w+iojnKdIh5umblhwi6EC9SC9dEosey lLzLxMt+jPlSTEguzwMYalamD4X5yibErCHEDX/NoG/wcqEzxc2OGqr1ur3+/UKfiVcnslsEqhZ BsjBW/v6ejg7pg/SolPKXjQIcqBmdtt6GrTkNAVDAFCc8nM6jwLZM X-Gm-Gg: ASbGncv0YmMo5+Lk72xUVnIFKjZ7W5OcrqbS/kp98nppbQ39Lm5ZJDXejb5PJWd/FmB peXW9f76JLzxVmr49j9CgEqyDuIBc+KCcdzvZ9O9AN4tSS7N2FXLSoINc6jRPjj+oSYD4dS5Rxv YeknxwZuZRYMLkmdBiceOUMLpfKhnpmirQ5SubV5639LrCKg9YwYIXgXtVBBv5G5jFty77x3h/h 8lIyMwBLS8dWa/fWqe8uAb1XWlVS/JG1JlstifDVFfoAX808Ei+F9UOjL6I97/HrDoSlMjMirZf J7UtS/A2U8YeYH0agtgOWjhAXw0xpzScVvSEJwPGILMQ41+1fCiTCLo= X-Google-Smtp-Source: AGHT+IFDV3Iz5yw+SBqXlIoz2USN5PBdsZp0r3ANIJ8Je0mhMUsUrSaJwp1vk4Su5piVgxk8eZQlU64Sq0UP X-Received: by 2002:a05:6e02:1885:b0:42d:84ec:b5e5 with SMTP id e9e14a558f8ab-42e7ad04f91mr8909045ab.3.1759434466619; Thu, 02 Oct 2025 12:47:46 -0700 (PDT) Received: from postal.iol.unh.edu (postal.iol.unh.edu. [2606:4100:3880:1234::84]) by smtp-relay.gmail.com with ESMTPS id 8926c6da1cb9f-57b605d7d60sm201062173.38.2025.10.02.12.47.46 (version=TLS1_2 cipher=ECDHE-ECDSA-AES128-GCM-SHA256 bits=128/128); Thu, 02 Oct 2025 12:47:46 -0700 (PDT) X-Relaying-Domain: iol.unh.edu Date: Thu, 02 Oct 2025 12:47:46 -0700 (PDT) Message-ID: <68ded6e2.050a0220.379390.c2d0SMTPIN_ADDED_MISSING@mx.google.com> Received: from [172.21.0.2] (unknown [172.18.0.240]) by postal.iol.unh.edu (Postfix) with ESMTP id 30AAB604D420; Thu, 2 Oct 2025 15:47:46 -0400 (EDT) Subject: |SUCCESS| [GIT MASTER] b287e404643aeab5bb5db084c142789df187844e From: dpdklab@iol.unh.edu To: Test Report Cc: dpdk-test-reports@iol.unh.edu, Xueming Li , Christian Ehrhardt , Kevin Traynor , Luca Boccassi Content-Type: text/plain X-BeenThere: test-report@dpdk.org X-Mailman-Version: 2.1.29 Precedence: list List-Id: automatic DPDK test reports List-Unsubscribe: , List-Archive: List-Post: List-Help: List-Subscribe: , Errors-To: test-report-bounces@dpdk.org _Testing PASS_ Branch: tags/v24.11 b287e404643aeab5bb5db084c142789df187844e --> testing pass Upstream job id: Generic-DPDK-Compile-Meson#430392 Test environment and result as below: +------------------------------+--------------------+ | Environment | dpdk_meson_compile | +==============================+====================+ | Ubuntu 20.04 | PASS | +------------------------------+--------------------+ | Red Hat Enterprise Linux 9.5 | PASS | +------------------------------+--------------------+ | Fedora Linux 42 | PASS | +------------------------------+--------------------+ | Debian GNU/Linux 12 | PASS | +------------------------------+--------------------+ | CentOS Stream 10 | PASS | +------------------------------+--------------------+ | CentOS Stream 9 | PASS | +------------------------------+--------------------+ | Ubuntu 24.04 | PASS | +------------------------------+--------------------+ | Ubuntu 22.04 | PASS | +------------------------------+--------------------+ Ubuntu 20.04 Kernel: 5.15 Compiler: aarch64-linux-gnu-gcc gcc (Ubuntu 9.4.0-1ubuntu1~20.04.2) 9.4.0 Red Hat Enterprise Linux 9.5 Kernel: 5.4 Compiler: gcc gcc (GCC) 11.5.0 20240719 (Red Hat 11.5.0-2) Fedora Linux 42 Kernel: 5.4 Compiler: gcc gcc (GCC) 15.2.1 20250808 (Red Hat 15.2.1-1) Debian GNU/Linux 12 Kernel: 5.4 Compiler: gcc gcc (Debian 12.2.0-14+deb12u1) 12.2.0 CentOS Stream 10 Kernel: 5.4 Compiler: gcc gcc (GCC) 14.2.1 20250110 (Red Hat 14.2.1-8) CentOS Stream 9 Kernel: 5.4 Compiler: gcc gcc (GCC) 11.5.0 20240719 (Red Hat 11.5.0-11) Ubuntu 24.04 Kernel: 5.4 Compiler: gcc gcc (Ubuntu 13.3.0-6ubuntu2~24.04) 13.3.0 Ubuntu 22.04 Kernel: 5.4 Compiler: gcc gcc (Ubuntu 11.4.0-1ubuntu1~22.04) 11.4.0 To view detailed results, visit: https://lab.dpdk.org/results/dashboard/tarballs/35038/ UNH-IOL DPDK Community Lab To manage your email subscriptions, visit: https://lab.dpdk.org/results/dashboard/preferences/subscriptions/