From mboxrd@z Thu Jan 1 00:00:00 1970 Return-Path: Received: from mails.dpdk.org (mails.dpdk.org [217.70.189.124]) by inbox.dpdk.org (Postfix) with ESMTP id 869B148893 for ; Thu, 2 Oct 2025 21:48:02 +0200 (CEST) Received: from mails.dpdk.org (localhost [127.0.0.1]) by mails.dpdk.org (Postfix) with ESMTP id 7F78B402A6; Thu, 2 Oct 2025 21:48:02 +0200 (CEST) Received: from mail-pf1-f226.google.com (mail-pf1-f226.google.com [209.85.210.226]) by mails.dpdk.org (Postfix) with ESMTP id 1605D402A6 for ; Thu, 2 Oct 2025 21:48:01 +0200 (CEST) Received: by mail-pf1-f226.google.com with SMTP id d2e1a72fcca58-781251eec51so1356777b3a.3 for ; Thu, 02 Oct 2025 12:48:01 -0700 (PDT) DKIM-Signature: v=1; a=rsa-sha256; c=relaxed/relaxed; d=iol.unh.edu; s=unh-iol; t=1759434480; x=1760039280; darn=dpdk.org; h=cc:to:from:subject:message-id:date:from:to:cc:subject:date :message-id:reply-to; bh=dm+DnPHWJDESaCm/cW9EpXMj49VXvfCsk5J0GHpX29Q=; b=NzQ+jb8+IHYvStiZoiBe/lqNp0ySX9IoWAzM1oLlS16r4MFSu1NaR4eMlDmqQFiq7R RAFrq4+tnYC6wtOaBOmhaJFauZHMqcek37XByuFkhekO0hRdUakZyU2KNSARojnr6Oe5 RsnQe2l81dGYazKylCK2/8BZuh+BU3/a0QVTU= X-Google-DKIM-Signature: v=1; a=rsa-sha256; c=relaxed/relaxed; d=1e100.net; s=20230601; t=1759434480; x=1760039280; h=cc:to:from:subject:message-id:date:x-gm-message-state:from:to:cc :subject:date:message-id:reply-to; bh=dm+DnPHWJDESaCm/cW9EpXMj49VXvfCsk5J0GHpX29Q=; b=GfPHeKaeEJ/OHzPZQL+5G6tFJZ/IdhMA5boGNPBBhuYvnRGLEAyHShowml1eCYEgmp h9FY1fb2aJsgBhNlsmicZjWI4PLLz9NPBMrLXVVqJmVvGbTM/TjwGv+g6XtetrvcMcCt AZxjtQNSNb2CcBe+PsJUoz40Tqie6g24oZ4bysfY76Tvl6bzN4JzU8RW5BkBuDRiaHbk e7YFULOH/2UgFoiI0SrerqhfdVMCSlkCSYM+l+Y+ShVkcXJ3+E6IzJ25sLsI5XyEupsU AKN04PHMX8Z3O+IvDLAaVEP1RS7/NGL0DhJzJFOU1AjvjW6ol0+tbralwc9J1CpWzUFk Fuxg== X-Gm-Message-State: AOJu0YxA/8aUZbR2LS4AuxBAJv4Pn0wLdoQq7iEaqjegk0gY2kJumiSZ O5fo0z9VXSxHi1EUNOJL59My30udKBEeDFc2Ii7Is3q5OqufxHL5IzbQF2YvtyX360uJlAd4ofV w1EWk27H38Z4dO6h/xmy4MAfOmL+PCPTBTk28XVNLPMuK X-Gm-Gg: ASbGnctsPZqqWVOyTD4gs76xqZNYr0soxpNMYount8sAUZQ8xR3KGCopYtDD5ivP8Sd AWRj/zAdG77VbS7MOjlgeRWq4r5+oZ4rGkWB34gOJ/O+O2udAGbFoordwjChtfLeGRfo2hIRfS1 86j+5J+hmcAQ1pxsRzLmYHQ2ia4Cy9Y3+etgmn3Zv5eltNz0xaedXknp8/GJB/ppICLJeZIn2IK Guw74Ex94ZXj9VhxSf5IAY+zQ+XFIHQGjQtBi4PtcstnwlYuo/tkq4xQ4MHdn1yXkfF/iIvR/Rq EZ3yklnrVe6fsbh6zuMFGVhWQ85t4G20TsJrn+RtuW8tIK/KC4fxTmeXAqZCRpSut8thkj4SoQz uPQ== X-Google-Smtp-Source: AGHT+IEmBBVLDT+H5+FoR+wn6Af20VsdVsWj2TTZGiy1rWgZcmHZFzZb0Hg2DfhpuM2xhKK3wvOWMwAWfm7C X-Received: by 2002:a05:6a00:cd0:b0:781:187f:48d1 with SMTP id d2e1a72fcca58-78c98a409acmr1113370b3a.1.1759434480201; Thu, 02 Oct 2025 12:48:00 -0700 (PDT) Received: from postal.iol.unh.edu (postal.iol.unh.edu. [132.177.123.84]) by smtp-relay.gmail.com with ESMTPS id d2e1a72fcca58-78b01fa6c4dsm239417b3a.4.2025.10.02.12.48.00 (version=TLS1_2 cipher=ECDHE-ECDSA-AES128-GCM-SHA256 bits=128/128); Thu, 02 Oct 2025 12:48:00 -0700 (PDT) X-Relaying-Domain: iol.unh.edu Date: Thu, 02 Oct 2025 12:48:00 -0700 (PDT) Message-ID: <68ded6f0.050a0220.238575.e5a3SMTPIN_ADDED_MISSING@mx.google.com> Received: from [172.21.0.3] (unknown [172.18.0.240]) by postal.iol.unh.edu (Postfix) with ESMTP id 7BB9C604D420; Thu, 2 Oct 2025 15:47:59 -0400 (EDT) Subject: |SUCCESS| [GIT MASTER] 4159ea62922ce41566c7bab44655ad78bee85458 From: dpdklab@iol.unh.edu To: Test Report Cc: dpdk-test-reports@iol.unh.edu, Akhil Goyal Content-Type: text/plain X-BeenThere: test-report@dpdk.org X-Mailman-Version: 2.1.29 Precedence: list List-Id: automatic DPDK test reports List-Unsubscribe: , List-Archive: List-Post: List-Help: List-Subscribe: , Errors-To: test-report-bounces@dpdk.org _Testing PASS_ Branch: dpdk-next-crypto 4159ea62922ce41566c7bab44655ad78bee85458 --> testing pass Upstream job id: Generic-DPDK-Compile-Meson#430406 Test environment and result as below: +------------------------------+--------------------+ | Environment | dpdk_meson_compile | +==============================+====================+ | Ubuntu 20.04 | PASS | +------------------------------+--------------------+ | Debian GNU/Linux 12 | PASS | +------------------------------+--------------------+ | CentOS Stream 9 | PASS | +------------------------------+--------------------+ | CentOS Stream 10 | PASS | +------------------------------+--------------------+ | Ubuntu 24.04 | PASS | +------------------------------+--------------------+ | Ubuntu 22.04 | PASS | +------------------------------+--------------------+ | Fedora Linux 42 | PASS | +------------------------------+--------------------+ | Red Hat Enterprise Linux 9.5 | PASS | +------------------------------+--------------------+ Ubuntu 20.04 Kernel: 5.4 Compiler: gcc gcc (Ubuntu 9.4.0-1ubuntu1~20.04.2) 9.4.0 Debian GNU/Linux 12 Kernel: 5.4 Compiler: gcc gcc (Debian 12.2.0-14+deb12u1) 12.2.0 CentOS Stream 9 Kernel: 5.4 Compiler: gcc gcc (GCC) 11.5.0 20240719 (Red Hat 11.5.0-11) CentOS Stream 10 Kernel: 5.4 Compiler: gcc gcc (GCC) 14.2.1 20250110 (Red Hat 14.2.1-8) Ubuntu 24.04 Kernel: 5.4 Compiler: gcc gcc (Ubuntu 13.3.0-6ubuntu2~24.04) 13.3.0 Ubuntu 22.04 Kernel: 5.4 Compiler: gcc gcc (Ubuntu 11.4.0-1ubuntu1~22.04) 11.4.0 Fedora Linux 42 Kernel: 5.4 Compiler: clang gcc (GCC) 15.2.1 20250808 (Red Hat 15.2.1-1) Red Hat Enterprise Linux 9.5 Kernel: 5.4 Compiler: gcc gcc (GCC) 11.5.0 20240719 (Red Hat 11.5.0-2) To view detailed results, visit: https://lab.dpdk.org/results/dashboard/tarballs/35036/ UNH-IOL DPDK Community Lab To manage your email subscriptions, visit: https://lab.dpdk.org/results/dashboard/preferences/subscriptions/