From mboxrd@z Thu Jan 1 00:00:00 1970 Return-Path: Received: from mails.dpdk.org (mails.dpdk.org [217.70.189.124]) by inbox.dpdk.org (Postfix) with ESMTP id 8EE0A48893 for ; Thu, 2 Oct 2025 21:58:12 +0200 (CEST) Received: from mails.dpdk.org (localhost [127.0.0.1]) by mails.dpdk.org (Postfix) with ESMTP id 6F4CD402A6; Thu, 2 Oct 2025 21:58:12 +0200 (CEST) Received: from mail-pf1-f226.google.com (mail-pf1-f226.google.com [209.85.210.226]) by mails.dpdk.org (Postfix) with ESMTP id E1B72402A6 for ; Thu, 2 Oct 2025 21:58:10 +0200 (CEST) Received: by mail-pf1-f226.google.com with SMTP id d2e1a72fcca58-78a9793aa09so1753187b3a.0 for ; Thu, 02 Oct 2025 12:58:10 -0700 (PDT) DKIM-Signature: v=1; a=rsa-sha256; c=relaxed/relaxed; d=iol.unh.edu; s=unh-iol; t=1759435090; x=1760039890; darn=dpdk.org; h=references:in-reply-to:cc:to:from:subject:message-id:date:from:to :cc:subject:date:message-id:reply-to; bh=y6Jj9RDVZwuc0LZjDHlYZ+CkV17U+I/OlXudp4WsIV8=; b=dundu+ofhWw3C5mKqZeJdL7blYTtxsaONczHEjKsM4Q6aFL5heMC8awv2X49n3pomh 7eS+kBi5akJnGFUsDrI4spRDFLKCt9MgPBgpi4G1jOsuTlOgeR2CMI6e5BQ8G/7q5Fvj cnPvDDlqcS8cHbDWKO192hcdnbigCgwuNV0Yo= X-Google-DKIM-Signature: v=1; a=rsa-sha256; c=relaxed/relaxed; d=1e100.net; s=20230601; t=1759435090; x=1760039890; h=references:in-reply-to:cc:to:from:subject:message-id:date :x-gm-message-state:from:to:cc:subject:date:message-id:reply-to; bh=y6Jj9RDVZwuc0LZjDHlYZ+CkV17U+I/OlXudp4WsIV8=; b=qBC44R7woyCL8OdS3QVzIVHeOP5RyMJRLqyYg34lVEfgZEu9DLFuG9kQUUXkc6Bmwx m2qnHQY3CJ+J0gpUVcqnhaLRagaELL+Fexk+/rLY5EPyVUlcxSd8KACsWfCEHwElceBm 15up73JDSBYfkEBTM8BUNX7Ik67STUPjjiHNQDHIYvfpql/u7db9R/wWJ5IOmWBRmoRC /ZHG9M6y6llJABXS6H0Br6epXDqmz6E4xDHWvdDOLsE5nDSon0iTW32eGZXRy1r+c6Ij at8UncE7AMKeBhbuwZHDySgYf4Rm3tmB3t32zUOO0mQxCfqBcXTfwJw2PkxXY1hf9Rqn oNFw== X-Gm-Message-State: AOJu0YxwfQLIdS6ROtOPJbRLAW6bdZEx6H5xQVH8xEJR6V8SpzZ3r1br 51H4NF049fOP3DbkItwyBjx6Sd6s2vdZNnV3bfY0oyZ/BnYpxPoyHzue4+WslqY6IzS14jnsP9/ bq9FSaY35qu4MKU+9t9Frofw6cymXKPvWCGJ7LKzqf365 X-Gm-Gg: ASbGncv3+jR0LmF/qGYhhjZhmtFe9kK4BsxDmi71fIuOLpi8bRSWF6tZsrH2GJOo7Fc Yh2SFVbVyM8+jzTsnHzlE0kzgKGV/RkzAO6KgdGC+gWpdJOjzWZwATSByNH4Zt3mm7x2t1lHBvB U/1OSA9323bmZFcjuxrhgM59x46KtqVe7DrhRgBACyreRX7CzL6b74uWWFPToKsNexexsKNXc7X gKQWc/c81LFkFOnRtT4OujQAz9DDjxwXTn+nh806wLE8pAZtl0Jl19+1s0PFQQz2/Nt49oz5vBH O4EeR1F7r8tqyBJpRy5bG9YB9g3pluvxSSrgAN7aoa5G8WFxmSSMzJOFErA5qTQMGE3HkQ2SqKB HRg== X-Google-Smtp-Source: AGHT+IECSaDWAbSmNHIz/DGip4s7NPcQXGrZvsU1ZiCKxG17sUjzn/TDm694YgoHPGeEP7R5qyVZ35yOHS1/ X-Received: by 2002:a05:6a20:7493:b0:262:8422:5774 with SMTP id adf61e73a8af0-32b62093e50mr805352637.39.1759435090058; Thu, 02 Oct 2025 12:58:10 -0700 (PDT) Received: from postal.iol.unh.edu (postal.iol.unh.edu. [132.177.123.84]) by smtp-relay.gmail.com with ESMTPS id d2e1a72fcca58-78b01fa6c4dsm241412b3a.4.2025.10.02.12.58.09 (version=TLS1_2 cipher=ECDHE-ECDSA-AES128-GCM-SHA256 bits=128/128); Thu, 02 Oct 2025 12:58:10 -0700 (PDT) X-Relaying-Domain: iol.unh.edu Date: Thu, 02 Oct 2025 12:58:10 -0700 (PDT) Message-ID: <68ded952.050a0220.238575.e78eSMTPIN_ADDED_MISSING@mx.google.com> Received: from [172.21.0.2] (unknown [172.18.0.240]) by postal.iol.unh.edu (Postfix) with ESMTP id 4D062604D420; Thu, 2 Oct 2025 15:58:09 -0400 (EDT) Subject: |SUCCESS| pw157197-157198 [PATCH] [v5,2/2] crypto/ipsec-mb: use cons From: dpdklab@iol.unh.edu To: Test Report Cc: dpdk-test-reports@iol.unh.edu In-Reply-To: <20251001153242.55987-2-kai.ji@intel.com> References: <20251001153242.55987-2-kai.ji@intel.com> Content-Type: text/plain X-BeenThere: test-report@dpdk.org X-Mailman-Version: 2.1.29 Precedence: list List-Id: automatic DPDK test reports List-Unsubscribe: , List-Archive: List-Post: List-Help: List-Subscribe: , Errors-To: test-report-bounces@dpdk.org Test-Label: iol-compile-amd64-testing Test-Status: SUCCESS http://dpdk.org/patch/157198 _Testing PASS_ Submitter: Kai Ji Date: Wednesday, October 01 2025 15:32:42 DPDK git baseline: Repo:dpdk Branch: master CommitID:2ffda8c2e357662354ee6ddcca769258c33642a9 157197-157198 --> testing pass Upstream job id: Generic-DPDK-Compile-Meson#430464 Test environment and result as below: +---------------------+--------------------+-------------------+-------------------------+----------------------+------------------+-------------------+ | Environment | dpdk_meson_compile | dpdk_msvc_compile | dpdk_llvm_clang_compile | dpdk_mingw64_compile | dpdk_compile_ovs | dpdk_compile_spdk | +=====================+====================+===================+=========================+======================+==================+===================+ | Ubuntu 20.04 | PASS | SKIPPED | SKIPPED | SKIPPED | SKIPPED | SKIPPED | +---------------------+--------------------+-------------------+-------------------------+----------------------+------------------+-------------------+ | FreeBSD 14.2 | PASS | SKIPPED | SKIPPED | SKIPPED | SKIPPED | SKIPPED | +---------------------+--------------------+-------------------+-------------------------+----------------------+------------------+-------------------+ | Fedora Linux 42 | PASS | SKIPPED | SKIPPED | SKIPPED | PASS | PASS | +---------------------+--------------------+-------------------+-------------------------+----------------------+------------------+-------------------+ | Windows Server 2022 | SKIPPED | PASS | PASS | PASS | SKIPPED | SKIPPED | +---------------------+--------------------+-------------------+-------------------------+----------------------+------------------+-------------------+ Ubuntu 20.04 Kernel: 4.19 Compiler: gcc gcc (Ubuntu 9.4.0-1ubuntu1~20.04.2) 9.4.0 FreeBSD 14.2 Kernel: 14.2-RELEASE Compiler: clang 18.1.6 Fedora Linux 42 Kernel: 5.15 Compiler: gcc gcc (GCC) 15.2.1 20250808 (Red Hat 15.2.1-1) Windows Server 2022 Kernel: 10.0.20348.2031 Compiler: clang 15.0.7, gcc 14.1.0 (MinGW), and MSVC VS 19.39.33521 To view detailed results, visit: https://lab.dpdk.org/results/dashboard/patchsets/34195/ UNH-IOL DPDK Community Lab To manage your email subscriptions, visit: https://lab.dpdk.org/results/dashboard/preferences/subscriptions/