From mboxrd@z Thu Jan 1 00:00:00 1970 Return-Path: Received: from mails.dpdk.org (mails.dpdk.org [217.70.189.124]) by inbox.dpdk.org (Postfix) with ESMTP id 97AA448895 for ; Thu, 2 Oct 2025 22:32:02 +0200 (CEST) Received: from mails.dpdk.org (localhost [127.0.0.1]) by mails.dpdk.org (Postfix) with ESMTP id 60942402A6; Thu, 2 Oct 2025 22:32:02 +0200 (CEST) Received: from mail-io1-f99.google.com (mail-io1-f99.google.com [209.85.166.99]) by mails.dpdk.org (Postfix) with ESMTP id A090F402A6 for ; Thu, 2 Oct 2025 22:32:00 +0200 (CEST) Received: by mail-io1-f99.google.com with SMTP id ca18e2360f4ac-92b92e4b078so61158139f.0 for ; Thu, 02 Oct 2025 13:32:00 -0700 (PDT) DKIM-Signature: v=1; a=rsa-sha256; c=relaxed/relaxed; d=iol.unh.edu; s=unh-iol; t=1759437120; x=1760041920; darn=dpdk.org; h=cc:to:from:subject:message-id:date:from:to:cc:subject:date :message-id:reply-to; bh=Ubi5JjNYJtKakxwJ1mrHTzERWguHYC0CPUH8xV81F2k=; b=fMdQVBZkKQvRlM6qFuzdHd5/HzM8631DSC11JkCWTC5kycrPeL8j49L34uGveOGI4N OOjNr4X/aYHOkPw8IBl0y7sqfDy+ya2UdzZ9LFcnkWySHwj1k78ErftpE0VLIZgfFVhv 2gcNVR5VkJQcDY693A7MsyNM6RnetLA76Eci8= X-Google-DKIM-Signature: v=1; a=rsa-sha256; c=relaxed/relaxed; d=1e100.net; s=20230601; t=1759437120; x=1760041920; h=cc:to:from:subject:message-id:date:x-gm-message-state:from:to:cc :subject:date:message-id:reply-to; bh=Ubi5JjNYJtKakxwJ1mrHTzERWguHYC0CPUH8xV81F2k=; b=u7luZegST+pxFT13LkH1sPCR5YIzn7lLGShczB1t3gOQvsF26sokoeIE/Vy//BG1tb fHYy2xA5R/1yjXve1TQ2t7mWPKPHdD4lJ/0LoqNDsaRBNbBj9kY7G39TX82vL9nnAeZo tUElczLIebLbjU5chK6IfDS+cp4KJytTTB9LYbTsRjXC5+x+owvwgyxpMG/3qSHVHWxf 0Hwjk2EKt3p2RcbyZ/3V1Do2nyQNS10g4CdR3szOvNcNmOaMoWqLzrbqqLB2jqHSAUKT LjWRSILf7vemhIjgkdQ5fd9IzFK/g+DVIXLVVKtZHyrBQVNkqmN6SsMpbX572nMHlOrR /loA== X-Gm-Message-State: AOJu0Yy9iF10qu7oULCx4FvfTShrcFkIStaTZ5qNbDIRKiTmPaeO9la3 A1Vu7y8j0ZCdJHo/5PNSrwl32G3OwNnwfxJ46FCerpXdiFK2FVPkAQwLmmtQ25IIhZBd0eVwlaK xFtQhgBagxWq3GNkRVW2XhIzADkP2ZB7hrYjtFYjai0vb X-Gm-Gg: ASbGncsOWGFZbERfvcsgsYsYYFr9sUb0oWQpKgul9QLLz0+dndkWtyd+HUkF0Y7Yw9K /gzOQU3BmXIdPLZd43MbWxbdw6yhuL4ciMSfCA/a4XWmjR5srx3OBR4IY999TJ9EdmXm9NikXAb NKRbP+8L1Cny+vk7ScaF+0asAU02Yz382XN7iL6T7b1Mjf2fZA97QLizMRcpIKoPFU2fb1n6Q9H sgD97rdjiotzce9jZGpS8ZFWoPEWH9quguFSbi3h4jE6OI1XSHuqLHqP152HXmhjmenmgTsxt53 NjZ8ZKpGoZpAd5zkv9uhklJlGoQwi78rEmorL7e/VCGkg8AFSuUML6H1Txp9m5fapvdrOvHgCBk qVQ== X-Google-Smtp-Source: AGHT+IHP+uiSC/uIN4ph6MGQ0ixzrnNehJMBWQ9vucaUHRHytLC28xookp6CdUaN+jgCCaW1+ZuZBQCkhn4L X-Received: by 2002:a05:6602:1647:b0:90c:8a72:cfd0 with SMTP id ca18e2360f4ac-93b96acc589mr89137939f.18.1759437119815; Thu, 02 Oct 2025 13:31:59 -0700 (PDT) Received: from postal.iol.unh.edu (postal.iol.unh.edu. [132.177.123.84]) by smtp-relay.gmail.com with ESMTPS id ca18e2360f4ac-93a84a9448esm13469639f.12.2025.10.02.13.31.59 (version=TLS1_2 cipher=ECDHE-ECDSA-AES128-GCM-SHA256 bits=128/128); Thu, 02 Oct 2025 13:31:59 -0700 (PDT) X-Relaying-Domain: iol.unh.edu Date: Thu, 02 Oct 2025 13:31:59 -0700 (PDT) Message-ID: <68dee13f.6b0a0220.fff7f.865cSMTPIN_ADDED_MISSING@mx.google.com> Received: from [172.21.0.2] (unknown [172.18.0.240]) by postal.iol.unh.edu (Postfix) with ESMTP id 5D5046051830; Thu, 2 Oct 2025 16:31:59 -0400 (EDT) Subject: |SUCCESS| [GIT MASTER] 9e36adf88c49b437c4c5ffa46158e53d96bef82c From: dpdklab@iol.unh.edu To: Test Report Cc: dpdk-test-reports@iol.unh.edu, Jerin Jacob Content-Type: text/plain X-BeenThere: test-report@dpdk.org X-Mailman-Version: 2.1.29 Precedence: list List-Id: automatic DPDK test reports List-Unsubscribe: , List-Archive: List-Post: List-Help: List-Subscribe: , Errors-To: test-report-bounces@dpdk.org _Testing PASS_ Branch: dpdk-next-eventdev 9e36adf88c49b437c4c5ffa46158e53d96bef82c --> testing pass Upstream job id: Generic-DPDK-Compile-Meson#430415 Test environment and result as below: +------------------------------+--------------------+ | Environment | dpdk_meson_compile | +==============================+====================+ | Debian GNU/Linux 12 | PASS | +------------------------------+--------------------+ | CentOS Stream 9 | PASS | +------------------------------+--------------------+ | Ubuntu 20.04 | PASS | +------------------------------+--------------------+ | CentOS Stream 10 | PASS | +------------------------------+--------------------+ | Ubuntu 24.04 | PASS | +------------------------------+--------------------+ | Ubuntu 22.04 | PASS | +------------------------------+--------------------+ | Fedora Linux 42 | PASS | +------------------------------+--------------------+ | Red Hat Enterprise Linux 9.5 | PASS | +------------------------------+--------------------+ Debian GNU/Linux 12 Kernel: 5.4 Compiler: gcc gcc (Debian 12.2.0-14+deb12u1) 12.2.0 CentOS Stream 9 Kernel: 5.4 Compiler: gcc gcc (GCC) 11.5.0 20240719 (Red Hat 11.5.0-11) Ubuntu 20.04 Kernel: 5.15 Compiler: clang gcc (Ubuntu 9.4.0-1ubuntu1~20.04.2) 9.4.0 CentOS Stream 10 Kernel: 5.4 Compiler: gcc gcc (GCC) 14.2.1 20250110 (Red Hat 14.2.1-8) Ubuntu 24.04 Kernel: 5.4 Compiler: gcc gcc (Ubuntu 13.3.0-6ubuntu2~24.04) 13.3.0 Ubuntu 22.04 Kernel: 5.4 Compiler: gcc gcc (Ubuntu 11.4.0-1ubuntu1~22.04) 11.4.0 Fedora Linux 42 Kernel: 5.4 Compiler: clang gcc (GCC) 15.2.1 20250808 (Red Hat 15.2.1-1) Red Hat Enterprise Linux 9.5 Kernel: 5.4 Compiler: gcc gcc (GCC) 11.5.0 20240719 (Red Hat 11.5.0-2) To view detailed results, visit: https://lab.dpdk.org/results/dashboard/tarballs/35035/ UNH-IOL DPDK Community Lab To manage your email subscriptions, visit: https://lab.dpdk.org/results/dashboard/preferences/subscriptions/