From mboxrd@z Thu Jan 1 00:00:00 1970 Return-Path: Received: from mails.dpdk.org (mails.dpdk.org [217.70.189.124]) by inbox.dpdk.org (Postfix) with ESMTP id 7EF9648895 for ; Thu, 2 Oct 2025 22:32:23 +0200 (CEST) Received: from mails.dpdk.org (localhost [127.0.0.1]) by mails.dpdk.org (Postfix) with ESMTP id 7AD8C402A6; Thu, 2 Oct 2025 22:32:23 +0200 (CEST) Received: from mail-yw1-f226.google.com (mail-yw1-f226.google.com [209.85.128.226]) by mails.dpdk.org (Postfix) with ESMTP id 58F6F402A6 for ; Thu, 2 Oct 2025 22:32:22 +0200 (CEST) Received: by mail-yw1-f226.google.com with SMTP id 00721157ae682-71d60504788so15977977b3.2 for ; Thu, 02 Oct 2025 13:32:22 -0700 (PDT) DKIM-Signature: v=1; a=rsa-sha256; c=relaxed/relaxed; d=iol.unh.edu; s=unh-iol; t=1759437141; x=1760041941; darn=dpdk.org; h=cc:to:from:subject:message-id:date:from:to:cc:subject:date :message-id:reply-to; bh=O/0I4rOwIfrJ96Z+nYHCdB/kXcmKWlgrAK+/Pq2IUBQ=; b=d59zXKJfu4Tq7COKJ4+XSlDVWQExTAW4mbj4kZPR/BXZ6voaQySUgJtA+mptReoIA1 ihVhN3RYhjdu8i7e/IM2mt5bYuG+pfJTS8l5IUw48URGtggoCgr9hRSVhvW2wVDUcTj5 Yc1t3ht+TL2Gd2ElJFCUe3pCd0B2fzLJPADPM= X-Google-DKIM-Signature: v=1; a=rsa-sha256; c=relaxed/relaxed; d=1e100.net; s=20230601; t=1759437141; x=1760041941; h=cc:to:from:subject:message-id:date:x-gm-message-state:from:to:cc :subject:date:message-id:reply-to; bh=O/0I4rOwIfrJ96Z+nYHCdB/kXcmKWlgrAK+/Pq2IUBQ=; b=QxT/vTqJxLie7pPFhqIpVv2Zv92RTE5FYVmjxSiPg59VaeGLgCkTIJ7mj5yQfUyzuy ZwoDKE1tJ6gAiiGlX/pAUl0pRkJQOhxgatUTmtQLbFusQ/zFFYxdcmHbKizoSaoUugNx Wfmt5ilczufw9Fm8xnlM95NSMekGSieoLfOrVSNo3YKE2zBbA6IkfIXlyGzmCDF7oqUU Ps4VSnP9tDuOPJiiYx2yQdv1KJUePmLHOOO2o9bXv2ZobiRX/zJG9toNRE2His2Rc52T QRDntfE7mPeJeXmUIvSCoqK/ZyJzEXUesdD6MQO1f8OiX8ttgnU+G5uux1ZBj5HFfciB KsuQ== X-Gm-Message-State: AOJu0Ywv0C9Q0IeHBjfeZBmK+6oPetF/rkDCLS2UMDp5OE2y2bllSdLO PByn6yn8Ww4T3Z3CaHg5ZqTDmsyaOUcKyYHypLQDhPrbWFMAEIPEnPIk21G7+CGZItmtEsE50De iI4D+t9wrlVXSMN51Bm22OVF+mhTJ67ttP+mCKxhPpIeQ X-Gm-Gg: ASbGnctZjxpEkPXrvRqfYBg5TzXHSVrE78ZvVE8qd94HuS4P52gPb7fggvRU9SJmXYz m5Onn6XqvCtCU+huafSEVYZUPZsSUfNmhtcLzYgRem8b3af0tO1XBFQknIjOAYpllhgPr1lyJ81 CUpMv4fJrWzwG5UYdLTSFgB+o5ZH4papCp4E7cTBTivFmMwgWqzckIxFsX14seCu66ZVriZJEO2 kGpk5OeZDItC/PHcE8gjB6LEMsNmoAWfgOA30rIWEBepIa6t2cypRdteHLxjOJh7GqwTpgBT46+ w/Q5bH8saU/UhcMiGuwIx2OsqAPUOyvviOdk6S7ASUyt6ZF8kOHenTbwcjaij+lPzQOKE3mHYY2 WWQ== X-Google-Smtp-Source: AGHT+IHk4Z3sKEvfnKpJu8USK+guxFToA50A6Rzh9g3t3WlSD9tsAyhh8JsgOSvOhQkzKdAryn25Orxcdqtq X-Received: by 2002:a05:690c:3383:b0:72f:d215:60a2 with SMTP id 00721157ae682-77f94591e37mr12039507b3.7.1759437141637; Thu, 02 Oct 2025 13:32:21 -0700 (PDT) Received: from postal.iol.unh.edu (postal.iol.unh.edu. [132.177.123.84]) by smtp-relay.gmail.com with ESMTPS id 00721157ae682-77f81d03f6bsm1622747b3.22.2025.10.02.13.32.21 (version=TLS1_2 cipher=ECDHE-ECDSA-AES128-GCM-SHA256 bits=128/128); Thu, 02 Oct 2025 13:32:21 -0700 (PDT) X-Relaying-Domain: iol.unh.edu Date: Thu, 02 Oct 2025 13:32:21 -0700 (PDT) Message-ID: <68dee155.050a0220.20ca6d.9e71SMTPIN_ADDED_MISSING@mx.google.com> Received: from [172.21.0.4] (unknown [172.18.0.240]) by postal.iol.unh.edu (Postfix) with ESMTP id 5354A6051830; Thu, 2 Oct 2025 16:32:21 -0400 (EDT) Subject: |SUCCESS| [GIT MASTER] ab1325719d538b7f3527bb603f5e7d3f46a5eb53 From: dpdklab@iol.unh.edu To: Test Report Cc: dpdk-test-reports@iol.unh.edu, Bruce Richardson Content-Type: text/plain X-BeenThere: test-report@dpdk.org X-Mailman-Version: 2.1.29 Precedence: list List-Id: automatic DPDK test reports List-Unsubscribe: , List-Archive: List-Post: List-Help: List-Subscribe: , Errors-To: test-report-bounces@dpdk.org _Testing PASS_ Branch: dpdk-next-net-intel ab1325719d538b7f3527bb603f5e7d3f46a5eb53 --> testing pass Upstream job id: Generic-DPDK-Compile-Meson#430422 Test environment and result as below: +------------------------------+--------------------+ | Environment | dpdk_meson_compile | +==============================+====================+ | Debian GNU/Linux 12 | PASS | +------------------------------+--------------------+ | Red Hat Enterprise Linux 9.5 | PASS | +------------------------------+--------------------+ | Ubuntu 20.04 | PASS | +------------------------------+--------------------+ | CentOS Stream 10 | PASS | +------------------------------+--------------------+ | CentOS Stream 9 | PASS | +------------------------------+--------------------+ | Ubuntu 24.04 | PASS | +------------------------------+--------------------+ | Ubuntu 22.04 | PASS | +------------------------------+--------------------+ | Fedora Linux 42 | PASS | +------------------------------+--------------------+ Debian GNU/Linux 12 Kernel: 5.4 Compiler: gcc gcc (Debian 12.2.0-14+deb12u1) 12.2.0 Red Hat Enterprise Linux 9.5 Kernel: 5.4 Compiler: gcc gcc (GCC) 11.5.0 20240719 (Red Hat 11.5.0-2) Ubuntu 20.04 Kernel: 5.15 Compiler: aarch64-linux-gnu-gcc gcc (Ubuntu 9.4.0-1ubuntu1~20.04.2) 9.4.0 CentOS Stream 10 Kernel: 5.4 Compiler: gcc gcc (GCC) 14.2.1 20250110 (Red Hat 14.2.1-8) CentOS Stream 9 Kernel: 5.4 Compiler: gcc gcc (GCC) 11.5.0 20240719 (Red Hat 11.5.0-11) Ubuntu 24.04 Kernel: 5.4 Compiler: gcc gcc (Ubuntu 13.3.0-6ubuntu2~24.04) 13.3.0 Ubuntu 22.04 Kernel: 5.4 Compiler: gcc gcc (Ubuntu 11.4.0-1ubuntu1~22.04) 11.4.0 Fedora Linux 42 Kernel: 5.4 Compiler: clang gcc (GCC) 15.2.1 20250808 (Red Hat 15.2.1-1) To view detailed results, visit: https://lab.dpdk.org/results/dashboard/tarballs/35034/ UNH-IOL DPDK Community Lab To manage your email subscriptions, visit: https://lab.dpdk.org/results/dashboard/preferences/subscriptions/