From mboxrd@z Thu Jan 1 00:00:00 1970 Return-Path: Received: from mails.dpdk.org (mails.dpdk.org [217.70.189.124]) by inbox.dpdk.org (Postfix) with ESMTP id 33A2448895 for ; Thu, 2 Oct 2025 23:10:39 +0200 (CEST) Received: from mails.dpdk.org (localhost [127.0.0.1]) by mails.dpdk.org (Postfix) with ESMTP id 1944A402D8; Thu, 2 Oct 2025 23:10:39 +0200 (CEST) Received: from mail-il1-f228.google.com (mail-il1-f228.google.com [209.85.166.228]) by mails.dpdk.org (Postfix) with ESMTP id B3164402D8 for ; Thu, 2 Oct 2025 23:10:37 +0200 (CEST) Received: by mail-il1-f228.google.com with SMTP id e9e14a558f8ab-42e5d1025dcso4002765ab.2 for ; Thu, 02 Oct 2025 14:10:37 -0700 (PDT) DKIM-Signature: v=1; a=rsa-sha256; c=relaxed/relaxed; d=iol.unh.edu; s=unh-iol; t=1759439437; x=1760044237; darn=dpdk.org; h=cc:to:from:subject:message-id:date:from:to:cc:subject:date :message-id:reply-to; bh=R05V1N79YdYghgVgLfcgOQugkVy5ze/K20hKa3G73g8=; b=gSAAgdVYasIahViCwNklE93ASXe+gP0uXOw/PiMWOT7FN8RU1JA5PM8CJEYZfCu+zi 3RjyOjBaVqA/PixC4zSLCQWqGDopqTRBPs3QDMQxwSjXXl7BNi8g1CU5yybk7zLLh4q7 ahyRvK5LQldFnbio86mm7wR3dRC/t67ngLj14= X-Google-DKIM-Signature: v=1; a=rsa-sha256; c=relaxed/relaxed; d=1e100.net; s=20230601; t=1759439437; x=1760044237; h=cc:to:from:subject:message-id:date:x-gm-message-state:from:to:cc :subject:date:message-id:reply-to; bh=R05V1N79YdYghgVgLfcgOQugkVy5ze/K20hKa3G73g8=; b=b4YkW+/ih6WQB2KVR39YXgRii0uZWM6J3SIpK6xvJKAovuCBrjXuFkYsh7LduJ9YcV ckwJ+nAM0AoadfeBuMZ88fvtX6owk8rpe4IU27GSds1krBFYQNKlfWzz8u96/0sIt/wx DJdhLLAiC/NSWrfgyU3eNVMacGpAK7EdjEVDKrrGfwun4aF+gBRo0h1+r2qhHTkW/2Uk qSDq9CHQayjyKfXgcezFTHs92LQ4Dgc3lWN6RlnXSJg4MmmPjRShh8GTBla7woRWH0un w25kRxV8RYJ7NwwcBKQwdGGvwAYi1fK8aj+Ii2dNCwPE6y/p6NcV+GeJXvzm6ePn2ttK RUbQ== X-Gm-Message-State: AOJu0YzA6UYiq4dnYsQQwvwA651Q2ggSGraBaDPDAPuqBfyzr1ut/UcZ JEspJIROFJZz6TkI0SgfI3aezT7HemCS2MUUP7CTy9SsktpKerPCWLQu6r1s3ulaJtq7UuGPvpE 7d8htMH9r1HJ3LdCp+2UfZVnIyigLqX3OnepN X-Gm-Gg: ASbGncsqMbIfKt8pxEMiGwkHAAdhT9yxsMcv2ILM/heNWNoLFMuEhsJJi5FEoTp2cjJ 7LHpmn2aNg9ZBBJRhxjtrD56IHJ2oM83Ba4Ox1n7s7IzSuK36QRyGc0mmo5uk7wG2Gbg37sZNWy 1hpi11mFDrR7jEtBlfdaewZp6pvhvblnpHVabJx2VG290VxmnpfFDU7hIAK7/ehG+DZ9Johm/EB hSELqmDUUspmU7thNugKE9LGtqIcJEfV+AkKduyuurzItSNOEpTeJidDiJacsxfzpSuIPRtI84W MF/rqQwPbkixdDhHeJsjQ/yb/zmmuVS+Jv18Dk3vXczcsz/WccrMhcYME6wkcxshE7KhVk48nOS BHQ== X-Google-Smtp-Source: AGHT+IH+YWlLuPanD9FdAKecDXFIgmykAxsEkpl/L3L4z7Q/ZouaHm2Nor+JFTiiNachxLG0uBPTa74/7TLn X-Received: by 2002:a05:6e02:1447:b0:42d:80fb:7356 with SMTP id e9e14a558f8ab-42e7ad021e3mr10670015ab.6.1759439436697; Thu, 02 Oct 2025 14:10:36 -0700 (PDT) Received: from postal.iol.unh.edu (postal.iol.unh.edu. [132.177.123.84]) by smtp-relay.gmail.com with ESMTPS id 8926c6da1cb9f-57b5eb02709sm235370173.18.2025.10.02.14.10.36 (version=TLS1_2 cipher=ECDHE-ECDSA-AES128-GCM-SHA256 bits=128/128); Thu, 02 Oct 2025 14:10:36 -0700 (PDT) X-Relaying-Domain: iol.unh.edu Date: Thu, 02 Oct 2025 14:10:36 -0700 (PDT) Message-ID: <68deea4c.050a0220.1ac8bf.ea03SMTPIN_ADDED_MISSING@mx.google.com> Received: from [172.21.0.2] (unknown [172.18.0.240]) by postal.iol.unh.edu (Postfix) with ESMTP id 3F5296051830; Thu, 2 Oct 2025 17:10:36 -0400 (EDT) Subject: |SUCCESS| [GIT MASTER] b287e404643aeab5bb5db084c142789df187844e From: dpdklab@iol.unh.edu To: Test Report Cc: dpdk-test-reports@iol.unh.edu, Xueming Li , Christian Ehrhardt , Kevin Traynor , Luca Boccassi Content-Type: text/plain X-BeenThere: test-report@dpdk.org X-Mailman-Version: 2.1.29 Precedence: list List-Id: automatic DPDK test reports List-Unsubscribe: , List-Archive: List-Post: List-Help: List-Subscribe: , Errors-To: test-report-bounces@dpdk.org _Testing PASS_ Branch: tags/v24.11 b287e404643aeab5bb5db084c142789df187844e --> testing pass Upstream job id: Generic-DPDK-Compile-Meson#430427 Test environment and result as below: +------------------------------+--------------------+ | Environment | dpdk_meson_compile | +==============================+====================+ | Ubuntu 20.04 | PASS | +------------------------------+--------------------+ | Debian GNU/Linux 12 | PASS | +------------------------------+--------------------+ | Ubuntu 24.04 | PASS | +------------------------------+--------------------+ | Ubuntu 22.04 | PASS | +------------------------------+--------------------+ | CentOS Stream 10 | PASS | +------------------------------+--------------------+ | CentOS Stream 9 | PASS | +------------------------------+--------------------+ | Fedora Linux 42 | PASS | +------------------------------+--------------------+ | Red Hat Enterprise Linux 9.5 | PASS | +------------------------------+--------------------+ Ubuntu 20.04 Kernel: 5.15 Compiler: aarch64-linux-gnu-gcc gcc (Ubuntu 9.4.0-1ubuntu1~20.04.2) 9.4.0 Debian GNU/Linux 12 Kernel: 5.4 Compiler: gcc gcc (Debian 12.2.0-14+deb12u1) 12.2.0 Ubuntu 24.04 Kernel: 5.4 Compiler: gcc gcc (Ubuntu 13.3.0-6ubuntu2~24.04) 13.3.0 Ubuntu 22.04 Kernel: 5.4 Compiler: gcc gcc (Ubuntu 11.4.0-1ubuntu1~22.04) 11.4.0 CentOS Stream 10 Kernel: 5.4 Compiler: gcc gcc (GCC) 14.2.1 20250110 (Red Hat 14.2.1-8) CentOS Stream 9 Kernel: 5.4 Compiler: gcc gcc (GCC) 11.5.0 20240719 (Red Hat 11.5.0-11) Fedora Linux 42 Kernel: 5.4 Compiler: clang gcc (GCC) 15.2.1 20250808 (Red Hat 15.2.1-1) Red Hat Enterprise Linux 9.5 Kernel: 5.4 Compiler: gcc gcc (GCC) 11.5.0 20240719 (Red Hat 11.5.0-2) To view detailed results, visit: https://lab.dpdk.org/results/dashboard/tarballs/35033/ UNH-IOL DPDK Community Lab To manage your email subscriptions, visit: https://lab.dpdk.org/results/dashboard/preferences/subscriptions/