From mboxrd@z Thu Jan 1 00:00:00 1970 Return-Path: Received: from mails.dpdk.org (mails.dpdk.org [217.70.189.124]) by inbox.dpdk.org (Postfix) with ESMTP id 652A548895 for ; Thu, 2 Oct 2025 23:35:02 +0200 (CEST) Received: from mails.dpdk.org (localhost [127.0.0.1]) by mails.dpdk.org (Postfix) with ESMTP id 3FAFC40DCB; Thu, 2 Oct 2025 23:35:02 +0200 (CEST) Received: from mail-pf1-f227.google.com (mail-pf1-f227.google.com [209.85.210.227]) by mails.dpdk.org (Postfix) with ESMTP id 0FDEA40DCB for ; Thu, 2 Oct 2025 23:35:01 +0200 (CEST) Received: by mail-pf1-f227.google.com with SMTP id d2e1a72fcca58-7810289cd4bso1601112b3a.2 for ; Thu, 02 Oct 2025 14:35:00 -0700 (PDT) DKIM-Signature: v=1; a=rsa-sha256; c=relaxed/relaxed; d=iol.unh.edu; s=unh-iol; t=1759440900; x=1760045700; darn=dpdk.org; h=cc:to:from:subject:message-id:date:from:to:cc:subject:date :message-id:reply-to; bh=4mL5hOBwEBeFmRZLBkbBiZAoW3AWyeLv8Gfm9Z01QWo=; b=iKQIYP3X99TMMOIX69+lLTlnSaqZLEfA3Rsm40/A5SdWEoOVTgxpcmkgeH6zWaEAEM s8+9ySMRxJ9myrOA6si7pv/MhHdlEbsW+MWhLNWNsQzaut9eY9DtpkOxKk5kigNboRTo unO/8SCkk6v1iTJfqN/UgaGzmCeuNJgivg2NE= X-Google-DKIM-Signature: v=1; a=rsa-sha256; c=relaxed/relaxed; d=1e100.net; s=20230601; t=1759440900; x=1760045700; h=cc:to:from:subject:message-id:date:x-gm-message-state:from:to:cc :subject:date:message-id:reply-to; bh=4mL5hOBwEBeFmRZLBkbBiZAoW3AWyeLv8Gfm9Z01QWo=; b=h2RR1xVvN92a2VeMFoJBEqZIZWR8bis1yxp3kYL1WRtB0rtQ3HMbmDSjY4GFkbF1hL Qyd1Qj72IyrC8b3Hi+M0vm9CRBVOrSWTMyP1/aRNnE6JrNgaQrsYvf2WyHvzLfnRRVTg cx8W8EPUJxEBd1dqxN9ZRwU7a0jSFbwqst7NFviowNzlkuRpkxhtQAxUD7OXk8FhDeKL 1Yh5JMxR7U1evqsknODmDFYxWkBU8+M+OsQCSqWNd8gkLSqYfckPCxWJ2CvdIOufshLr wVH13XtU+SJkwFLZXTRcYtsCKzXbPwZ+YvtSKV1wGPTraMhlo91U2lKQuYTSTKILlYMV SmVQ== X-Gm-Message-State: AOJu0Yx1szdDS5fccLkURwgQJdSa1VthwRUeaB5aF+xEAaQYX7V6qv1g GckTeYhZ/Xl2Pj/90QwKIXWHuhwQPydbUrghU/4kREYDBthZ1RN5g8v+3ftqk2usxtvxkTtwiIx Bg+1CWjpL2mKs8ExFVJ8AMRSakiwfPtltYZJIdg/2yA3Fcw/tHIr2/PEFb76G X-Gm-Gg: ASbGncvOKRTuoa66VJC+UGhFA0CdyvcCz7Oru/gVaHf9TqHIjE6mpHlH0KSRBOooYFa SUc0cJot5OJx/zN/bG4jdh3lEldbEcSC1wTHV9pzHazE7QyGwy6Rnb3RXshtYTURwO+AU2041Rf xE6OvFlywESeYLC70gnGMzFwb35XhUh9EmbEdQx9p6z0ROYrUBINi+SDftZB4eNIGzfeVpSnpg8 YiCi4bRtA2bEleqYHgpXgCfJjv8IIbe70vXaRFz/yamNDE5vQMaH4IOH+28yYzI/z1EexeX+23P 5Il0QVoE3+B1xEI1avWm+UXXtckXqDNYdCXNnGBrEU1g7Jbll5UPjW0= X-Google-Smtp-Source: AGHT+IEaKVJpSFtOkk/J5WoICkrqjUoXb1v2BMq7labwWoR/UT7JkibS3VBuYJNJV+IcWqCJ0JpkG5aEM0O5 X-Received: by 2002:a05:6a00:4fd3:b0:781:8680:3175 with SMTP id d2e1a72fcca58-78c98cad8dbmr1094461b3a.21.1759440900152; Thu, 02 Oct 2025 14:35:00 -0700 (PDT) Received: from postal.iol.unh.edu (postal.iol.unh.edu. [2606:4100:3880:1234::84]) by smtp-relay.gmail.com with ESMTPS id d2e1a72fcca58-78b01f92995sm250224b3a.3.2025.10.02.14.35.00 (version=TLS1_2 cipher=ECDHE-ECDSA-AES128-GCM-SHA256 bits=128/128); Thu, 02 Oct 2025 14:35:00 -0700 (PDT) X-Relaying-Domain: iol.unh.edu Date: Thu, 02 Oct 2025 14:35:00 -0700 (PDT) Message-ID: <68def004.050a0220.1bceb6.f56fSMTPIN_ADDED_MISSING@mx.google.com> Received: from [172.21.0.2] (unknown [172.18.0.240]) by postal.iol.unh.edu (Postfix) with ESMTP id 59CE66050A61; Thu, 2 Oct 2025 17:34:59 -0400 (EDT) Subject: |SUCCESS| [GIT MASTER] 1d627ea13aeec2bcccf27246e6be2508370d171e From: dpdklab@iol.unh.edu To: Test Report Cc: dpdk-test-reports@iol.unh.edu Content-Type: text/plain X-BeenThere: test-report@dpdk.org X-Mailman-Version: 2.1.29 Precedence: list List-Id: automatic DPDK test reports List-Unsubscribe: , List-Archive: List-Post: List-Help: List-Subscribe: , Errors-To: test-report-bounces@dpdk.org _Testing PASS_ Branch: dpdk 1d627ea13aeec2bcccf27246e6be2508370d171e --> testing pass Upstream job id: Generic-DPDK-Compile-Meson#430456 Test environment and result as below: +------------------------------+--------------------+ | Environment | dpdk_meson_compile | +==============================+====================+ | CentOS Stream 10 | PASS | +------------------------------+--------------------+ | Ubuntu 20.04 | PASS | +------------------------------+--------------------+ | Ubuntu 22.04 | PASS | +------------------------------+--------------------+ | Fedora Linux 42 | PASS | +------------------------------+--------------------+ | Debian GNU/Linux 12 | PASS | +------------------------------+--------------------+ | Ubuntu 24.04 | PASS | +------------------------------+--------------------+ | CentOS Stream 9 | PASS | +------------------------------+--------------------+ | Red Hat Enterprise Linux 9.5 | PASS | +------------------------------+--------------------+ CentOS Stream 10 Kernel: 5.4 Compiler: gcc gcc (GCC) 14.2.1 20250110 (Red Hat 14.2.1-8) Ubuntu 20.04 Kernel: 5.15 Compiler: gcc gcc (Ubuntu 9.4.0-1ubuntu1~20.04.2) 9.4.0 Ubuntu 22.04 Kernel: 5.4 Compiler: gcc gcc (Ubuntu 11.4.0-1ubuntu1~22.04) 11.4.0 Fedora Linux 42 Kernel: 5.4 Compiler: gcc gcc (GCC) 15.2.1 20250808 (Red Hat 15.2.1-1) Debian GNU/Linux 12 Kernel: 5.4 Compiler: gcc gcc (Debian 12.2.0-14+deb12u1) 12.2.0 Ubuntu 24.04 Kernel: 5.4 Compiler: gcc gcc (Ubuntu 13.3.0-6ubuntu2~24.04) 13.3.0 CentOS Stream 9 Kernel: 5.4 Compiler: gcc gcc (GCC) 11.5.0 20240719 (Red Hat 11.5.0-11) Red Hat Enterprise Linux 9.5 Kernel: 5.4 Compiler: gcc gcc (GCC) 11.5.0 20240719 (Red Hat 11.5.0-2) To view detailed results, visit: https://lab.dpdk.org/results/dashboard/tarballs/35030/ UNH-IOL DPDK Community Lab To manage your email subscriptions, visit: https://lab.dpdk.org/results/dashboard/preferences/subscriptions/