From mboxrd@z Thu Jan 1 00:00:00 1970 Return-Path: Received: from mails.dpdk.org (mails.dpdk.org [217.70.189.124]) by inbox.dpdk.org (Postfix) with ESMTP id 5221848895 for ; Thu, 2 Oct 2025 23:35:13 +0200 (CEST) Received: from mails.dpdk.org (localhost [127.0.0.1]) by mails.dpdk.org (Postfix) with ESMTP id 4CC4040DCB; Thu, 2 Oct 2025 23:35:13 +0200 (CEST) Received: from mail-pl1-f227.google.com (mail-pl1-f227.google.com [209.85.214.227]) by mails.dpdk.org (Postfix) with ESMTP id 6713640DCB for ; Thu, 2 Oct 2025 23:35:12 +0200 (CEST) Received: by mail-pl1-f227.google.com with SMTP id d9443c01a7336-27ee41e0798so21861105ad.1 for ; Thu, 02 Oct 2025 14:35:12 -0700 (PDT) DKIM-Signature: v=1; a=rsa-sha256; c=relaxed/relaxed; d=iol.unh.edu; s=unh-iol; t=1759440911; x=1760045711; darn=dpdk.org; h=cc:to:from:subject:message-id:date:from:to:cc:subject:date :message-id:reply-to; bh=RFGUUrmCJ198mmQdlvsShLgrABdoTMFDEBR2jjUUdoM=; b=MloDUwWR81c50ko/arrreGh6yIpfi0nz9qPgIwBYvYGc6QMjtcy5r2VYpaTKctrnN8 j/asCrB2U4rUYY8nbHhNobMaw31sLqt5/a0SxmbRRkW6Nig9WPtirZx9kNvNaVt/agcd AHl4ygbxNKVgKr83CuqS3XkzKk4t/8CG+vaVs= X-Google-DKIM-Signature: v=1; a=rsa-sha256; c=relaxed/relaxed; d=1e100.net; s=20230601; t=1759440911; x=1760045711; h=cc:to:from:subject:message-id:date:x-gm-message-state:from:to:cc :subject:date:message-id:reply-to; bh=RFGUUrmCJ198mmQdlvsShLgrABdoTMFDEBR2jjUUdoM=; b=aJBHFT0REq2m3f9S764wZL4t4KlaCMIUlAwTkyXmcwLMmb0rIrANNdbxufztCYa1/z 9qHGjRTLWu+dpIb46dRfsOSLwwBtzKnluI5isrYcMQbi2veNS4s1CYIvvBWVRByDQZUB bb9g10440wOk/npEmTvExezTBfWzI0M8t9Z0+BphjpNDoxGlh2WgxdQM3DJ3NkZpeE4A iseAGofVBvDzDBHSx3dnLEdbQSIjdYI9JZFulLHPFjudqUB6E0xqQj7waAShOBP1LaBY WzdfcFCGTqEOxYBOy5eWCBxfFQTLfZ4NlmOBaBoxD230gMGddm/n2c8kHgBTKak2Z6qN MDtw== X-Gm-Message-State: AOJu0YxDTnhTMwuniqKVGpRm8gvTm5V0l1dHyHlQELsBmNdKvltJttVz 5/MHpulafRXyj+AahNgzFFS7lPXpC1RsxhrQIqDUi229cwJ5euU32hdWGMRGAgw3GZpCdIjkigC CJ4Qjr7mu8qE2j9THBoYSuFpge/02Mn2iats/7DAgyYfIEmQXYrunZO591t6o X-Gm-Gg: ASbGncvQE5iD8LLgnXpDd2skaH4BqsqxvZ1gVbmK6Dzih3ODRsnBbaflzICU20H2tOx HEKvxJeUKjcIEcwIWe786kKT5Y5VIx9lrfI7ekkrSamkUnv4hkLA9lp1JZ5b9azUg4FykF3n51m O6IZLO8dxRe13Byxm16WBs+bDRJ3p8CcCnyQypYOh8HiGTG5d+VTpXDbfxab6Gdqz09ZSfo4een YZJf6ZiNq0OPTkY3YsGl42WvzT3XuJJSqjI/b9ZzR3X3rOrtsNiKumMN9nF7kgVcGvajtfWbpg1 SLJptTRlm7RzERrQDNtcBoeQw6VF2GOJsbdGwJaC9bLczKWZF1eDPHs= X-Google-Smtp-Source: AGHT+IGF26V5kIsxmbqAEfGs3Rkeiq7jF3PC2VDyNK3+jXkdc2adSXnjun4H86DXGvRC5L18aGgGJQ+u6ZCI X-Received: by 2002:a17:903:8cc:b0:271:49f:eaf5 with SMTP id d9443c01a7336-28e9a656431mr6332555ad.30.1759440911326; Thu, 02 Oct 2025 14:35:11 -0700 (PDT) Received: from postal.iol.unh.edu (postal.iol.unh.edu. [2606:4100:3880:1234::84]) by smtp-relay.gmail.com with ESMTPS id d9443c01a7336-28e8d181439sm2431825ad.46.2025.10.02.14.35.11 (version=TLS1_2 cipher=ECDHE-ECDSA-AES128-GCM-SHA256 bits=128/128); Thu, 02 Oct 2025 14:35:11 -0700 (PDT) X-Relaying-Domain: iol.unh.edu Date: Thu, 02 Oct 2025 14:35:11 -0700 (PDT) Message-ID: <68def00f.170a0220.3c7cf.ee5dSMTPIN_ADDED_MISSING@mx.google.com> Received: from [172.21.0.2] (unknown [172.18.0.240]) by postal.iol.unh.edu (Postfix) with ESMTP id C92C6604D420; Thu, 2 Oct 2025 17:35:10 -0400 (EDT) Subject: |SUCCESS| [GIT MASTER] 1d627ea13aeec2bcccf27246e6be2508370d171e From: dpdklab@iol.unh.edu To: Test Report Cc: dpdk-test-reports@iol.unh.edu Content-Type: text/plain X-BeenThere: test-report@dpdk.org X-Mailman-Version: 2.1.29 Precedence: list List-Id: automatic DPDK test reports List-Unsubscribe: , List-Archive: List-Post: List-Help: List-Subscribe: , Errors-To: test-report-bounces@dpdk.org _Testing PASS_ Branch: dpdk 1d627ea13aeec2bcccf27246e6be2508370d171e --> testing pass Upstream job id: Generic-DPDK-Compile-Meson#430457 Test environment and result as below: +------------------------------+--------------------+ | Environment | dpdk_meson_compile | +==============================+====================+ | CentOS Stream 10 | PASS | +------------------------------+--------------------+ | Ubuntu 20.04 | PASS | +------------------------------+--------------------+ | Ubuntu 22.04 | PASS | +------------------------------+--------------------+ | Fedora Linux 42 | PASS | +------------------------------+--------------------+ | Debian GNU/Linux 12 | PASS | +------------------------------+--------------------+ | Ubuntu 24.04 | PASS | +------------------------------+--------------------+ | CentOS Stream 9 | PASS | +------------------------------+--------------------+ | Red Hat Enterprise Linux 9.5 | PASS | +------------------------------+--------------------+ CentOS Stream 10 Kernel: 5.4 Compiler: gcc gcc (GCC) 14.2.1 20250110 (Red Hat 14.2.1-8) Ubuntu 20.04 Kernel: 5.15 Compiler: gcc gcc (Ubuntu 9.4.0-1ubuntu1~20.04.2) 9.4.0 Ubuntu 22.04 Kernel: 5.4 Compiler: gcc gcc (Ubuntu 11.4.0-1ubuntu1~22.04) 11.4.0 Fedora Linux 42 Kernel: 5.4 Compiler: gcc gcc (GCC) 15.2.1 20250808 (Red Hat 15.2.1-1) Debian GNU/Linux 12 Kernel: 5.4 Compiler: gcc gcc (Debian 12.2.0-14+deb12u1) 12.2.0 Ubuntu 24.04 Kernel: 5.4 Compiler: gcc gcc (Ubuntu 13.3.0-6ubuntu2~24.04) 13.3.0 CentOS Stream 9 Kernel: 5.4 Compiler: gcc gcc (GCC) 11.5.0 20240719 (Red Hat 11.5.0-11) Red Hat Enterprise Linux 9.5 Kernel: 5.4 Compiler: gcc gcc (GCC) 11.5.0 20240719 (Red Hat 11.5.0-2) To view detailed results, visit: https://lab.dpdk.org/results/dashboard/tarballs/35030/ UNH-IOL DPDK Community Lab To manage your email subscriptions, visit: https://lab.dpdk.org/results/dashboard/preferences/subscriptions/