From mboxrd@z Thu Jan 1 00:00:00 1970 Return-Path: Received: from mails.dpdk.org (mails.dpdk.org [217.70.189.124]) by inbox.dpdk.org (Postfix) with ESMTP id 4C95B48895 for ; Fri, 3 Oct 2025 00:46:27 +0200 (CEST) Received: from mails.dpdk.org (localhost [127.0.0.1]) by mails.dpdk.org (Postfix) with ESMTP id 2CF8340297; Fri, 3 Oct 2025 00:46:27 +0200 (CEST) Received: from mail-pj1-f97.google.com (mail-pj1-f97.google.com [209.85.216.97]) by mails.dpdk.org (Postfix) with ESMTP id D24EF40297 for ; Fri, 3 Oct 2025 00:46:24 +0200 (CEST) Received: by mail-pj1-f97.google.com with SMTP id 98e67ed59e1d1-33082c95fd0so1765727a91.1 for ; Thu, 02 Oct 2025 15:46:24 -0700 (PDT) DKIM-Signature: v=1; a=rsa-sha256; c=relaxed/relaxed; d=iol.unh.edu; s=unh-iol; t=1759445184; x=1760049984; darn=dpdk.org; h=cc:to:from:subject:message-id:date:from:to:cc:subject:date :message-id:reply-to; bh=lRlmfXQnlFR4qtMk9C6qp1qI4dojmkX2TdLWmtgmcK0=; b=R0HTOJ1c0WxGCETOyDuzi6XO8aGvWIsCGc0Vv6XQlXWfgx5/AOjr3/PUGGB6znKhxj wIS4dCqHBffoUftU53LcsrLi4FbTTFgiHgLOYgcul3BZrPXSWIvmBjYsVjQGwS8Z2w6n gQ3TG2efhD0tJDDLNG61dPUciVNeqlmDTCbuA= X-Google-DKIM-Signature: v=1; a=rsa-sha256; c=relaxed/relaxed; d=1e100.net; s=20230601; t=1759445184; x=1760049984; h=cc:to:from:subject:message-id:date:x-gm-message-state:from:to:cc :subject:date:message-id:reply-to; bh=lRlmfXQnlFR4qtMk9C6qp1qI4dojmkX2TdLWmtgmcK0=; b=TfWyJYZ84dtz3nJSey+cxG7al6OMpAy0pSigLAZ3SGT/dzY3dgJ/xymmUmqRgtmkwI Cq27q5mPbJfT/jrv9AYa6O15YKdKuQ4qYRe67BixuplQs6nm9lfWSmBNNku82PhVD1Z3 wmz0qC8dtcHabzRkGS7yDu9biLBByvVdwqZtz4B5wo+BKgBVMhIR6kEbt5DqZ0URR1xP XXZpzQiP6mchdJgXyv3w7/21cOI2cF5rsBWEul46qwgSBxK6lCA4DunvAEs1UvtLDhC+ oy0MnpSxa5varUzkq4Opn+RAi4N6AIxGmC5db+MsLOZnneRipQxQeTXK4R8iRk/Pawmg iuGA== X-Gm-Message-State: AOJu0YyZBN/Ae53Gc2CE9jF3dEpQtj5r+hhj9h6bkFCNz96Wqn5a/JZS l/IY/sioJVkYFstJ/WqVQa5b+nbrRPcNX+aJ2t8aB0af5ZJ1e3lpu3fTUZLagqQeMAeHIrVXeaV uBO5lvlFW2pQtrKX2onjVYVxMp9sEsPm4eflns6KmG7yi5G77eHGp X-Gm-Gg: ASbGncuaEVSjKF8CnULvVJ1iRQEU/C+v34PHMJtIw9SWXav4dFVuy4b9R8dAfIE4PWN 2YCzXHgiBRO0GT8jzmxzH0VvYbPXjsXwnZ9+y3x/9mBcU8xvKdFXKXKJQFrDUD/OmRa3oKuF1Kr 5G2W8u1/eCuFHnC2u/U/8jBSxRbnzD8D474vjhtAlgLMm3C+W2BMe6yLxkZh1Dezf1Y8L2hYj9g c0KPQvNt7syqZTss77AVBaImFDgk9QAaXitOMRygj3R9IG+tlNagtzhHAZZRxwD3QggncQ+jK10 0BXysOITXcvVByHfWXKD55nVy6nLtIVR1SYBfwQrASrKbnUBZcCHRvc= X-Google-Smtp-Source: AGHT+IHpeCnVXKVUPNGpePPNwXqF8KgWnCoEBNYlVtvCGvH90xktQjUCXPoIvHgcSn0VP3oAIpmIPF9anWOX X-Received: by 2002:a17:90b:3844:b0:32e:9daa:7347 with SMTP id 98e67ed59e1d1-339c26e53cfmr1009709a91.7.1759445183980; Thu, 02 Oct 2025 15:46:23 -0700 (PDT) Received: from postal.iol.unh.edu (postal.iol.unh.edu. [2606:4100:3880:1234::84]) by smtp-relay.gmail.com with ESMTPS id 98e67ed59e1d1-339a6f6d34bsm500666a91.5.2025.10.02.15.46.23 (version=TLS1_2 cipher=ECDHE-ECDSA-AES128-GCM-SHA256 bits=128/128); Thu, 02 Oct 2025 15:46:23 -0700 (PDT) X-Relaying-Domain: iol.unh.edu Date: Thu, 02 Oct 2025 15:46:23 -0700 (PDT) Message-ID: <68df00bf.170a0220.c9dd8.dc4eSMTPIN_ADDED_MISSING@mx.google.com> Received: from [172.21.0.2] (unknown [172.18.0.240]) by postal.iol.unh.edu (Postfix) with ESMTP id 307A760003EA; Thu, 2 Oct 2025 18:46:23 -0400 (EDT) Subject: |SUCCESS| [GIT MASTER] b287e404643aeab5bb5db084c142789df187844e From: dpdklab@iol.unh.edu To: Test Report Cc: dpdk-test-reports@iol.unh.edu, Xueming Li , Christian Ehrhardt , Kevin Traynor , Luca Boccassi Content-Type: text/plain X-BeenThere: test-report@dpdk.org X-Mailman-Version: 2.1.29 Precedence: list List-Id: automatic DPDK test reports List-Unsubscribe: , List-Archive: List-Post: List-Help: List-Subscribe: , Errors-To: test-report-bounces@dpdk.org _Testing PASS_ Branch: tags/v24.11 b287e404643aeab5bb5db084c142789df187844e --> testing pass Upstream job id: Generic-DPDK-Compile-Meson#430473 Test environment and result as below: +------------------------------+--------------------+ | Environment | dpdk_meson_compile | +==============================+====================+ | Red Hat Enterprise Linux 9.5 | PASS | +------------------------------+--------------------+ | Ubuntu 20.04 | PASS | +------------------------------+--------------------+ | Ubuntu 24.04 | PASS | +------------------------------+--------------------+ | Debian GNU/Linux 12 | PASS | +------------------------------+--------------------+ | Fedora Linux 42 | PASS | +------------------------------+--------------------+ | CentOS Stream 9 | PASS | +------------------------------+--------------------+ | Ubuntu 22.04 | PASS | +------------------------------+--------------------+ | CentOS Stream 10 | PASS | +------------------------------+--------------------+ Red Hat Enterprise Linux 9.5 Kernel: 5.4 Compiler: gcc gcc (GCC) 11.5.0 20240719 (Red Hat 11.5.0-2) Ubuntu 20.04 Kernel: 5.15 Compiler: aarch64-linux-gnu-gcc gcc (Ubuntu 9.4.0-1ubuntu1~20.04.2) 9.4.0 Ubuntu 24.04 Kernel: 5.4 Compiler: gcc gcc (Ubuntu 13.3.0-6ubuntu2~24.04) 13.3.0 Debian GNU/Linux 12 Kernel: 5.4 Compiler: gcc gcc (Debian 12.2.0-14+deb12u1) 12.2.0 Fedora Linux 42 Kernel: 5.4 Compiler: gcc gcc (GCC) 15.2.1 20250808 (Red Hat 15.2.1-1) CentOS Stream 9 Kernel: 5.4 Compiler: gcc gcc (GCC) 11.5.0 20240719 (Red Hat 11.5.0-11) Ubuntu 22.04 Kernel: 5.4 Compiler: gcc gcc (Ubuntu 11.4.0-1ubuntu1~22.04) 11.4.0 CentOS Stream 10 Kernel: 5.4 Compiler: gcc gcc (GCC) 14.2.1 20250110 (Red Hat 14.2.1-8) To view detailed results, visit: https://lab.dpdk.org/results/dashboard/tarballs/35028/ UNH-IOL DPDK Community Lab To manage your email subscriptions, visit: https://lab.dpdk.org/results/dashboard/preferences/subscriptions/