From mboxrd@z Thu Jan 1 00:00:00 1970 Return-Path: Received: from mails.dpdk.org (mails.dpdk.org [217.70.189.124]) by inbox.dpdk.org (Postfix) with ESMTP id DB72348896 for ; Fri, 3 Oct 2025 02:15:42 +0200 (CEST) Received: from mails.dpdk.org (localhost [127.0.0.1]) by mails.dpdk.org (Postfix) with ESMTP id BB98D4026F; Fri, 3 Oct 2025 02:15:42 +0200 (CEST) Received: from mail-pl1-f228.google.com (mail-pl1-f228.google.com [209.85.214.228]) by mails.dpdk.org (Postfix) with ESMTP id B6B134026F for ; Fri, 3 Oct 2025 02:15:41 +0200 (CEST) Received: by mail-pl1-f228.google.com with SMTP id d9443c01a7336-28e8c5d64d8so15094215ad.1 for ; Thu, 02 Oct 2025 17:15:41 -0700 (PDT) DKIM-Signature: v=1; a=rsa-sha256; c=relaxed/relaxed; d=iol.unh.edu; s=unh-iol; t=1759450541; x=1760055341; darn=dpdk.org; h=cc:to:from:subject:message-id:date:from:to:cc:subject:date :message-id:reply-to; bh=15Gy4lyapCFwfFYn/qeSOY5iBTGd0eN5U130Rp3Ws3Q=; b=NVw9boHBGzbynaYxYeyad/szYfeAGBnYKq9QUxXy0WGfYiMmEVB72uBZdVRPiTE9Zw 5UwwoecTAeziwb/zvtCauvw2l+zER1oVkWy/NNqgEwEux1JWefvPpvOWYHksIvpvPYMh fCsMErQG617q8CbBdkrYNy/dqyVakVBw09u7Y= X-Google-DKIM-Signature: v=1; a=rsa-sha256; c=relaxed/relaxed; d=1e100.net; s=20230601; t=1759450541; x=1760055341; h=cc:to:from:subject:message-id:date:x-gm-message-state:from:to:cc :subject:date:message-id:reply-to; bh=15Gy4lyapCFwfFYn/qeSOY5iBTGd0eN5U130Rp3Ws3Q=; b=mKabYXrQ/DP9mfeaqtUaO2FlgAmAtVORWw6baE1SQPGFo4BvQPduf6FrSAbuaQqi/Z 2qVe/2YKIOKPGIQSKEr6coFdVSAOfj9memSgI1z4xEz4ZYG8PW99hx5wJ66MC1XUtGlg qywz/lqvFgfGHxVWsZz4OBDs34AiaoGUwCMjp394KzhjC/TNSWgvjIuHZ+cpqq2OXw4C wdbHO3CPjFlVmAANFlMXQi9NjowibldT9FK97TLtEivbewTP+/bXvvvjTFnDFbqOvCzH yshQ5N2JuippuGyDGSIKr14IFCcUXPfX7G4+o2V11oTE5YtTtyJUXNw9kKznJh9OY1h5 nKPA== X-Gm-Message-State: AOJu0YzTOwzTvdpBBIZ0b7uYFZq52OzQpD3ckdUgEreyl/EgZwLZviy/ yH+Kww8xtSGKr/QVg8F2ud4hNrxi4AN8B8VLLEx+p4KnBry2BU7SS6FfeQ8MwCZzTQxQ69XnFD/ 0/27DmYrLtduDWHlA3RV6hKUKYN/DHft4zmvGadcMK9RmAVHzXy1j X-Gm-Gg: ASbGnctW9nDyDnMtJhD6A9Wvf+BhzuXLb6TcGse2UZ+OXWw483ETfaVQFvCpzzWBxwL Xe8VpIxBi3Hix1uH9Y0Z/iYwFJDQu4/A4tpelfJQsjpNUle7VZlzAUVYZxdJfoAJ9RaDctU+Yy2 Axz8UPx0whAmlpuzWHG+ausJWF7OOZm+RyDOS4hxBcuMdWJRbNb+52t/iaBJXvLM0Oy4zknMGBs 869Su8tCDJKg7W1oRU/SA75xlyHieKLKXjigywxEzJWWdEFQf4M+17VNFfY+jf79OXtVk8+lmWV GKgl5kSSHitu4CfpINPmnHeODQcsGJrR50oIzVM6+TDspEk7fX/j620= X-Google-Smtp-Source: AGHT+IG59YziJpbhZZ18pQlZwN+oa+umrU88gJKc+Aa+JXC0IXALZpaOd8g/jM8UqE660+rSQHRfON//W+T3 X-Received: by 2002:a17:902:f68c:b0:25c:b1d6:c41a with SMTP id d9443c01a7336-28e9a513489mr11845605ad.11.1759450540708; Thu, 02 Oct 2025 17:15:40 -0700 (PDT) Received: from postal.iol.unh.edu (postal.iol.unh.edu. [2606:4100:3880:1234::84]) by smtp-relay.gmail.com with ESMTPS id d9443c01a7336-28e8d10878csm2488055ad.12.2025.10.02.17.15.40 (version=TLS1_2 cipher=ECDHE-ECDSA-AES128-GCM-SHA256 bits=128/128); Thu, 02 Oct 2025 17:15:40 -0700 (PDT) X-Relaying-Domain: iol.unh.edu Date: Thu, 02 Oct 2025 17:15:40 -0700 (PDT) Message-ID: <68df15ac.170a0220.282471.f4b3SMTPIN_ADDED_MISSING@mx.google.com> Received: from [172.21.0.2] (unknown [172.18.0.240]) by postal.iol.unh.edu (Postfix) with ESMTP id 29EF56051830; Thu, 2 Oct 2025 20:15:40 -0400 (EDT) Subject: |SUCCESS| [GIT MASTER] 3b43ce3f4a54468e7ef65760c2fd7b4d6ee6d9fc From: dpdklab@iol.unh.edu To: Test Report Cc: dpdk-test-reports@iol.unh.edu, Xueming Li , Christian Ehrhardt , Kevin Traynor , Luca Boccassi Content-Type: text/plain X-BeenThere: test-report@dpdk.org X-Mailman-Version: 2.1.29 Precedence: list List-Id: automatic DPDK test reports List-Unsubscribe: , List-Archive: List-Post: List-Help: List-Subscribe: , Errors-To: test-report-bounces@dpdk.org _Testing PASS_ Branch: tags/v22.11 3b43ce3f4a54468e7ef65760c2fd7b4d6ee6d9fc --> testing pass Upstream job id: Generic-DPDK-Compile-Meson#430442 Test environment and result as below: +------------------------------+--------------------+ | Environment | dpdk_meson_compile | +==============================+====================+ | Fedora Linux 42 | PASS | +------------------------------+--------------------+ | Ubuntu 22.04 | PASS | +------------------------------+--------------------+ | Ubuntu 20.04 | PASS | +------------------------------+--------------------+ | Red Hat Enterprise Linux 9.5 | PASS | +------------------------------+--------------------+ | Debian GNU/Linux 12 | PASS | +------------------------------+--------------------+ | CentOS Stream 10 | PASS | +------------------------------+--------------------+ | CentOS Stream 9 | PASS | +------------------------------+--------------------+ | Ubuntu 24.04 | PASS | +------------------------------+--------------------+ Fedora Linux 42 Kernel: 5.4 Compiler: clang gcc (GCC) 15.2.1 20250808 (Red Hat 15.2.1-1) Ubuntu 22.04 Kernel: 5.4 Compiler: gcc gcc (Ubuntu 11.4.0-1ubuntu1~22.04) 11.4.0 Ubuntu 20.04 Kernel: 5.4 Compiler: gcc gcc (Ubuntu 9.4.0-1ubuntu1~20.04.2) 9.4.0 Red Hat Enterprise Linux 9.5 Kernel: 5.4 Compiler: gcc gcc (GCC) 11.5.0 20240719 (Red Hat 11.5.0-2) Debian GNU/Linux 12 Kernel: 5.4 Compiler: gcc gcc (Debian 12.2.0-14+deb12u1) 12.2.0 CentOS Stream 10 Kernel: 5.4 Compiler: gcc gcc (GCC) 14.2.1 20250110 (Red Hat 14.2.1-8) CentOS Stream 9 Kernel: 5.4 Compiler: gcc gcc (GCC) 11.5.0 20240719 (Red Hat 11.5.0-11) Ubuntu 24.04 Kernel: 5.4 Compiler: gcc gcc (Ubuntu 13.3.0-6ubuntu2~24.04) 13.3.0 To view detailed results, visit: https://lab.dpdk.org/results/dashboard/tarballs/35031/ UNH-IOL DPDK Community Lab To manage your email subscriptions, visit: https://lab.dpdk.org/results/dashboard/preferences/subscriptions/