From mboxrd@z Thu Jan 1 00:00:00 1970 Return-Path: Received: from mails.dpdk.org (mails.dpdk.org [217.70.189.124]) by inbox.dpdk.org (Postfix) with ESMTP id 7C16048896 for ; Fri, 3 Oct 2025 03:12:39 +0200 (CEST) Received: from mails.dpdk.org (localhost [127.0.0.1]) by mails.dpdk.org (Postfix) with ESMTP id 4947E402C4; Fri, 3 Oct 2025 03:12:39 +0200 (CEST) Received: from mail-pg1-f226.google.com (mail-pg1-f226.google.com [209.85.215.226]) by mails.dpdk.org (Postfix) with ESMTP id 097F3402C4 for ; Fri, 3 Oct 2025 03:12:38 +0200 (CEST) Received: by mail-pg1-f226.google.com with SMTP id 41be03b00d2f7-b5f2c1a7e48so1230130a12.0 for ; Thu, 02 Oct 2025 18:12:37 -0700 (PDT) DKIM-Signature: v=1; a=rsa-sha256; c=relaxed/relaxed; d=iol.unh.edu; s=unh-iol; t=1759453957; x=1760058757; darn=dpdk.org; h=cc:to:from:subject:message-id:date:from:to:cc:subject:date :message-id:reply-to; bh=3nFSdI+h7nBOvT1sM1PviB0kw9MncV/2LW+EVoSSNs0=; b=I42EIGr/zHtXfd9B7xWcdQWGKCNIvosujLWbHIcD5FKv/I82y3CBzMyA78CEjNAcT3 +cT50uQJwfo+PaEZCMJyNRPzJKmtRRh/5lYUROW/SzyQB9DIl7AkWgx0zpNGQIntSbWD 4cn51FVsmZ7g4jfxOIt0shA/ndqHX1Q0oC/pk= X-Google-DKIM-Signature: v=1; a=rsa-sha256; c=relaxed/relaxed; d=1e100.net; s=20230601; t=1759453957; x=1760058757; h=cc:to:from:subject:message-id:date:x-gm-message-state:from:to:cc :subject:date:message-id:reply-to; bh=3nFSdI+h7nBOvT1sM1PviB0kw9MncV/2LW+EVoSSNs0=; b=RsNPNwYS7nVPjSAmra/2+qVmEL2JUt7vjru31otc2EQbl/GZwSkFDmvsUe6NlDiC64 6KxefJDHwCXcM+2X5cvDWdsppfkhncHQiCp9YRvhFVgLpoVZFEYsAJjvjaSftVNbU1cs A9Oac7tyxTyS/AymizITqTBoOu6Nygb2QRN7RSx2nrSHt4ZUwtnU9JlTETdLnnq8fgan cs+5RSP7ZZOUcFNwW1z7zm4TWtsOAQdalpuzpPwvWIKqddcuG2vrI18QD7xSc7smFTtF sWm2CY5E9IANttHkaZUDkF4kYCy0JP+jtdmRtX92FwK4UAtMSQb0JITbFlumeyc3idbn +/qQ== X-Gm-Message-State: AOJu0Yww5w+YjHlJ72qoxRDeWpe6bjIJOvMzS+iZgwkRAT3Fctjr5Lzf E1GxtpGZhjkpiouZp4nvxJtu0o6btuRqKak565GfRFfzqY9nSGPEQOf1AzxOd1U8gE+DbkEtCNm 6kCYjCJunU4HvgtvrX6wNb+dRRPh8u4srrLwx X-Gm-Gg: ASbGncvFLXJGQt/PmcLXqWkXqMUpJS4JzbkkfiUr2oqMu+PnoWlFe/sz1kueKQpNaNO Vmh4kjEGkfJVlJTOHN6t9wLRIGlakVRJla4NUgthSAu1jLNnLUzIBy42N7361fdYQ+pOLZ7TFa0 jbyhpe3RO3R3XzMJkKAUr0ySMGwr31Bwu+euJoRtqYleV7YJ+h/0jMTk6cQxLxI/WcMsF+tsQKX J5M6S5beIw6YA5zRzbztLtMiDDAS9nz/OQlOIfvvskMZSIj8f5kV2zrVVPJ4aAicg/9llVxgVfc WwrfnRnNO8SCT43mKmlE7e7q9JIY4uqvyEwJkY8wdNX1xanb41FRGH1yZBsfliTmmRd1YSzgEUX qZw== X-Google-Smtp-Source: AGHT+IEBuV+ygWBI7alhtrXzYmduF5jrfVNuYXVxqBwRwH4iV8G7dqhioZJ9R6SIxITczW5TXCycndhjeKEl X-Received: by 2002:a17:903:ac3:b0:267:f121:6a88 with SMTP id d9443c01a7336-28e9a6dc287mr12840305ad.42.1759453957012; Thu, 02 Oct 2025 18:12:37 -0700 (PDT) Received: from postal.iol.unh.edu (postal.iol.unh.edu. [132.177.123.84]) by smtp-relay.gmail.com with ESMTPS id d9443c01a7336-28e8d108405sm2779825ad.5.2025.10.02.18.12.36 (version=TLS1_2 cipher=ECDHE-ECDSA-AES128-GCM-SHA256 bits=128/128); Thu, 02 Oct 2025 18:12:37 -0700 (PDT) X-Relaying-Domain: iol.unh.edu Date: Thu, 02 Oct 2025 18:12:37 -0700 (PDT) Message-ID: <68df2305.170a0220.389ad4.178fSMTPIN_ADDED_MISSING@mx.google.com> Received: from [172.21.0.2] (unknown [172.18.0.240]) by postal.iol.unh.edu (Postfix) with ESMTP id 6CD166051830; Thu, 2 Oct 2025 21:12:36 -0400 (EDT) Subject: |SUCCESS| [GIT MASTER] 3b43ce3f4a54468e7ef65760c2fd7b4d6ee6d9fc From: dpdklab@iol.unh.edu To: Test Report Cc: dpdk-test-reports@iol.unh.edu, Xueming Li , Christian Ehrhardt , Kevin Traynor , Luca Boccassi Content-Type: text/plain X-BeenThere: test-report@dpdk.org X-Mailman-Version: 2.1.29 Precedence: list List-Id: automatic DPDK test reports List-Unsubscribe: , List-Archive: List-Post: List-Help: List-Subscribe: , Errors-To: test-report-bounces@dpdk.org _Testing PASS_ Branch: tags/v22.11 3b43ce3f4a54468e7ef65760c2fd7b4d6ee6d9fc --> testing pass Upstream job id: Generic-Unit-Test-DPDK#377784 Test environment and result as below: +-----------------+---------------------------+------------------------------+--------------+----------------+ | Environment | cryptodev_sw_zuc_autotest | cryptodev_sw_snow3g_autotest | lpm_autotest | dpdk_unit_test | +=================+===========================+==============================+==============+================+ | Debian 12 (arm) | PASS | PASS | SKIPPED | SKIPPED | +-----------------+---------------------------+------------------------------+--------------+----------------+ | Ubuntu 20.04 | SKIPPED | SKIPPED | PASS | SKIPPED | +-----------------+---------------------------+------------------------------+--------------+----------------+ | Ubuntu 22.04 | SKIPPED | SKIPPED | SKIPPED | PASS | +-----------------+---------------------------+------------------------------+--------------+----------------+ Debian 12 (arm) Kernel: Depends on container host Compiler: gcc (Debian 12.2.0-14) 12.2.0 Ubuntu 20.04 Kernel: 5.4 Compiler: gcc gcc (Ubuntu 9.4.0-1ubuntu1~20.04.2) 9.4.0 Ubuntu 22.04 Kernel: 5.15 Compiler: gcc gcc (Ubuntu 11.4.0-1ubuntu1~22.04.2) 11.4.0 To view detailed results, visit: https://lab.dpdk.org/results/dashboard/tarballs/35082/ UNH-IOL DPDK Community Lab To manage your email subscriptions, visit: https://lab.dpdk.org/results/dashboard/preferences/subscriptions/