From mboxrd@z Thu Jan 1 00:00:00 1970 Return-Path: Received: from mails.dpdk.org (mails.dpdk.org [217.70.189.124]) by inbox.dpdk.org (Postfix) with ESMTP id 09CC848897 for ; Fri, 3 Oct 2025 04:06:09 +0200 (CEST) Received: from mails.dpdk.org (localhost [127.0.0.1]) by mails.dpdk.org (Postfix) with ESMTP id DD765402A7; Fri, 3 Oct 2025 04:06:08 +0200 (CEST) Received: from mail-pl1-f226.google.com (mail-pl1-f226.google.com [209.85.214.226]) by mails.dpdk.org (Postfix) with ESMTP id 3943D402A7 for ; Fri, 3 Oct 2025 04:06:07 +0200 (CEST) Received: by mail-pl1-f226.google.com with SMTP id d9443c01a7336-26c209802c0so16538375ad.0 for ; Thu, 02 Oct 2025 19:06:07 -0700 (PDT) DKIM-Signature: v=1; a=rsa-sha256; c=relaxed/relaxed; d=iol.unh.edu; s=unh-iol; t=1759457166; x=1760061966; darn=dpdk.org; h=references:in-reply-to:cc:to:from:subject:message-id:date:from:to :cc:subject:date:message-id:reply-to; bh=EsIUDzglucrE6gQWHxc/odH5wzjYw+8FU2ENbbmtU0M=; b=ZH4Jv/oS1NY085h+YsvRw74GVrsmygT/P5BVlofu0zI72/eqHafiaXX9nY44jfGJ3+ b+3gnYhUpcjGvxCCfD08ujZMgSYFYAnNJcaCr0W1eEsXgzN3IE5zdTO3GfS1/UChunH7 srVsgenzAIiz68vxNJT/rWe1xu8R/I7CMadTY= X-Google-DKIM-Signature: v=1; a=rsa-sha256; c=relaxed/relaxed; d=1e100.net; s=20230601; t=1759457166; x=1760061966; h=references:in-reply-to:cc:to:from:subject:message-id:date :x-gm-message-state:from:to:cc:subject:date:message-id:reply-to; bh=EsIUDzglucrE6gQWHxc/odH5wzjYw+8FU2ENbbmtU0M=; b=ot5mu2N2lfou6fDIH9Q7NwYl4hoMohcoQFkwkkndqzrKA+IHkF72FvaLwkj/VfdzIC eQAO44CjDkloEEoap9P5YR+P6qXQEY0CbiHx2x48NgOB6PWsxIndIzh0bjpLrgDpymc5 K0S8ybGlQ6o6zFbKFOy0gFAJ2mtXN0Xj0lYAEagSsB7KJQmn3WHiAoK7KTEh8OLtdSyi FtojuV3mFnDMkBze4YL2X9kESI7K8kBgW49j0JUBXGf4+7fr2MuWhDfh7loZbnr23r5d +qPuGJ1MScCugfTP3cYxrBFvgZ/xGANEitxE0/diDQpYSSG5xvQHm12kUDPhGatk2sdz Taaw== X-Gm-Message-State: AOJu0YzBQFrp/d8NXrifON/PGOr9uIzF1M+uk0IIe9Ho4YF05gwHsZMW DAW2SRuvmdn/h9Gvz1Dh1zn0onTFyiHYT9I73zTnf8ofNnKaIRQjYfdm59RdDg068bUZBcf9bbC Aup0MUQsOtayIlioFZuLPVAgsP9slLq036fBEUTtdjlAF X-Gm-Gg: ASbGnctaNDmavhFqSWN/VvPUcquA3R/XDISQJCaYuwack2+JxLz0EUuWebuKPLoG50w WmLIYoGv9Vfs+iqAfaDQyEIqpyBWVoL8KzLTmigLF+qB6ZHrKC5rIfNYxKGGBJyTja+YSWbJh7q Cjfb/v8lsNqKt3g5oP906EeTPkZ8mTSsWJpY2sS5vKqKBDnFUDY+RhNEtqT00kbEer2QCn0PHz5 MReYcjfYaA/258yWEh8Xq5ovWLducMOwqve/4JvbcX2wXWlEtVxNRoe2uvhpurBfH1nCraIEV3m 5GbsAc+S8cmOfYn5KuJg43jZUYNTCbI/ympdr+es0HAbWqxs8pZjcP5CrMg7hPipXq0fYihdnc1 FgA== X-Google-Smtp-Source: AGHT+IE4eguYVDO5yDmH4tGyzV0WZLMgBjOhZfF6GNzCY5U/YIDKsXGTdi227NwGjZcQADajJE8AaeiKh5Mz X-Received: by 2002:a17:902:d4c8:b0:248:a642:eec6 with SMTP id d9443c01a7336-28e9a67bf38mr13104215ad.50.1759457166160; Thu, 02 Oct 2025 19:06:06 -0700 (PDT) Received: from postal.iol.unh.edu (postal.iol.unh.edu. [132.177.123.84]) by smtp-relay.gmail.com with ESMTPS id d9443c01a7336-28e8d108429sm2430015ad.15.2025.10.02.19.06.06 (version=TLS1_2 cipher=ECDHE-ECDSA-AES128-GCM-SHA256 bits=128/128); Thu, 02 Oct 2025 19:06:06 -0700 (PDT) X-Relaying-Domain: iol.unh.edu Date: Thu, 02 Oct 2025 19:06:06 -0700 (PDT) Message-ID: <68df2f8e.170a0220.272a5b.f5c5SMTPIN_ADDED_MISSING@mx.google.com> Received: from [172.21.0.3] (unknown [172.18.0.240]) by postal.iol.unh.edu (Postfix) with ESMTP id 601566051830; Thu, 2 Oct 2025 22:06:05 -0400 (EDT) Subject: |SUCCESS| pw157151-157155 [PATCH] [v3,5/5] usertools/mbuf: parse mbu From: dpdklab@iol.unh.edu To: Test Report Cc: dpdk-test-reports@iol.unh.edu In-Reply-To: <20250930233828.3999565-6-thomas@monjalon.net> References: <20250930233828.3999565-6-thomas@monjalon.net> Content-Type: text/plain X-BeenThere: test-report@dpdk.org X-Mailman-Version: 2.1.29 Precedence: list List-Id: automatic DPDK test reports List-Unsubscribe: , List-Archive: List-Post: List-Help: List-Subscribe: , Errors-To: test-report-bounces@dpdk.org Test-Label: iol-compile-amd64-testing Test-Status: SUCCESS http://dpdk.org/patch/157155 _Testing PASS_ Submitter: Thomas Monjalon Date: Tuesday, September 30 2025 23:25:06 DPDK git baseline: Repo:dpdk Branch: master CommitID:f3878b615e69a12087a6c5d212723478cfc79c31 157151-157155 --> testing pass Upstream job id: Generic-DPDK-Compile-Meson#430523 Test environment and result as below: +-------------------------------+--------------------+-------------------------+-------------------+----------------------+-------------------+------------------+ | Environment | dpdk_meson_compile | dpdk_llvm_clang_compile | dpdk_msvc_compile | dpdk_mingw64_compile | dpdk_compile_spdk | dpdk_compile_ovs | +===============================+====================+=========================+===================+======================+===================+==================+ | Ubuntu 20.04 | PASS | SKIPPED | SKIPPED | SKIPPED | SKIPPED | SKIPPED | +-------------------------------+--------------------+-------------------------+-------------------+----------------------+-------------------+------------------+ | FreeBSD 14.2 | PASS | SKIPPED | SKIPPED | SKIPPED | SKIPPED | SKIPPED | +-------------------------------+--------------------+-------------------------+-------------------+----------------------+-------------------+------------------+ | Red Hat Enterprise Linux 9.5 | PASS | SKIPPED | SKIPPED | SKIPPED | SKIPPED | SKIPPED | +-------------------------------+--------------------+-------------------------+-------------------+----------------------+-------------------+------------------+ | Alpine Linux 3.22.0 | PASS | SKIPPED | SKIPPED | SKIPPED | SKIPPED | SKIPPED | +-------------------------------+--------------------+-------------------------+-------------------+----------------------+-------------------+------------------+ | Ubuntu 22.04 | PASS | SKIPPED | SKIPPED | SKIPPED | PASS | SKIPPED | +-------------------------------+--------------------+-------------------------+-------------------+----------------------+-------------------+------------------+ | CentOS Stream 9 | PASS | SKIPPED | SKIPPED | SKIPPED | PASS | SKIPPED | +-------------------------------+--------------------+-------------------------+-------------------+----------------------+-------------------+------------------+ | Ubuntu 24.04 | PASS | SKIPPED | SKIPPED | SKIPPED | PASS | PASS | +-------------------------------+--------------------+-------------------------+-------------------+----------------------+-------------------+------------------+ | Red Hat Enterprise Linux 8.10 | PASS | SKIPPED | SKIPPED | SKIPPED | SKIPPED | SKIPPED | +-------------------------------+--------------------+-------------------------+-------------------+----------------------+-------------------+------------------+ | Fedora Linux 42 | PASS | SKIPPED | SKIPPED | SKIPPED | PASS | PASS | +-------------------------------+--------------------+-------------------------+-------------------+----------------------+-------------------+------------------+ | Windows Server 2022 | SKIPPED | PASS | PASS | PASS | SKIPPED | SKIPPED | +-------------------------------+--------------------+-------------------------+-------------------+----------------------+-------------------+------------------+ Ubuntu 20.04 Kernel: 4.19 Compiler: gcc gcc (Ubuntu 9.4.0-1ubuntu1~20.04.2) 9.4.0 FreeBSD 14.2 Kernel: 14.2-RELEASE Compiler: clang 18.1.6 Red Hat Enterprise Linux 9.5 Kernel: 5.15 Compiler: gcc gcc (GCC) 11.5.0 20240719 (Red Hat 11.5.0-2) Alpine Linux 3.22.0 Kernel: 5.15 Compiler: gcc gcc (Alpine 14.2.0) 14.2.0 Ubuntu 22.04 Kernel: 5.15 Compiler: gcc gcc (Ubuntu 11.4.0-1ubuntu1~22.04) 11.4.0 CentOS Stream 9 Kernel: 5.15 Compiler: gcc gcc (GCC) 11.5.0 20240719 (Red Hat 11.5.0-11) Ubuntu 24.04 Kernel: 5.15 Compiler: gcc gcc (Ubuntu 13.3.0-6ubuntu2~24.04) 13.3.0 Red Hat Enterprise Linux 8.10 Kernel: 5.15 Compiler: gcc gcc (GCC) 8.5.0 20210514 (Red Hat 8.5.0-22) Fedora Linux 42 Kernel: 5.15 Compiler: clang gcc (GCC) 15.2.1 20250808 (Red Hat 15.2.1-1) Windows Server 2022 Kernel: 10.0.20348.2031 Compiler: clang 15.0.7, gcc 14.1.0 (MinGW), and MSVC VS 19.39.33521 To view detailed results, visit: https://lab.dpdk.org/results/dashboard/patchsets/34187/ UNH-IOL DPDK Community Lab To manage your email subscriptions, visit: https://lab.dpdk.org/results/dashboard/preferences/subscriptions/