From mboxrd@z Thu Jan 1 00:00:00 1970 Return-Path: Received: from mails.dpdk.org (mails.dpdk.org [217.70.189.124]) by inbox.dpdk.org (Postfix) with ESMTP id 141CF48897 for ; Fri, 3 Oct 2025 04:06:38 +0200 (CEST) Received: from mails.dpdk.org (localhost [127.0.0.1]) by mails.dpdk.org (Postfix) with ESMTP id 104BE402A7; Fri, 3 Oct 2025 04:06:38 +0200 (CEST) Received: from mail-oa1-f99.google.com (mail-oa1-f99.google.com [209.85.160.99]) by mails.dpdk.org (Postfix) with ESMTP id 738AD402A7 for ; Fri, 3 Oct 2025 04:06:36 +0200 (CEST) Received: by mail-oa1-f99.google.com with SMTP id 586e51a60fabf-3af5fccaef2so605886fac.1 for ; Thu, 02 Oct 2025 19:06:36 -0700 (PDT) DKIM-Signature: v=1; a=rsa-sha256; c=relaxed/relaxed; d=iol.unh.edu; s=unh-iol; t=1759457195; x=1760061995; darn=dpdk.org; h=cc:to:from:subject:message-id:date:from:to:cc:subject:date :message-id:reply-to; bh=HCx0XTNqC8vWHAA62ySaG7ads70kvLyaZ7GTU8/DG38=; b=Fs4T6eU8u+pnUhIo5sWauTYh3JzKfRBt6kAPZhd3hwtzrwDxAwdgNb5pRLs69Jf0N1 IM2YT330LBG3E+K+1WMIdq/OJXv6Pp2HX2dv4RW/9rctk8fG7INjqLSH3MhzCNNtqoQB Om5UfXii+dLal7AbOG2t4jdAzZga8cksoE39s= X-Google-DKIM-Signature: v=1; a=rsa-sha256; c=relaxed/relaxed; d=1e100.net; s=20230601; t=1759457195; x=1760061995; h=cc:to:from:subject:message-id:date:x-gm-message-state:from:to:cc :subject:date:message-id:reply-to; bh=HCx0XTNqC8vWHAA62ySaG7ads70kvLyaZ7GTU8/DG38=; b=WE7crtOZ/Mf007z8uODUFKpcbUGXqZ37FuLtv5MpJm3aeKILHrvBH0rD6G+J/WvpRo yZOPejmj5E9i4t5Yf924zUOEWkpdbjUERrZB6FvRlmF3j3qlBnHl2EinaR5G5lxW2WwC yIeAr5dTmV24CH+go/C73XPAdvEcy0ZmKNnx2Pu6yOCA90MUUrdBlFlyI2+46uwgBfah t27xdmqeC1Jx91YRGb5FhUCrejXzDnUuqfcrHSxDpsoCiY5w8Rp1R99kuH+u4PnIcxWL 5Es6bq7AHxpxSQ4ozQyouGtdaseldMd2gPNEDQpPvS3Gkvzcp9DcpXV/vK2sxgIhDdcm Gl5Q== X-Gm-Message-State: AOJu0YxrLgnpldpfy8jmu22QUMoxqdkp096bAWm3U20kIb+4mTfwb8Ud Ma5GvwcFZbl50NGpHb8shFfNjSw8kN6gc1A5Yurmf0wSmIGfVCTOKuGHjDxPN0ZmnuYAKUZTvnh d9VF2bJiJck5ed+5Uh/1CNXsDCGk2TaGV/IxjuwaWj6NO X-Gm-Gg: ASbGncvHld96CMRMErzxw1ihQiPoTorsBF69b4mzvMVQvzEqb3ETa2yMu9ZLTj2Ai2+ IyAlIHKkrsWz1DgpIeMkMv/II1V+3AU6VP5FU2jrR236jpIp+v//N4AqJNVoQwns4bIYQ6OJS/z vA+qSTWXbifH+EcMhZvulK/0kv9AkTvl+4cJwr1Nw3xUYdcD6CvkV46DiouqY5VOaiPdrJfXe/d pkEOGnb5KbJRHSd+gPOa377F2e4f0ItgZGt2pwODlfXd+qJS348dJ7BjogGglRXafcP4Z9Vi8eZ hCy9HYr2IyV9XLGrZ+tnOd0OloZJ0IIfKLzR4VxRZMHDCMw+cyOhVszOVQ4DRO89pjn6+cYHe1B nyw== X-Google-Smtp-Source: AGHT+IGdFMbEseuAuataoek2AQiFLm1ba49UFpC1ddTZl3L8W/ajA3RLhos/YK1KAGtM8YV7M0RFGFU746w+ X-Received: by 2002:a05:6870:7993:b0:33d:c5bc:1a05 with SMTP id 586e51a60fabf-3abbf3b1beamr3472356fac.10.1759457195677; Thu, 02 Oct 2025 19:06:35 -0700 (PDT) Received: from postal.iol.unh.edu (postal.iol.unh.edu. [132.177.123.84]) by smtp-relay.gmail.com with ESMTPS id 586e51a60fabf-3ab94da2c0fsm289647fac.21.2025.10.02.19.06.35 (version=TLS1_2 cipher=ECDHE-ECDSA-AES128-GCM-SHA256 bits=128/128); Thu, 02 Oct 2025 19:06:35 -0700 (PDT) X-Relaying-Domain: iol.unh.edu Date: Thu, 02 Oct 2025 19:06:35 -0700 (PDT) Message-ID: <68df2fab.050a0220.3057b9.1c92SMTPIN_ADDED_MISSING@mx.google.com> Received: from [172.21.0.2] (unknown [172.18.0.240]) by postal.iol.unh.edu (Postfix) with ESMTP id DD12F6051830; Thu, 2 Oct 2025 22:06:34 -0400 (EDT) Subject: |SUCCESS| [GIT MASTER] c04bbd131b2c14b3049bf86d3ef367b34e6fdf1e From: dpdklab@iol.unh.edu To: Test Report Cc: dpdk-test-reports@iol.unh.edu, Stephen Hemminger Content-Type: text/plain X-BeenThere: test-report@dpdk.org X-Mailman-Version: 2.1.29 Precedence: list List-Id: automatic DPDK test reports List-Unsubscribe: , List-Archive: List-Post: List-Help: List-Subscribe: , Errors-To: test-report-bounces@dpdk.org _Testing PASS_ Branch: dpdk-next-net c04bbd131b2c14b3049bf86d3ef367b34e6fdf1e --> testing pass Upstream job id: Generic-DPDK-Compile-Meson#430463 Test environment and result as below: +------------------------------+--------------------+ | Environment | dpdk_meson_compile | +==============================+====================+ | Red Hat Enterprise Linux 9.5 | PASS | +------------------------------+--------------------+ | Ubuntu 20.04 | PASS | +------------------------------+--------------------+ | Fedora Linux 42 | PASS | +------------------------------+--------------------+ | Debian GNU/Linux 12 | PASS | +------------------------------+--------------------+ | Ubuntu 22.04 | PASS | +------------------------------+--------------------+ | CentOS Stream 9 | PASS | +------------------------------+--------------------+ | Ubuntu 24.04 | PASS | +------------------------------+--------------------+ | CentOS Stream 10 | PASS | +------------------------------+--------------------+ Red Hat Enterprise Linux 9.5 Kernel: 5.4 Compiler: gcc gcc (GCC) 11.5.0 20240719 (Red Hat 11.5.0-2) Ubuntu 20.04 Kernel: 5.4 Compiler: gcc gcc (Ubuntu 9.4.0-1ubuntu1~20.04.2) 9.4.0 Fedora Linux 42 Kernel: 5.4 Compiler: clang gcc (GCC) 15.2.1 20250808 (Red Hat 15.2.1-1) Debian GNU/Linux 12 Kernel: 5.4 Compiler: gcc gcc (Debian 12.2.0-14+deb12u1) 12.2.0 Ubuntu 22.04 Kernel: 5.4 Compiler: gcc gcc (Ubuntu 11.4.0-1ubuntu1~22.04) 11.4.0 CentOS Stream 9 Kernel: 5.4 Compiler: gcc gcc (GCC) 11.5.0 20240719 (Red Hat 11.5.0-11) Ubuntu 24.04 Kernel: 5.4 Compiler: gcc gcc (Ubuntu 13.3.0-6ubuntu2~24.04) 13.3.0 CentOS Stream 10 Kernel: 5.4 Compiler: gcc gcc (GCC) 14.2.1 20250110 (Red Hat 14.2.1-8) To view detailed results, visit: https://lab.dpdk.org/results/dashboard/tarballs/35029/ UNH-IOL DPDK Community Lab To manage your email subscriptions, visit: https://lab.dpdk.org/results/dashboard/preferences/subscriptions/