From mboxrd@z Thu Jan 1 00:00:00 1970 Return-Path: Received: from mails.dpdk.org (mails.dpdk.org [217.70.189.124]) by inbox.dpdk.org (Postfix) with ESMTP id B338248897 for ; Fri, 3 Oct 2025 05:33:20 +0200 (CEST) Received: from mails.dpdk.org (localhost [127.0.0.1]) by mails.dpdk.org (Postfix) with ESMTP id A905F402B1; Fri, 3 Oct 2025 05:33:20 +0200 (CEST) Received: from mail-oa1-f100.google.com (mail-oa1-f100.google.com [209.85.160.100]) by mails.dpdk.org (Postfix) with ESMTP id 37CBE402B1 for ; Fri, 3 Oct 2025 05:33:19 +0200 (CEST) Received: by mail-oa1-f100.google.com with SMTP id 586e51a60fabf-30ccec59b4bso1308194fac.3 for ; Thu, 02 Oct 2025 20:33:19 -0700 (PDT) DKIM-Signature: v=1; a=rsa-sha256; c=relaxed/relaxed; d=iol.unh.edu; s=unh-iol; t=1759462398; x=1760067198; darn=dpdk.org; h=cc:to:from:subject:message-id:date:from:to:cc:subject:date :message-id:reply-to; bh=QwzXMZ9hwXCyD8md+plAroSw6+1AAibgczQpqemsw/g=; b=jCFJuIwz+B8BNnjtTLQ3CsIzIGvNIG0tZzO15JGgni4LEHcI6FS7fumkP7Vqn2U4sd 4hWeAl2qN8kVGomHsYJnRsf375XpoXP1Vuw8yy1ntDQ9A6zA8wTn3UFP+hr/t101LITv trN0iW+dCdtry+Huq5X+t27poTaFn3Smiwaf0= X-Google-DKIM-Signature: v=1; a=rsa-sha256; c=relaxed/relaxed; d=1e100.net; s=20230601; t=1759462398; x=1760067198; h=cc:to:from:subject:message-id:date:x-gm-message-state:from:to:cc :subject:date:message-id:reply-to; bh=QwzXMZ9hwXCyD8md+plAroSw6+1AAibgczQpqemsw/g=; b=KXrEF9KBm4JNedZMxixcbAvsPCDFzRjNDc+q6i1lBcHhwZWDJA2fbyEOO3eLu+2X/w cQZZijOcdHpfwxUtZhTRO1I7LPNT0I0ENC24lb1lSGJufPkkE+itZ9qvF+2goWstMt68 NzeoSObLwscvGxsYTSiqXmoSPDuOQlMjOB6yGlCxZhEPgxVFZksIf0AeZJpip8F9wCcu s+mUDPlsKsvd/v5+xdihzlJpRWVjmKfr23+roO61xJpR/y/sE1cR9Vqsd+ZOQ4sO9Ubn 1hbGSBVCJt0f23Qg1d6sRf/ao5QLaqpXQA1XIfT1Y4rfT/12VZAo6qz4/Wh72gi1yIxj 9FoA== X-Gm-Message-State: AOJu0YwJIocMVDG3G//IAW0YRIFe3fLgP9VyFJnWu5XlbLBFXUcsAycx gUiIE2qOv7W92e/xNg8XodL9ypfV4D/gbaLsh8snOLud7gwxHAUvm8mLrAFYCGoFgAY2F1gASu6 cTFKGFJDzV/j+mNzdXsg5OLvXnDlMXzmrb9Mj X-Gm-Gg: ASbGncvSfPnoff6/ea3Lnhhu4DBCQtwcj2dmlmsF4F42PGpbNm7DmiDU1v4IG4xes1f I0YFslz8SL5ntYH86aW7u+h/rrgJylmIECYPuA8HLl6V6ILI01VAp6coUm7w3yeU/+M1R+7nDvl ATywozjtkzJW41hEmowE7T4YHtDe824WGWKVkrea4depYI21QnWLR9Loe1xuYMXcfkxuwpncllS 7S6uZBFxIffOHL7Y9Nf7VxcbSX4hjc+xMZnW3skIFuA/C8jrSwINjkgbKVOWfCKXZ2rwizOhElr lB2VuKzyUm+EOlT18Yr9+fZjlIQTCayXfLF8if+ATZSKhYZSH5+0WInC90CoggqO1pWAfq25T+H EMA== X-Google-Smtp-Source: AGHT+IHwMY+WdYql5H0SfMuWS7nqdqPjNQFv39h+kWaHVLuO5INcBvOsdR008UbJYvvn3wuroDQDWtQ5bR7J X-Received: by 2002:a05:6871:413:b0:2eb:b6a2:8d77 with SMTP id 586e51a60fabf-3b0f90cfb5emr1128293fac.29.1759462398369; Thu, 02 Oct 2025 20:33:18 -0700 (PDT) Received: from postal.iol.unh.edu (postal.iol.unh.edu. [132.177.123.84]) by smtp-relay.gmail.com with ESMTPS id 586e51a60fabf-3ab917b5adbsm336388fac.13.2025.10.02.20.33.18 (version=TLS1_2 cipher=ECDHE-ECDSA-AES128-GCM-SHA256 bits=128/128); Thu, 02 Oct 2025 20:33:18 -0700 (PDT) X-Relaying-Domain: iol.unh.edu Date: Thu, 02 Oct 2025 20:33:18 -0700 (PDT) Message-ID: <68df43fe.050a0220.d0ac0.4cccSMTPIN_ADDED_MISSING@mx.google.com> Received: from [172.21.0.2] (unknown [172.18.0.240]) by postal.iol.unh.edu (Postfix) with ESMTP id B53006051830; Thu, 2 Oct 2025 23:33:17 -0400 (EDT) Subject: |SUCCESS| [GIT MASTER] 3b43ce3f4a54468e7ef65760c2fd7b4d6ee6d9fc From: dpdklab@iol.unh.edu To: Test Report Cc: dpdk-test-reports@iol.unh.edu, Xueming Li , Christian Ehrhardt , Kevin Traynor , Luca Boccassi Content-Type: text/plain X-BeenThere: test-report@dpdk.org X-Mailman-Version: 2.1.29 Precedence: list List-Id: automatic DPDK test reports List-Unsubscribe: , List-Archive: List-Post: List-Help: List-Subscribe: , Errors-To: test-report-bounces@dpdk.org _Testing PASS_ Branch: tags/v22.11 3b43ce3f4a54468e7ef65760c2fd7b4d6ee6d9fc --> testing pass Upstream job id: Generic-DPDK-Compile-Meson#430486 Test environment and result as below: +------------------------------+--------------------+ | Environment | dpdk_meson_compile | +==============================+====================+ | Debian GNU/Linux 12 | PASS | +------------------------------+--------------------+ | Fedora Linux 42 | PASS | +------------------------------+--------------------+ | Red Hat Enterprise Linux 9.5 | PASS | +------------------------------+--------------------+ | Ubuntu 20.04 | PASS | +------------------------------+--------------------+ | CentOS Stream 9 | PASS | +------------------------------+--------------------+ | Ubuntu 24.04 | PASS | +------------------------------+--------------------+ | Ubuntu 22.04 | PASS | +------------------------------+--------------------+ | CentOS Stream 10 | PASS | +------------------------------+--------------------+ Debian GNU/Linux 12 Kernel: 5.4 Compiler: gcc gcc (Debian 12.2.0-14+deb12u1) 12.2.0 Fedora Linux 42 Kernel: 5.4 Compiler: gcc gcc (GCC) 15.2.1 20250808 (Red Hat 15.2.1-1) Red Hat Enterprise Linux 9.5 Kernel: 5.4 Compiler: gcc gcc (GCC) 11.5.0 20240719 (Red Hat 11.5.0-2) Ubuntu 20.04 Kernel: 5.4 Compiler: gcc gcc (Ubuntu 9.4.0-1ubuntu1~20.04.2) 9.4.0 CentOS Stream 9 Kernel: 5.4 Compiler: gcc gcc (GCC) 11.5.0 20240719 (Red Hat 11.5.0-11) Ubuntu 24.04 Kernel: 5.4 Compiler: gcc gcc (Ubuntu 13.3.0-6ubuntu2~24.04) 13.3.0 Ubuntu 22.04 Kernel: 5.4 Compiler: gcc gcc (Ubuntu 11.4.0-1ubuntu1~22.04) 11.4.0 CentOS Stream 10 Kernel: 5.4 Compiler: gcc gcc (GCC) 14.2.1 20250110 (Red Hat 14.2.1-8) To view detailed results, visit: https://lab.dpdk.org/results/dashboard/tarballs/35026/ UNH-IOL DPDK Community Lab To manage your email subscriptions, visit: https://lab.dpdk.org/results/dashboard/preferences/subscriptions/