From mboxrd@z Thu Jan 1 00:00:00 1970 Return-Path: Received: from mails.dpdk.org (mails.dpdk.org [217.70.189.124]) by inbox.dpdk.org (Postfix) with ESMTP id 1F9D248898 for ; Fri, 3 Oct 2025 06:16:39 +0200 (CEST) Received: from mails.dpdk.org (localhost [127.0.0.1]) by mails.dpdk.org (Postfix) with ESMTP id F3B45402A7; Fri, 3 Oct 2025 06:16:38 +0200 (CEST) Received: from mail-io1-f99.google.com (mail-io1-f99.google.com [209.85.166.99]) by mails.dpdk.org (Postfix) with ESMTP id 6A1DE402A7 for ; Fri, 3 Oct 2025 06:16:38 +0200 (CEST) Received: by mail-io1-f99.google.com with SMTP id ca18e2360f4ac-912d4135379so66518539f.1 for ; Thu, 02 Oct 2025 21:16:38 -0700 (PDT) DKIM-Signature: v=1; a=rsa-sha256; c=relaxed/relaxed; d=iol.unh.edu; s=unh-iol; t=1759464998; x=1760069798; darn=dpdk.org; h=cc:to:from:subject:message-id:date:from:to:cc:subject:date :message-id:reply-to; bh=HUj/qGyCTJTSnZxA9oRuxlZxJal/ajIwpmWzH6AwEKw=; b=KBjnO4usk2y7ry4yu4jVIKglWx7Bd2QPz7nQ4ZsiPAAphhwQwUM3dIhgXZCu3Ss83c GFWFYAu3T8ix/Ri7yxJLTocYuJKIsjlOF2myLa6sOrTN/vQ+blbmufkvK1nv7U/+xl8n E9a+tIFfPsLHfHkdabGx0uJId0ArV90kvwFgI= X-Google-DKIM-Signature: v=1; a=rsa-sha256; c=relaxed/relaxed; d=1e100.net; s=20230601; t=1759464998; x=1760069798; h=cc:to:from:subject:message-id:date:x-gm-message-state:from:to:cc :subject:date:message-id:reply-to; bh=HUj/qGyCTJTSnZxA9oRuxlZxJal/ajIwpmWzH6AwEKw=; b=ALCfEb6MnHRDvLI8YPWFOPkrZTnj/U9OEgiKZ8cijDvAr5FDj1mIiDgVZHJeuNkz0h hZ4CnKe91/WCR4nkKkd7QDqS+7hzaFk/g+qYNC8OvD343KArAPBaYa4SRFqr6miIxx68 O0cR1/jlNvygkcCsTd2iAHWBiv6d/V52Is57050KJV5UrjlZXKWsQ0DJlyZhP2pppPib +vdxyx5T6YaceADlGpHhOxt+6y5KzSLK804Zb5o0g8YWH1d9ZQVViwNNcTAwAlsSMN09 6Lm5b3kv7G3KaLB+kpfBZ2JJfaYHLqWbo8OClOj+kwAGcDJbDp3+9OUbTMzViYgz81po Yzog== X-Gm-Message-State: AOJu0Yzj0uShZCd/Agxl6HLKopzjNs2tPEjk14f5s0nHwbBrV5AzRv0Q K6oGo5AYh5n+EPmvWDS6TyE/2eESnGmV80IMQ/uScRJZCqjBplGOVM89peNCKzYbGZVaGDINOD6 6iz53mavDvtzkCeuH/JCWTver4j89v6WPI1Y0 X-Gm-Gg: ASbGncv64sH1AESa/Z0vtg63fH3TwbPgjx6t2dl4sPO9V5fX2/0YTCkc4w3c1r0OgP2 J87gHbOaOHyKU8/a34B+5aEOBdTxmHrVDfsrnOv+W+bxL3fdeiNa3u+oIMtBtbfsd9I9f+PWP3i QoKSjFNP7tCzOUtwjxKz7qMZRNMDYAbX0HVEUTJsj5lqJrkMuAAhAXpzHYFilrAQNnsrlWza3UT FRT1QO0kZewfWP2rzn4iaEDBGS3gJmwGnGrMsfRzrpoyLF1E64S79Y81URUDe+KPolKayNt7dAq TbQg1PSVZNIbQDDcpFJicwbIB9wBBqK3Sy8t1z/45PjIAjFQxycvsdEMZbqsuZTOIKBBfUY6xCb pAw== X-Google-Smtp-Source: AGHT+IGu8wshkVHmumVmG3DHPaB2o/kG9giFzd0d8XyBam3pD2VMgoEfeJlBIp7H8zaioo6B+ccLcZ+CtULZ X-Received: by 2002:a05:6602:2c14:b0:887:54d4:a8c8 with SMTP id ca18e2360f4ac-93b96a59d5bmr190724639f.12.1759464997741; Thu, 02 Oct 2025 21:16:37 -0700 (PDT) Received: from postal.iol.unh.edu (postal.iol.unh.edu. [132.177.123.84]) by smtp-relay.gmail.com with ESMTPS id 8926c6da1cb9f-57b5eaa4124sm294981173.1.2025.10.02.21.16.37 (version=TLS1_2 cipher=ECDHE-ECDSA-AES128-GCM-SHA256 bits=128/128); Thu, 02 Oct 2025 21:16:37 -0700 (PDT) X-Relaying-Domain: iol.unh.edu Date: Thu, 02 Oct 2025 21:16:37 -0700 (PDT) Message-ID: <68df4e25.050a0220.1f54d2.2c4dSMTPIN_ADDED_MISSING@mx.google.com> Received: from [172.21.0.3] (unknown [172.18.0.240]) by postal.iol.unh.edu (Postfix) with ESMTP id 553E2604D420; Fri, 3 Oct 2025 00:16:37 -0400 (EDT) Subject: |SUCCESS| [GIT MASTER] 3b43ce3f4a54468e7ef65760c2fd7b4d6ee6d9fc From: dpdklab@iol.unh.edu To: Test Report Cc: dpdk-test-reports@iol.unh.edu, Xueming Li , Christian Ehrhardt , Kevin Traynor , Luca Boccassi Content-Type: text/plain X-BeenThere: test-report@dpdk.org X-Mailman-Version: 2.1.29 Precedence: list List-Id: automatic DPDK test reports List-Unsubscribe: , List-Archive: List-Post: List-Help: List-Subscribe: , Errors-To: test-report-bounces@dpdk.org _Testing PASS_ Branch: tags/v22.11 3b43ce3f4a54468e7ef65760c2fd7b4d6ee6d9fc --> testing pass Upstream job id: Windows-Compile-DPDK-Native#31384 Test environment and result as below: +---------------------+--------------------+-------------------------+----------------------+ | Environment | dpdk_meson_compile | dpdk_llvm_clang_compile | dpdk_mingw64_compile | +=====================+====================+=========================+======================+ | Ubuntu 20.04 | PASS | SKIPPED | SKIPPED | +---------------------+--------------------+-------------------------+----------------------+ | FreeBSD 14.2 | PASS | SKIPPED | SKIPPED | +---------------------+--------------------+-------------------------+----------------------+ | Windows Server 2022 | SKIPPED | PASS | PASS | +---------------------+--------------------+-------------------------+----------------------+ Ubuntu 20.04 Kernel: 4.19 Compiler: gcc gcc (Ubuntu 9.4.0-1ubuntu1~20.04.2) 9.4.0 FreeBSD 14.2 Kernel: 14.2-RELEASE Compiler: clang 18.1.6 Windows Server 2022 Kernel: 10.0.20348.2031 Compiler: clang 15.0.7, gcc 14.1.0 (MinGW), and MSVC VS 19.39.33521 To view detailed results, visit: https://lab.dpdk.org/results/dashboard/tarballs/35089/ UNH-IOL DPDK Community Lab To manage your email subscriptions, visit: https://lab.dpdk.org/results/dashboard/preferences/subscriptions/