From mboxrd@z Thu Jan 1 00:00:00 1970 Return-Path: Received: from mails.dpdk.org (mails.dpdk.org [217.70.189.124]) by inbox.dpdk.org (Postfix) with ESMTP id 7B0D748898 for ; Fri, 3 Oct 2025 06:26:11 +0200 (CEST) Received: from mails.dpdk.org (localhost [127.0.0.1]) by mails.dpdk.org (Postfix) with ESMTP id 73276402A7; Fri, 3 Oct 2025 06:26:11 +0200 (CEST) Received: from mail-pj1-f99.google.com (mail-pj1-f99.google.com [209.85.216.99]) by mails.dpdk.org (Postfix) with ESMTP id 67480402A7 for ; Fri, 3 Oct 2025 06:26:10 +0200 (CEST) Received: by mail-pj1-f99.google.com with SMTP id 98e67ed59e1d1-3381f041d7fso3170869a91.0 for ; Thu, 02 Oct 2025 21:26:10 -0700 (PDT) DKIM-Signature: v=1; a=rsa-sha256; c=relaxed/relaxed; d=iol.unh.edu; s=unh-iol; t=1759465569; x=1760070369; darn=dpdk.org; h=cc:to:from:subject:message-id:date:from:to:cc:subject:date :message-id:reply-to; bh=GfwhnUltP28Jq99QSLQhsfGPJ12EltB00Y7K1+G7kTU=; b=EmwI7dDnajyQF8Q/6Z4/XSaqWKy7Re3Xs8XqHE0ZZFP1JbcMWFlq8LfOFTug5Gyff/ BOOSgDsYWD7LOKpLrpHv40wH2vHdvqwwMOgPfkwC8tfmmun3WMFFK0ayPhYN5NETpL3Z uGcHIA5DHcWc9EJWVU5OFZoweQXM1j5ylVKqY= X-Google-DKIM-Signature: v=1; a=rsa-sha256; c=relaxed/relaxed; d=1e100.net; s=20230601; t=1759465569; x=1760070369; h=cc:to:from:subject:message-id:date:x-gm-message-state:from:to:cc :subject:date:message-id:reply-to; bh=GfwhnUltP28Jq99QSLQhsfGPJ12EltB00Y7K1+G7kTU=; b=CJU6uWhSNNY0N0Uh9ufjLuougi+iysMIkIo5Ut6qLehGomoZwW7ldIGRA9twuI++kW hF23CyhTQx/P/XrsDYvKO2r9g2J6VF7kF/zlmJS4qV8rhuKcnxn9nsiMDbZ//iML2u90 9SHAPFSbIsAqafVueaY7hP/IBBBihn8TNMstfol6nqFUyWcKY+4kXTWTwBN3aRUBTJyY Su7goWssNXr3pNuDmMJyCD0rIIn1fOBFgXRRWiNzGsX1dyCfb8Zo52xJXTojVgLgmEMW 3sw/tJ/wjrPgqpv9M4igsFaufLDNqgJxq3DNhaQlEDGlEJi4BqoYs6flEt4dEdMILMi+ a8vg== X-Gm-Message-State: AOJu0YyGVgwO96MsnqETvUNh1OpeqCicC0NggEVD6uoFyJfA+kQxEEcz ZHfNAXYzIW2N5TjHbW2+8L72UG+j5bMked2h6lILDEzD9wakI3EOEDZeHhq7BnG1wpZBJ/uSpAO Cgd8sNK/DAfQk06H8WKM5KtMSMOi1tfJn0goKj5g/QW9Lvb2pRQ20 X-Gm-Gg: ASbGncsUlmwGlVAeDwwWSbEvvXV/MtPLmURyfb8ERoDUipHKCyK14MymmPVJ96KXc2o So10K2/qGBE+OSHzuCLzhSHFHR7anpAOgm+ZdBnsTi2JS9adkY6k8pexSqOq4zgcti3vxFvjij6 uCwSL5n5UlWgSt2Zak6K3jFlfgJlPN8O1XLLQu7iUCYxBXXQ/IYbBV5D0mf5sWyigo71S7aUUtj hIj6nTqYc7ELvRh5/MqStLBOuUxrbzeVForjdgsLj84dOWNDFmvWx2lmMbvCCndpyVN7lEGPmuy 2qA+2G2t7XzmLzrVkwf56/mbU84SPyOS3Ou3CJYiupqm/UXZqc+0XoM= X-Google-Smtp-Source: AGHT+IGCuyzVVmsIF4AnvPTw9w1g9TvfuLug8ttLcAxR4qd9xwfohhJvQfS5mvW9VjTBSArAYDp2/4gdafRC X-Received: by 2002:a17:90b:1d11:b0:330:9c26:bf3d with SMTP id 98e67ed59e1d1-339c232d7afmr2134953a91.16.1759465569171; Thu, 02 Oct 2025 21:26:09 -0700 (PDT) Received: from postal.iol.unh.edu (postal.iol.unh.edu. [2606:4100:3880:1234::84]) by smtp-relay.gmail.com with ESMTPS id 98e67ed59e1d1-339b4e97355sm369886a91.1.2025.10.02.21.26.09 (version=TLS1_2 cipher=ECDHE-ECDSA-AES128-GCM-SHA256 bits=128/128); Thu, 02 Oct 2025 21:26:09 -0700 (PDT) X-Relaying-Domain: iol.unh.edu Date: Thu, 02 Oct 2025 21:26:09 -0700 (PDT) Message-ID: <68df5061.170a0220.a2468.78adSMTPIN_ADDED_MISSING@mx.google.com> Received: from [172.21.0.2] (unknown [172.18.0.240]) by postal.iol.unh.edu (Postfix) with ESMTP id 6B1D66051830; Fri, 3 Oct 2025 00:26:08 -0400 (EDT) Subject: |SUCCESS| [GIT MASTER] b287e404643aeab5bb5db084c142789df187844e From: dpdklab@iol.unh.edu To: Test Report Cc: dpdk-test-reports@iol.unh.edu, Xueming Li , Christian Ehrhardt , Kevin Traynor , Luca Boccassi Content-Type: text/plain X-BeenThere: test-report@dpdk.org X-Mailman-Version: 2.1.29 Precedence: list List-Id: automatic DPDK test reports List-Unsubscribe: , List-Archive: List-Post: List-Help: List-Subscribe: , Errors-To: test-report-bounces@dpdk.org _Testing PASS_ Branch: tags/v24.11 b287e404643aeab5bb5db084c142789df187844e --> testing pass Upstream job id: Generic-VM-DPDK-Compile-Meson#38753 Test environment and result as below: +---------------------+--------------------+-------------------+ | Environment | dpdk_meson_compile | dpdk_msvc_compile | +=====================+====================+===================+ | Ubuntu 20.04 | PASS | SKIPPED | +---------------------+--------------------+-------------------+ | FreeBSD 14.2 | PASS | SKIPPED | +---------------------+--------------------+-------------------+ | Windows Server 2022 | SKIPPED | PASS | +---------------------+--------------------+-------------------+ Ubuntu 20.04 Kernel: 4.19 Compiler: gcc gcc (Ubuntu 9.4.0-1ubuntu1~20.04.2) 9.4.0 FreeBSD 14.2 Kernel: 14.2-RELEASE Compiler: clang 18.1.6 Windows Server 2022 Kernel: 10.0.20348.2031 Compiler: clang 15.0.7, gcc 14.1.0 (MinGW), and MSVC VS 19.39.33521 To view detailed results, visit: https://lab.dpdk.org/results/dashboard/tarballs/35091/ UNH-IOL DPDK Community Lab To manage your email subscriptions, visit: https://lab.dpdk.org/results/dashboard/preferences/subscriptions/