From mboxrd@z Thu Jan 1 00:00:00 1970 Return-Path: Received: from mails.dpdk.org (mails.dpdk.org [217.70.189.124]) by inbox.dpdk.org (Postfix) with ESMTP id 47E4348898 for ; Fri, 3 Oct 2025 06:59:11 +0200 (CEST) Received: from mails.dpdk.org (localhost [127.0.0.1]) by mails.dpdk.org (Postfix) with ESMTP id 41BFA402A7; Fri, 3 Oct 2025 06:59:11 +0200 (CEST) Received: from mail-oa1-f97.google.com (mail-oa1-f97.google.com [209.85.160.97]) by mails.dpdk.org (Postfix) with ESMTP id 7F2F0402A7 for ; Fri, 3 Oct 2025 06:59:09 +0200 (CEST) Received: by mail-oa1-f97.google.com with SMTP id 586e51a60fabf-3ac1ad95537so1294121fac.2 for ; Thu, 02 Oct 2025 21:59:09 -0700 (PDT) DKIM-Signature: v=1; a=rsa-sha256; c=relaxed/relaxed; d=iol.unh.edu; s=unh-iol; t=1759467549; x=1760072349; darn=dpdk.org; h=cc:to:from:subject:message-id:date:from:to:cc:subject:date :message-id:reply-to; bh=KXeXn1pLV4CSOZeZyBfk8v4omsA/xuBJwCx5oTEdFwQ=; b=RwNnCuVd9gB9T8J/5pkc8wdvwTTu8e6w5djRKNtGkJAoB49mrYpUC55QchM6O5wn2s YKqbFZjK0x0fnxoxki1RY8/yUlACOdj6fzUlJjsG7CMQSL9kGDFsz8ARPa5ErJXlcy4x MgEHy6NnHDkzyFv51pRpjUgOLdQD7+Wed12kU= X-Google-DKIM-Signature: v=1; a=rsa-sha256; c=relaxed/relaxed; d=1e100.net; s=20230601; t=1759467549; x=1760072349; h=cc:to:from:subject:message-id:date:x-gm-message-state:from:to:cc :subject:date:message-id:reply-to; bh=KXeXn1pLV4CSOZeZyBfk8v4omsA/xuBJwCx5oTEdFwQ=; b=RBDgWB3BVYm967bGTaFWi2B0VDUi6GBxUJL0a77BgZ60S01mVaehs5T/Blj8eQBW7B V9YTZ0oEDXwVvnjpo9OVcA7ZKN2rLRDsoJaGPNdm8BnzkEtpfFfOIt8x7Ukgw2XgCEEL MVLLt6zoDR/4VYGvuAz1NvX9MMfLJMS6Clu/z09ru1tDuc10OkRgbRGyesFUPC02r1TI 7geZZ5CQbFuBAmPxvW8H9J8x5d15HH+ZOL3kr8Dr7WlaDsbFRa8Tj8lJbSJgnNluaOdg Xlwi22Psl4TfVsNaJP0Fch91LMklQZ3KTtfRRnq8X1TcKj4dCvOJkjJIi+ysR9WWJE5y 1jzg== X-Gm-Message-State: AOJu0Yy6bb4CYrQEwj9/h+ID/1CnkAWHmV4m1Rceh3wuOcRPD6IukHN3 hzxt8k4ROxsGwR1tme2kNki487VIPKWAsfeHg9OeNjldceP7pSTAaAn4YfS6GxxoBY0EDW/nNXw RrCSXLFhlmBIm+ox/7kIB03T0grYT1NaW4G37 X-Gm-Gg: ASbGncv1FJ0P/a8O9qVJE4xs77aAH0gwH2YCHarDSehR0dwgOmlVhEGaMm0NkkFPpPg L5clmB8am2bQ6rf7HmPvKk0F5a6mmc0MWC0R1/kKVCkVTOy42jiqmVBDTXF8EY33Aqv/m9wpamM ef7ne8ag5Yhx5n8qwnMQb4m0iY82K2uYwpKDoAU+Rzj2ebmJIPAP+TwUlas370OxG8QYa6A1ls1 ftI5Hlag9JNeoDqRR/P/CBmBiwCAnsDnTNCXQ+oBZACLdcF7N3dPy6ry3YnsFEOlt5emW17Etg+ ad2XnZM3neaIyA532gjFpXcJrz6drhdF1Jkfk9vg5CIaFe7PISN0YmpYzlOm0J0E31bWrC5nn6H huQ== X-Google-Smtp-Source: AGHT+IE6+AwoYKl5adV9y/+sg1W2CBzuknf9qu02Xy8CeTFGu7+VJFAPgXy8l/No2IhGW31LHd5UarOfLQ1f X-Received: by 2002:a05:6870:2392:b0:344:97e4:6c73 with SMTP id 586e51a60fabf-3b1039b5558mr1218321fac.46.1759467548776; Thu, 02 Oct 2025 21:59:08 -0700 (PDT) Received: from postal.iol.unh.edu (postal.iol.unh.edu. [132.177.123.84]) by smtp-relay.gmail.com with ESMTPS id 586e51a60fabf-3ab94d987e1sm344126fac.18.2025.10.02.21.58.56 (version=TLS1_2 cipher=ECDHE-ECDSA-AES128-GCM-SHA256 bits=128/128); Thu, 02 Oct 2025 21:58:56 -0700 (PDT) X-Relaying-Domain: iol.unh.edu Date: Thu, 02 Oct 2025 21:58:56 -0700 (PDT) Message-ID: <68df5810.050a0220.24ab60.4cb3SMTPIN_ADDED_MISSING@mx.google.com> Received: from [172.21.0.3] (unknown [172.18.0.240]) by postal.iol.unh.edu (Postfix) with ESMTP id 5316D6051830; Fri, 3 Oct 2025 00:58:56 -0400 (EDT) Subject: |SUCCESS| [GIT MASTER] b287e404643aeab5bb5db084c142789df187844e From: dpdklab@iol.unh.edu To: Test Report Cc: dpdk-test-reports@iol.unh.edu, Xueming Li , Christian Ehrhardt , Kevin Traynor , Luca Boccassi Content-Type: text/plain X-BeenThere: test-report@dpdk.org X-Mailman-Version: 2.1.29 Precedence: list List-Id: automatic DPDK test reports List-Unsubscribe: , List-Archive: List-Post: List-Help: List-Subscribe: , Errors-To: test-report-bounces@dpdk.org _Testing PASS_ Branch: tags/v24.11 b287e404643aeab5bb5db084c142789df187844e --> testing pass Upstream job id: Windows-Compile-DPDK-Native#31387 Test environment and result as below: +---------------------+--------------------+-------------------+-------------------------+ | Environment | dpdk_meson_compile | dpdk_msvc_compile | dpdk_llvm_clang_compile | +=====================+====================+===================+=========================+ | Ubuntu 20.04 | PASS | SKIPPED | SKIPPED | +---------------------+--------------------+-------------------+-------------------------+ | FreeBSD 14.2 | PASS | SKIPPED | SKIPPED | +---------------------+--------------------+-------------------+-------------------------+ | Windows Server 2022 | SKIPPED | PASS | PASS | +---------------------+--------------------+-------------------+-------------------------+ Ubuntu 20.04 Kernel: 4.19 Compiler: gcc gcc (Ubuntu 9.4.0-1ubuntu1~20.04.2) 9.4.0 FreeBSD 14.2 Kernel: 14.2-RELEASE Compiler: clang 18.1.6 Windows Server 2022 Kernel: 10.0.20348.2031 Compiler: clang 15.0.7, gcc 14.1.0 (MinGW), and MSVC VS 19.39.33521 To view detailed results, visit: https://lab.dpdk.org/results/dashboard/tarballs/35091/ UNH-IOL DPDK Community Lab To manage your email subscriptions, visit: https://lab.dpdk.org/results/dashboard/preferences/subscriptions/