From mboxrd@z Thu Jan 1 00:00:00 1970 Return-Path: Received: from mails.dpdk.org (mails.dpdk.org [217.70.189.124]) by inbox.dpdk.org (Postfix) with ESMTP id EA42548898 for ; Fri, 3 Oct 2025 07:03:14 +0200 (CEST) Received: from mails.dpdk.org (localhost [127.0.0.1]) by mails.dpdk.org (Postfix) with ESMTP id C54C8402A7; Fri, 3 Oct 2025 07:03:14 +0200 (CEST) Received: from mail-vk1-f228.google.com (mail-vk1-f228.google.com [209.85.221.228]) by mails.dpdk.org (Postfix) with ESMTP id E7C5C402A7 for ; Fri, 3 Oct 2025 07:03:12 +0200 (CEST) Received: by mail-vk1-f228.google.com with SMTP id 71dfb90a1353d-54b21395093so1173661e0c.0 for ; Thu, 02 Oct 2025 22:03:12 -0700 (PDT) DKIM-Signature: v=1; a=rsa-sha256; c=relaxed/relaxed; d=iol.unh.edu; s=unh-iol; t=1759467792; x=1760072592; darn=dpdk.org; h=cc:to:from:subject:message-id:date:from:to:cc:subject:date :message-id:reply-to; bh=1wEEoT1IDLeEXnH3Sy1OgP9XwUIBaOIt2bO/UtL/5xE=; b=At+iKmuTp8S+4aLMr5i7h3i7oLfCDaBf+1YaqnCTdiAfL1ijneE6htFrDdgYyWizS+ 3GgyTbPNzGOBmc3po3hnuv+GW1j7cwtqZaD0DBLP9zqrdbeLRLTwTqS5EY44WN1esCsk e3s5bbImH8TH202uk5jw6vhCi5mSbLJAmuvhA= X-Google-DKIM-Signature: v=1; a=rsa-sha256; c=relaxed/relaxed; d=1e100.net; s=20230601; t=1759467792; x=1760072592; h=cc:to:from:subject:message-id:date:x-gm-message-state:from:to:cc :subject:date:message-id:reply-to; bh=1wEEoT1IDLeEXnH3Sy1OgP9XwUIBaOIt2bO/UtL/5xE=; b=tLzDKWqSc1eKEY3YIay5A6YNQtDYXyxHoE7FwaT9FN4y+FfVYueCU1RR9pHNMeErS9 rb/8AgAhIPTFizz4LlYinCoi7AhI98AHGehYMfzowyA2NhOo5IjjyNr+M/f1AP0Z1vHG 7XqRaw0Iq/2ZwGvQyeDVjBtbVh4b7HRQn3tm1cMhI+W2hH7zo9SgmfNiUkqbXzSXuxLT rl0eYih1BcdoHGvLBy+fdmSK/cUtVjpILHmS6jMdi5eZj5h0YpOc6i94o88VvmEFdX01 oMFr9BMWJ+OiaLhGnekLjxMUyVQh+C0FldPmTx6jSqzFBTWvMrxI+paYC2vCDxJEBfVd gTGw== X-Gm-Message-State: AOJu0YxZRZhPK1WcWMO/1PZ2+rW18XdXabYEAt8PJ466wTZO+sz9vVHG hj4Gn/wrtWNtB11+Yg1RnRLCcqtkaCyy0m0YtQwnYqQGicIl8R8XuMbd1pv1u45Od+47kFma1g5 zD0zexZFJ1j4r4JodJiNATpdZ2OiHoOv7roAlbVFlcjs+WuVK9O77 X-Gm-Gg: ASbGncuZZXXxMaVB9NrHYGwyLS9LZ0ULrsPfL5cqa2w6I1fVFamxlKrGV+K6JPGOgYh ORBVzMDQQ//sSzBiYQXv0Xxe9iBAL0sbgl/0vuy3cK5pHwDDaPZsZv4EStKiGoTnUO6laEhh+3E yJTNEQXVfClNiUvv9ES8QN9G6TKOhsGuTcf0FN1vibC0vNZL8AqEvINJv0zFkZGtLtvz0FqnQBH IlmGBGkeHAI7n9sYo5PyWyWrMNjseW+Jvu8TAGQyBX0TNvV0OHjMY5XIzsTuz3xStkykkg89JMC Q21ba/CzqCUJSxaJIYz/EW3E/Yxbf//4DX8OeBadPWJiP0iC3OGflkM= X-Google-Smtp-Source: AGHT+IGUMQTP2acY7nNF9Zj+CFjniSN51qFiYeECGfNLncyjdxTLpBS7bXZjtJ58cZbX33g3RWO0op8csy/Y X-Received: by 2002:a05:6122:801b:20b0:54a:612c:ca7d with SMTP id 71dfb90a1353d-5523c17c89dmr2048189e0c.5.1759467792152; Thu, 02 Oct 2025 22:03:12 -0700 (PDT) Received: from postal.iol.unh.edu (postal.iol.unh.edu. [2606:4100:3880:1234::84]) by smtp-relay.gmail.com with ESMTPS id 71dfb90a1353d-5523d031ffbsm364786e0c.5.2025.10.02.22.03.12 (version=TLS1_2 cipher=ECDHE-ECDSA-AES128-GCM-SHA256 bits=128/128); Thu, 02 Oct 2025 22:03:12 -0700 (PDT) X-Relaying-Domain: iol.unh.edu Date: Thu, 02 Oct 2025 22:03:12 -0700 (PDT) Message-ID: <68df5910.050a0220.34a713.653dSMTPIN_ADDED_MISSING@mx.google.com> Received: from [172.21.0.2] (unknown [172.18.0.240]) by postal.iol.unh.edu (Postfix) with ESMTP id D579E6051830; Fri, 3 Oct 2025 01:03:11 -0400 (EDT) Subject: |SUCCESS| [GIT MASTER] b287e404643aeab5bb5db084c142789df187844e From: dpdklab@iol.unh.edu To: Test Report Cc: dpdk-test-reports@iol.unh.edu, Xueming Li , Christian Ehrhardt , Kevin Traynor , Luca Boccassi Content-Type: text/plain X-BeenThere: test-report@dpdk.org X-Mailman-Version: 2.1.29 Precedence: list List-Id: automatic DPDK test reports List-Unsubscribe: , List-Archive: List-Post: List-Help: List-Subscribe: , Errors-To: test-report-bounces@dpdk.org _Testing PASS_ Branch: tags/v24.11 b287e404643aeab5bb5db084c142789df187844e --> testing pass Upstream job id: Windows-Compile-DPDK-Native#31388 Test environment and result as below: +---------------------+--------------------+-------------------+-------------------------+----------------------+ | Environment | dpdk_meson_compile | dpdk_msvc_compile | dpdk_llvm_clang_compile | dpdk_mingw64_compile | +=====================+====================+===================+=========================+======================+ | Ubuntu 20.04 | PASS | SKIPPED | SKIPPED | SKIPPED | +---------------------+--------------------+-------------------+-------------------------+----------------------+ | FreeBSD 14.2 | PASS | SKIPPED | SKIPPED | SKIPPED | +---------------------+--------------------+-------------------+-------------------------+----------------------+ | Windows Server 2022 | SKIPPED | PASS | PASS | PASS | +---------------------+--------------------+-------------------+-------------------------+----------------------+ Ubuntu 20.04 Kernel: 4.19 Compiler: gcc gcc (Ubuntu 9.4.0-1ubuntu1~20.04.2) 9.4.0 FreeBSD 14.2 Kernel: 14.2-RELEASE Compiler: clang 18.1.6 Windows Server 2022 Kernel: 10.0.20348.2031 Compiler: clang 15.0.7, gcc 14.1.0 (MinGW), and MSVC VS 19.39.33521 To view detailed results, visit: https://lab.dpdk.org/results/dashboard/tarballs/35091/ UNH-IOL DPDK Community Lab To manage your email subscriptions, visit: https://lab.dpdk.org/results/dashboard/preferences/subscriptions/