From mboxrd@z Thu Jan 1 00:00:00 1970 Return-Path: Received: from mails.dpdk.org (mails.dpdk.org [217.70.189.124]) by inbox.dpdk.org (Postfix) with ESMTP id 79A6248898 for ; Fri, 3 Oct 2025 07:47:47 +0200 (CEST) Received: from mails.dpdk.org (localhost [127.0.0.1]) by mails.dpdk.org (Postfix) with ESMTP id 6EDCB4025D; Fri, 3 Oct 2025 07:47:47 +0200 (CEST) Received: from mail-yx1-f97.google.com (mail-yx1-f97.google.com [74.125.224.97]) by mails.dpdk.org (Postfix) with ESMTP id 697C84025D for ; Fri, 3 Oct 2025 07:47:46 +0200 (CEST) Received: by mail-yx1-f97.google.com with SMTP id 956f58d0204a3-63605f6f926so1616891d50.0 for ; Thu, 02 Oct 2025 22:47:46 -0700 (PDT) DKIM-Signature: v=1; a=rsa-sha256; c=relaxed/relaxed; d=iol.unh.edu; s=unh-iol; t=1759470466; x=1760075266; darn=dpdk.org; h=cc:to:from:subject:message-id:date:from:to:cc:subject:date :message-id:reply-to; bh=wBM1C0a3sJgbF/LcXfI7CdTxlnKprLhMhj76OuNmtUM=; b=cGqwH6QTXxb6BTX68i8rhxWiEvwqVDUblgatk/VBbCzOnpWYvgBTzUKsKgHQwpTH7S PmkQC1YN+3w43WgWBvY0SxdkCXgarLJ3E5s8uV5RaKLe+6EALXImwtDSINDLw/UEntfr 4lXlvQVi8mz+MXMIBVwUu/7WYhiD7nUc2Nre0= X-Google-DKIM-Signature: v=1; a=rsa-sha256; c=relaxed/relaxed; d=1e100.net; s=20230601; t=1759470466; x=1760075266; h=cc:to:from:subject:message-id:date:x-gm-message-state:from:to:cc :subject:date:message-id:reply-to; bh=wBM1C0a3sJgbF/LcXfI7CdTxlnKprLhMhj76OuNmtUM=; b=icDRsFJ3aNtB0kOb/Zoep6gIK2luRp9S8hrU5zO/T2aZJsBOx6RPrDgLRfDDJNA23J j2qK8WO3lVwuLeWmO9c/tHgxPRyc1Wyigb4p0OZom57pUNtJElQyY60kN5Xc/8dfigXc bT05aCSsWL45IcVjEFbWkVEH6eg/E51a3yAxIg8Aul4nPLMyqwZH+z1NWqBGwuiGoGlV 1Y9FeAU65oobtAWy35tDy/JE0jtRyNg9iVm+bzN6oiUyb4BFZvrRvRptiJjFRWblKYBg f0SjmLq3RY2+2U/8x+ORn1uYyMIrk6XFXeFMkFNO9AcXLEtYpdgJyMeF35s/xvzqpIpE KbIA== X-Gm-Message-State: AOJu0YzFee4Fk9jcbXiTphStrZucOxF/sCa5L5nCY0R5ijj6XtaYo6X5 nI7FiTSrlUjx/T8nvctKHjRcOA95nkXpit/hgdZ4wBsKWShojWmjCzyiwwubGt3tXfD0hvjNVRI ZjKuFc812xxmEQGc0HIncN2aGIvxW4wGxYXUIWlvynDR/k8r/ux9a X-Gm-Gg: ASbGnctb46ap4k2Z5ptFo68hiNO/kYt8I5LFfh7NjD3n9OT2bWLomwR32vLyv79s58s /JLU58JjkidklHFiZeetLPxtJTEfRgU7pZpYikr/r/rBSt5t6XH7tY5Embq3aqM3BuQmL00Ue7g uMyEEVGkumYVSa6r6xpVjSm3BQ5NU1oI8Tda3ze1r+B8t0b9cbK+qfwA2wuz3nR6xQ2dX1hWTs7 c+0RB3IgA4JHc/FW/su92rOUUKE59QqzVGfn01LhnuwMD534Rh3Yt7rVaJ/TRKuUKD7HbXP2vae Tu4IrCrjGK/+5xug35EaLLWEnS7qUYIWNrRYemC3ssr/28coCvDLQg0= X-Google-Smtp-Source: AGHT+IEBgi9qr3WS9kG9dNGbc6YZ4rTf7jpRcjrIZ5I+UYnqBjsM3+hViuBfLr0HdIpIoJKLj4cbNoWyq+S4 X-Received: by 2002:a05:690c:450c:b0:77e:beb3:e4f with SMTP id 00721157ae682-77f946f4764mr29731097b3.49.1759470465760; Thu, 02 Oct 2025 22:47:45 -0700 (PDT) Received: from postal.iol.unh.edu (postal.iol.unh.edu. [2606:4100:3880:1234::84]) by smtp-relay.gmail.com with ESMTPS id 00721157ae682-77f81c3d3basm2125417b3.17.2025.10.02.22.47.45 (version=TLS1_2 cipher=ECDHE-ECDSA-AES128-GCM-SHA256 bits=128/128); Thu, 02 Oct 2025 22:47:45 -0700 (PDT) X-Relaying-Domain: iol.unh.edu Date: Thu, 02 Oct 2025 22:47:45 -0700 (PDT) Message-ID: <68df6381.050a0220.7cef5.cec1SMTPIN_ADDED_MISSING@mx.google.com> Received: from [172.21.0.2] (unknown [172.18.0.240]) by postal.iol.unh.edu (Postfix) with ESMTP id 716BB6051830; Fri, 3 Oct 2025 01:47:45 -0400 (EDT) Subject: |SUCCESS| [GIT MASTER] b287e404643aeab5bb5db084c142789df187844e From: dpdklab@iol.unh.edu To: Test Report Cc: dpdk-test-reports@iol.unh.edu, Xueming Li , Christian Ehrhardt , Kevin Traynor , Luca Boccassi Content-Type: text/plain X-BeenThere: test-report@dpdk.org X-Mailman-Version: 2.1.29 Precedence: list List-Id: automatic DPDK test reports List-Unsubscribe: , List-Archive: List-Post: List-Help: List-Subscribe: , Errors-To: test-report-bounces@dpdk.org _Testing PASS_ Branch: tags/v24.11 b287e404643aeab5bb5db084c142789df187844e --> testing pass Upstream job id: Generic-Unit-Test-DPDK#378049 Test environment and result as below: +-------------------------------+----------------+ | Environment | dpdk_unit_test | +===============================+================+ | CentOS Stream 10 | PASS | +-------------------------------+----------------+ | Debian GNU/Linux 12 | PASS | +-------------------------------+----------------+ | CentOS Stream 9 | PASS | +-------------------------------+----------------+ | Fedora Linux 40 | PASS | +-------------------------------+----------------+ | Fedora Linux 42 | PASS | +-------------------------------+----------------+ | Fedora Linux 41 | PASS | +-------------------------------+----------------+ | Red Hat Enterprise Linux 8.10 | PASS | +-------------------------------+----------------+ | Ubuntu 22.04 | PASS | +-------------------------------+----------------+ | Ubuntu 20.04 | PASS | +-------------------------------+----------------+ | Ubuntu 24.04 | PASS | +-------------------------------+----------------+ | Red Hat Enterprise Linux 9.5 | PASS | +-------------------------------+----------------+ | Windows Server 2022 | PASS | +-------------------------------+----------------+ CentOS Stream 10 Kernel: 5.15 Compiler: gcc gcc (GCC) 14.2.1 20250110 (Red Hat 14.2.1-8) Debian GNU/Linux 12 Kernel: 5.15 Compiler: gcc gcc (Debian 12.2.0-14+deb12u1) 12.2.0 CentOS Stream 9 Kernel: 5.15 Compiler: gcc gcc (GCC) 11.5.0 20240719 (Red Hat 11.5.0-11) Fedora Linux 40 Kernel: 5.15 Compiler: gcc gcc (GCC) 14.2.1 20240912 (Red Hat 14.2.1-3) Fedora Linux 42 Kernel: 5.15 Compiler: gcc gcc (GCC) 15.2.1 20250808 (Red Hat 15.2.1-1) Fedora Linux 41 Kernel: 5.15 Compiler: clang gcc (GCC) 14.3.1 20250523 (Red Hat 14.3.1-1) Red Hat Enterprise Linux 8.10 Kernel: 5.15 Compiler: gcc gcc (GCC) 8.5.0 20210514 (Red Hat 8.5.0-22) Ubuntu 22.04 Kernel: 5.15 Compiler: gcc gcc (Ubuntu 11.4.0-1ubuntu1~22.04) 11.4.0 Ubuntu 20.04 Kernel: 5.15 Compiler: gcc gcc (Ubuntu 9.4.0-1ubuntu1~20.04.2) 9.4.0 Ubuntu 24.04 Kernel: 5.15 Compiler: gcc gcc (Ubuntu 13.3.0-6ubuntu2~24.04) 13.3.0 Red Hat Enterprise Linux 9.5 Kernel: 5.15 Compiler: gcc gcc (GCC) 11.5.0 20240719 (Red Hat 11.5.0-2) Windows Server 2022 Kernel: 10.0.20348.2031 Compiler: clang 15.0.7, gcc 14.1.0 (MinGW), and MSVC VS 19.39.33521 To view detailed results, visit: https://lab.dpdk.org/results/dashboard/tarballs/35091/ UNH-IOL DPDK Community Lab To manage your email subscriptions, visit: https://lab.dpdk.org/results/dashboard/preferences/subscriptions/