From mboxrd@z Thu Jan 1 00:00:00 1970 Return-Path: Received: from mails.dpdk.org (mails.dpdk.org [217.70.189.124]) by inbox.dpdk.org (Postfix) with ESMTP id 90C224889B for ; Fri, 3 Oct 2025 08:34:53 +0200 (CEST) Received: from mails.dpdk.org (localhost [127.0.0.1]) by mails.dpdk.org (Postfix) with ESMTP id 8A4734025D; Fri, 3 Oct 2025 08:34:53 +0200 (CEST) Received: from mail-pg1-f226.google.com (mail-pg1-f226.google.com [209.85.215.226]) by mails.dpdk.org (Postfix) with ESMTP id 0DCCB4025D for ; Fri, 3 Oct 2025 08:34:52 +0200 (CEST) Received: by mail-pg1-f226.google.com with SMTP id 41be03b00d2f7-b55517e74e3so2226921a12.2 for ; Thu, 02 Oct 2025 23:34:51 -0700 (PDT) DKIM-Signature: v=1; a=rsa-sha256; c=relaxed/relaxed; d=iol.unh.edu; s=unh-iol; t=1759473291; x=1760078091; darn=dpdk.org; h=cc:to:from:subject:message-id:date:from:to:cc:subject:date :message-id:reply-to; bh=NM4O6mLY5QdPsxhYTV+Yx/+D/dwSmJywgw6EkUMzv2M=; b=IEaj8cALVF4+1li75asTkXrWyUsAXg+xkXiGTLhtW/zTrCG/V5fi7irTFEYSEn6atB /7pG1DGShzcpXeK6zWtsYPD2NsJ8BQ7Uh2w/bg7SH9+30z6y/WzVXHEerm4Qca397cGX QJDtd71QyF6nnKVvqN+q9exgl35HlMbh5MhCs= X-Google-DKIM-Signature: v=1; a=rsa-sha256; c=relaxed/relaxed; d=1e100.net; s=20230601; t=1759473291; x=1760078091; h=cc:to:from:subject:message-id:date:x-gm-message-state:from:to:cc :subject:date:message-id:reply-to; bh=NM4O6mLY5QdPsxhYTV+Yx/+D/dwSmJywgw6EkUMzv2M=; b=nIsr8b5pb0hST0AgNElsvnUX6Iq8b435P5E6ENJsKGYtqfGqu/ex6pPMhzmhG9g4qo 3WUUg8+35Gm7m3tXu/t34mvWGMzy7AMoI/UG/nD7iO5fV1+mgE5Iat1gR8UlA2POdRCj aP9+EekCCoP8qn2fTsHaSYvNqoTraW4O5ma2DGq+TfegYzQ3Li0fNYc/gOkfpnkG8fEI EM1J26ayxZLAbYvTx+qr5iXZzVL+mRt3Lh2Ayi0+RfM6gJhXw2NBkaaoNgOzgYUtS/sT AGzFp4+Wf6kZb6XMmtWUdZa/f2ObWZXrL12Q/Aw6raoFUI0WLBSMmElhzcT9ELI0g0X0 EoBw== X-Gm-Message-State: AOJu0YylrAqNgNIl3H2N7MNWuVrnsSZOXYZHzwvnnzBoayphr3Vm3huf jZNNl+WfVCUPb3afMkBansiSMesmTQJhMVAf0r04FIUa8PdRSFWD6rD6+0m7Jy34SumFgstzBQa If0Iuje101aLNM8fVc1g3gXuk2eAOQCSmB90b378HoIMd X-Gm-Gg: ASbGncsqxa3nRvQTkT91IMWQ1U8uBN6I9t/4RSCvdaejxyFjmjEzE+MwIvBtWNamz1/ Nc2XJlZ9y7twvaVDf1orq7ef0+nreqL7vsOShUZdQR9+9BCvpm2aIPGWabZYRCAetcQCN+nxDjq LnY3HjEWHkZZzYdZ1V2WtTcp1Rtx6R8Ao+OXunr2awvk6CUABhJdKQOq1QaAyEaX7ZPh7ix/4G5 Itco5E+NVQLBwyWVOyEUEhY0JyIiy3GTLEcAu94/h9mXLGmVTLj5jan7uUh/s6HhTUMsg+1ZCEP IenhtlSyhjOx43E5vXfYrla3hOWpnRCXJq2EORJ1Bw0AN/NFKDdPGp4c+hWXbdHt7xwW4vkRpN5 msA== X-Google-Smtp-Source: AGHT+IG8RcsrVIgFGxxU8r+WwkjWfNPM5ZODVSLUJOZUosIIOZl7Iqp5o5id7+qhPXhK7XCrJKGw3yTdc0Ad X-Received: by 2002:a17:902:f68f:b0:26b:da03:60db with SMTP id d9443c01a7336-28e9a5ea070mr27976845ad.13.1759473290935; Thu, 02 Oct 2025 23:34:50 -0700 (PDT) Received: from postal.iol.unh.edu (postal.iol.unh.edu. [132.177.123.84]) by smtp-relay.gmail.com with ESMTPS id d9443c01a7336-28e8d108405sm3230285ad.5.2025.10.02.23.34.50 (version=TLS1_2 cipher=ECDHE-ECDSA-AES128-GCM-SHA256 bits=128/128); Thu, 02 Oct 2025 23:34:50 -0700 (PDT) X-Relaying-Domain: iol.unh.edu Date: Thu, 02 Oct 2025 23:34:50 -0700 (PDT) Message-ID: <68df6e8a.170a0220.389ad4.408dSMTPIN_ADDED_MISSING@mx.google.com> Received: from [172.21.0.2] (unknown [172.18.0.240]) by postal.iol.unh.edu (Postfix) with ESMTP id 2B9DD6051830; Fri, 3 Oct 2025 02:34:50 -0400 (EDT) Subject: |SUCCESS| [GIT MASTER] e7d8cc7ef4df3552575525697079d3c957cfcdaf From: dpdklab@iol.unh.edu To: Test Report Cc: dpdk-test-reports@iol.unh.edu, Bruce Richardson Content-Type: text/plain X-BeenThere: test-report@dpdk.org X-Mailman-Version: 2.1.29 Precedence: list List-Id: automatic DPDK test reports List-Unsubscribe: , List-Archive: List-Post: List-Help: List-Subscribe: , Errors-To: test-report-bounces@dpdk.org _Testing PASS_ Branch: dpdk-next-net-intel e7d8cc7ef4df3552575525697079d3c957cfcdaf --> testing pass Upstream job id: Generic-Unit-Test-DPDK#377889 Test environment and result as below: +------------------------------+----------------+--------------+------------------------------+---------------------------+ | Environment | dpdk_unit_test | lpm_autotest | cryptodev_sw_snow3g_autotest | cryptodev_sw_zuc_autotest | +==============================+================+==============+==============================+===========================+ | CentOS Stream 10 | PASS | SKIPPED | SKIPPED | SKIPPED | +------------------------------+----------------+--------------+------------------------------+---------------------------+ | CentOS Stream 9 | PASS | SKIPPED | SKIPPED | SKIPPED | +------------------------------+----------------+--------------+------------------------------+---------------------------+ | Debian GNU/Linux 12 | PASS | SKIPPED | SKIPPED | SKIPPED | +------------------------------+----------------+--------------+------------------------------+---------------------------+ | Fedora Linux 40 | PASS | SKIPPED | SKIPPED | SKIPPED | +------------------------------+----------------+--------------+------------------------------+---------------------------+ | Ubuntu 22.04 | PASS | SKIPPED | SKIPPED | SKIPPED | +------------------------------+----------------+--------------+------------------------------+---------------------------+ | Fedora Linux 41 | PASS | SKIPPED | SKIPPED | SKIPPED | +------------------------------+----------------+--------------+------------------------------+---------------------------+ | Fedora Linux 42 | PASS | SKIPPED | SKIPPED | SKIPPED | +------------------------------+----------------+--------------+------------------------------+---------------------------+ | Ubuntu 20.04 | PASS | PASS | SKIPPED | SKIPPED | +------------------------------+----------------+--------------+------------------------------+---------------------------+ | Red Hat Enterprise Linux 9.5 | PASS | SKIPPED | SKIPPED | SKIPPED | +------------------------------+----------------+--------------+------------------------------+---------------------------+ | Ubuntu 24.04 | PASS | SKIPPED | SKIPPED | SKIPPED | +------------------------------+----------------+--------------+------------------------------+---------------------------+ | Debian 12 (arm) | SKIPPED | SKIPPED | PASS | PASS | +------------------------------+----------------+--------------+------------------------------+---------------------------+ CentOS Stream 10 Kernel: 5.4 Compiler: gcc gcc (GCC) 14.2.1 20250110 (Red Hat 14.2.1-8) CentOS Stream 9 Kernel: 5.4 Compiler: gcc gcc (GCC) 11.5.0 20240719 (Red Hat 11.5.0-11) Debian GNU/Linux 12 Kernel: 5.4 Compiler: gcc gcc (Debian 12.2.0-14+deb12u1) 12.2.0 Fedora Linux 40 Kernel: 5.4 Compiler: clang gcc (GCC) 14.2.1 20240912 (Red Hat 14.2.1-3) Ubuntu 22.04 Kernel: 5.15 Compiler: gcc gcc (Ubuntu 11.4.0-1ubuntu1~22.04.2) 11.4.0 Fedora Linux 41 Kernel: 5.4 Compiler: gcc gcc (GCC) 14.3.1 20250523 (Red Hat 14.3.1-1) Fedora Linux 42 Kernel: 5.4 Compiler: clang gcc (GCC) 15.2.1 20250808 (Red Hat 15.2.1-1) Ubuntu 20.04 Kernel: 5.4 Compiler: gcc gcc (Ubuntu 9.4.0-1ubuntu1~20.04.2) 9.4.0 Red Hat Enterprise Linux 9.5 Kernel: 5.4 Compiler: gcc gcc (GCC) 11.5.0 20240719 (Red Hat 11.5.0-2) Ubuntu 24.04 Kernel: 5.4 Compiler: gcc gcc (Ubuntu 13.3.0-6ubuntu2~24.04) 13.3.0 Debian 12 (arm) Kernel: Depends on container host Compiler: gcc (Debian 12.2.0-14) 12.2.0 To view detailed results, visit: https://lab.dpdk.org/results/dashboard/tarballs/35085/ UNH-IOL DPDK Community Lab To manage your email subscriptions, visit: https://lab.dpdk.org/results/dashboard/preferences/subscriptions/