From mboxrd@z Thu Jan 1 00:00:00 1970 Return-Path: Received: from mails.dpdk.org (mails.dpdk.org [217.70.189.124]) by inbox.dpdk.org (Postfix) with ESMTP id 864D24889B for ; Fri, 3 Oct 2025 09:50:28 +0200 (CEST) Received: from mails.dpdk.org (localhost [127.0.0.1]) by mails.dpdk.org (Postfix) with ESMTP id 6913640262; Fri, 3 Oct 2025 09:50:28 +0200 (CEST) Received: from mail-vk1-f225.google.com (mail-vk1-f225.google.com [209.85.221.225]) by mails.dpdk.org (Postfix) with ESMTP id D468340262 for ; Fri, 3 Oct 2025 09:50:27 +0200 (CEST) Received: by mail-vk1-f225.google.com with SMTP id 71dfb90a1353d-54aa6a0babeso2310621e0c.0 for ; Fri, 03 Oct 2025 00:50:27 -0700 (PDT) DKIM-Signature: v=1; a=rsa-sha256; c=relaxed/relaxed; d=iol.unh.edu; s=unh-iol; t=1759477827; x=1760082627; darn=dpdk.org; h=references:in-reply-to:cc:to:from:subject:message-id:date:from:to :cc:subject:date:message-id:reply-to; bh=mmyoXjAFKRD1xEDnOdWbcCQBpOreZoWWzkY+PTDssBA=; b=ON8LWATk3RVy7Op5RtTiLl4gdalkIhYWGk51/kJJQNoSBX3n4u9eWv82by7LbuLs6O LtrbtqNDdhQct3/0PCqiHy2zRYm5adQIiLQrjOymUDYagjRZDf/6cc+6RJdAMh6gZIRs 9JVbl+F5lJNW/hhUCy+zh28pDYHJItXaLnwk4= X-Google-DKIM-Signature: v=1; a=rsa-sha256; c=relaxed/relaxed; d=1e100.net; s=20230601; t=1759477827; x=1760082627; h=references:in-reply-to:cc:to:from:subject:message-id:date :x-gm-message-state:from:to:cc:subject:date:message-id:reply-to; bh=mmyoXjAFKRD1xEDnOdWbcCQBpOreZoWWzkY+PTDssBA=; b=fV335dfMhddB3T88lqNb0/Liooo5wlgpb6LIj1m+rNuzP5BaqsdROQo87Kwil53uw/ 91EvRyoZbMq99mO2cxOQDqd8piuDL4ynGLE7VjdRQpg3rR/QRR7DBHFj1GxCWWT28duH u0IOHpGFtqIgT8ZCx7X7jXjo99Vt6G94APGGUGeWMZsOgltKbdvIl3zX+2Ifd6oZtXbI DZJz0/Mw0m0ZVF3ib0xlIucUPiCgDV/fmskbJhD6odrxMaD3J1gFlgq1CgDpsSGp897V 6NFonXbpe37Yahdzdf/w3omed/jGZ2DehGEb5DX0UAWOdmW7E4/dBmq67fomy5I7skuJ U8Aw== X-Gm-Message-State: AOJu0YzdMykuzVPLgz5cNJDA93luOUyrDWykrmFmTq4kos0VmebHs1ii fG2uXjArbr6WF542YKTMMw3yNoVQd82Svz0OvWlK480XkV0Wlx2tPNG5l0m6cA6aIuMftvvlHgf GtEgJszbfVhsUiG5v1bLOj+HCvwbMqBoVxOgER+iGPfkX X-Gm-Gg: ASbGnctjIKriO9ywmJhBmn0G6lMgij4z2HadrEuVkEaoJbDrCDzZRZt5YVq1WfPwNcc xVfG1Ice/6roLUgBO5iJDvXm/+dx8kiVTcNFxtT7i1xXG0g0VfRDnqvsyzjruul4VnpY8whDXGu On+mMVaj1MyOCs5epoH7rujCVcm7f9NPi2HmwjJsSk8vfwlQSptsmOcgGbPrfJqW4U4bdUi+YFN 3rq7Csf9qRgU1yv6YO0UBjLlgOPtbBiYcedL+K65+KUwVQci6KSHmOhKfGcvkadsoYJb9bhkDGm NUvFcvU+fu2HfZ3a1WV33SkKLcHL4QDfC4CHmCKWZxGE/X/v1hGToqEqsfNSvc1p4qQJonkdwPf NcQ== X-Google-Smtp-Source: AGHT+IEAwEXxcEyK/2pxAsjSHsQQVq9duW6yiV1Gcqe9de/gDdX3ypSe0LaMVS8DjqCV2maO0LNmvIqX8nCH X-Received: by 2002:a05:6122:2bce:b0:54a:a58f:e989 with SMTP id 71dfb90a1353d-5523c1c1304mr1958548e0c.8.1759477827193; Fri, 03 Oct 2025 00:50:27 -0700 (PDT) Received: from postal.iol.unh.edu (postal.iol.unh.edu. [132.177.123.84]) by smtp-relay.gmail.com with ESMTPS id 71dfb90a1353d-5523cf13fc9sm403822e0c.2.2025.10.03.00.50.27 (version=TLS1_2 cipher=ECDHE-ECDSA-AES128-GCM-SHA256 bits=128/128); Fri, 03 Oct 2025 00:50:27 -0700 (PDT) X-Relaying-Domain: iol.unh.edu Date: Fri, 03 Oct 2025 00:50:27 -0700 (PDT) Message-ID: <68df8043.050a0220.b63a6.84cdSMTPIN_ADDED_MISSING@mx.google.com> Received: from [172.21.0.2] (unknown [172.18.0.240]) by postal.iol.unh.edu (Postfix) with ESMTP id D8ADB6051830; Fri, 3 Oct 2025 03:50:26 -0400 (EDT) Subject: |SUCCESS| pw157230 [PATCH] [v2] test/debug: fix crash with mlx5 devi From: dpdklab@iol.unh.edu To: Test Report Cc: dpdk-test-reports@iol.unh.edu In-Reply-To: <20251003065101.617467-1-david.marchand@redhat.com> References: <20251003065101.617467-1-david.marchand@redhat.com> Content-Type: text/plain X-BeenThere: test-report@dpdk.org X-Mailman-Version: 2.1.29 Precedence: list List-Id: automatic DPDK test reports List-Unsubscribe: , List-Archive: List-Post: List-Help: List-Subscribe: , Errors-To: test-report-bounces@dpdk.org Test-Label: iol-compile-amd64-testing Test-Status: SUCCESS http://dpdk.org/patch/157230 _Testing PASS_ Submitter: David Marchand Date: Friday, October 03 2025 06:51:01 DPDK git baseline: Repo:dpdk Branch: master CommitID:76393b98bf67f94dc6aa23cf5016c32571899261 157230 --> testing pass Upstream job id: Windows-Compile-DPDK-Native#31391 Test environment and result as below: +---------------------+-------------------------+-------------------+--------------------+ | Environment | dpdk_llvm_clang_compile | dpdk_msvc_compile | dpdk_meson_compile | +=====================+=========================+===================+====================+ | Windows Server 2022 | PASS | PASS | SKIPPED | +---------------------+-------------------------+-------------------+--------------------+ | FreeBSD 14.2 | SKIPPED | SKIPPED | PASS | +---------------------+-------------------------+-------------------+--------------------+ | Ubuntu 20.04 | SKIPPED | SKIPPED | PASS | +---------------------+-------------------------+-------------------+--------------------+ Windows Server 2022 Kernel: 10.0.20348.2031 Compiler: clang 15.0.7, gcc 14.1.0 (MinGW), and MSVC VS 19.39.33521 FreeBSD 14.2 Kernel: 14.2-RELEASE Compiler: clang 18.1.6 Ubuntu 20.04 Kernel: 4.19 Compiler: gcc gcc (Ubuntu 9.4.0-1ubuntu1~20.04.2) 9.4.0 To view detailed results, visit: https://lab.dpdk.org/results/dashboard/patchsets/34204/ UNH-IOL DPDK Community Lab To manage your email subscriptions, visit: https://lab.dpdk.org/results/dashboard/preferences/subscriptions/