From mboxrd@z Thu Jan 1 00:00:00 1970 Return-Path: Received: from mails.dpdk.org (mails.dpdk.org [217.70.189.124]) by inbox.dpdk.org (Postfix) with ESMTP id 710A74889B for ; Fri, 3 Oct 2025 09:58:37 +0200 (CEST) Received: from mails.dpdk.org (localhost [127.0.0.1]) by mails.dpdk.org (Postfix) with ESMTP id 47C8C40262; Fri, 3 Oct 2025 09:58:37 +0200 (CEST) Received: from mail-pl1-f225.google.com (mail-pl1-f225.google.com [209.85.214.225]) by mails.dpdk.org (Postfix) with ESMTP id 68CFC40262 for ; Fri, 3 Oct 2025 09:58:36 +0200 (CEST) Received: by mail-pl1-f225.google.com with SMTP id d9443c01a7336-27edcbcd158so24778325ad.3 for ; Fri, 03 Oct 2025 00:58:36 -0700 (PDT) DKIM-Signature: v=1; a=rsa-sha256; c=relaxed/relaxed; d=iol.unh.edu; s=unh-iol; t=1759478315; x=1760083115; darn=dpdk.org; h=references:in-reply-to:cc:to:from:subject:message-id:date:from:to :cc:subject:date:message-id:reply-to; bh=UyLB6ibixSSMDRw4/iJIkfNREKUIMPtt7YyMT1pME+E=; b=KAIRr1qnL7hTr5ww7tJTPBefUts/6A2cK0x8N7sb4SIuzEj9RuPEeS7zWXscYPdRep VWiYCeexnLn4LWcT6Qs6c36znWctqPnp9UsGvYSgPi/tP5nAt/Fvu7sgcCt62lGf2z8V 4wobyGZ2dJ7lrZIXNgXm3vfoY1Wp6zMyrY+7E= X-Google-DKIM-Signature: v=1; a=rsa-sha256; c=relaxed/relaxed; d=1e100.net; s=20230601; t=1759478315; x=1760083115; h=references:in-reply-to:cc:to:from:subject:message-id:date :x-gm-message-state:from:to:cc:subject:date:message-id:reply-to; bh=UyLB6ibixSSMDRw4/iJIkfNREKUIMPtt7YyMT1pME+E=; b=g7Ju0RkhRcnalKUHzp7ptNq763AtDHBpJT788Bgmdn16fL7uAgi+pZQaH2/BdDrKVV spQcIAZielXZw6eFw6aF0xzl4NHqBle65HTG3TFtLtTkHmXyc/X33hSWEIEHXqS6g4QE zXvNeOw7R7o2KgOQizXwsemN9YmWcgBBY7KjxJ+3OhN2roEYjJsIcJ6ln3Hi1IJwnRZ0 msdr6CF8KztvxdlRkRnjJp91YKAvRDBw2+y5/570wKlj/9RzkGJAuF/0k6yEcbo3pSw/ HAWI6Li60BoF0nkgPuKyHqKGMDDvMW7mPj2g3KIzt8Uv3kaUfcOIkhJG8U8pYr9gP1Kq rxIQ== X-Gm-Message-State: AOJu0YxwlUDrsg2sDlnRWJqasBrn3s48Fy2jrcnt5F6uzpOeceMbGU29 ZfmxRbaq+vcJu79166ZnNO9Jyw1rmUxLwU/cIbPmcgGvFjhhkg8yACwCBeuIOHx6kOO5MuuCuZ1 pKji8P3VIiuH4ETXYK3n4WmyL5yUbPEnM3Nex7TLY1/J8IfGeeSxNfNy5CXMA X-Gm-Gg: ASbGncssPcBr2k2oNTd4IVvttP2CKSo7Sff+HBP2kqQkuiCN3aheIW4uUP+VjGqYvdd ACDxuapzwW6oodFOWfbZ6R4WTIWl5+ZGbxeb1XWlzqrI8NOhpq7m7WAGQuvzJEBQHzBlXsaRVlP ahUhojFgW8Hl691o534lDJ9RJcuupwoKh2E+LO/67ZONeLo05De3w5uJwrqpgBsU2/i5I8DkqnP XnQxI262gFijZsnkmtXxVdNTqvzwRNtdfbPVzJJugMvBkryck0QtZDt2KHh/HNinOOfsgbxueJX Znrg56aY7KkFLnSjTa8pL+9ONmHtAlz68m8NcYLnmv25FFUDw4OCK60= X-Google-Smtp-Source: AGHT+IEzU13XVf/TbxsROl81MoGaZde7xAQv4oXL8VDtkOXFvYVXlqCXNMgouYKh3lIOBFi7+lPDjtGEwUGg X-Received: by 2002:a17:903:19cf:b0:280:fe18:8479 with SMTP id d9443c01a7336-28e9a633f2fmr21761675ad.51.1759478315481; Fri, 03 Oct 2025 00:58:35 -0700 (PDT) Received: from postal.iol.unh.edu (postal.iol.unh.edu. [2606:4100:3880:1234::84]) by smtp-relay.gmail.com with ESMTPS id d9443c01a7336-28e8d1818e8sm3401875ad.44.2025.10.03.00.58.35 (version=TLS1_2 cipher=ECDHE-ECDSA-AES128-GCM-SHA256 bits=128/128); Fri, 03 Oct 2025 00:58:35 -0700 (PDT) X-Relaying-Domain: iol.unh.edu Date: Fri, 03 Oct 2025 00:58:35 -0700 (PDT) Message-ID: <68df822b.170a0220.392f95.4de1SMTPIN_ADDED_MISSING@mx.google.com> Received: from [172.21.0.2] (unknown [172.18.0.240]) by postal.iol.unh.edu (Postfix) with ESMTP id 407006051830; Fri, 3 Oct 2025 03:58:34 -0400 (EDT) Subject: |SUCCESS| pw157230 [PATCH] [v2] test/debug: fix crash with mlx5 devi From: dpdklab@iol.unh.edu To: Test Report Cc: dpdk-test-reports@iol.unh.edu In-Reply-To: <20251003065101.617467-1-david.marchand@redhat.com> References: <20251003065101.617467-1-david.marchand@redhat.com> Content-Type: text/plain X-BeenThere: test-report@dpdk.org X-Mailman-Version: 2.1.29 Precedence: list List-Id: automatic DPDK test reports List-Unsubscribe: , List-Archive: List-Post: List-Help: List-Subscribe: , Errors-To: test-report-bounces@dpdk.org Test-Label: iol-unit-amd64-testing Test-Status: SUCCESS http://dpdk.org/patch/157230 _Testing PASS_ Submitter: David Marchand Date: Friday, October 03 2025 06:51:01 DPDK git baseline: Repo:dpdk Branch: master CommitID:76393b98bf67f94dc6aa23cf5016c32571899261 157230 --> testing pass Upstream job id: Generic-VM-Unit-Test-DPDK#31560 Test environment and result as below: +-------------------------------+----------------+ | Environment | dpdk_unit_test | +===============================+================+ | CentOS Stream 10 | PASS | +-------------------------------+----------------+ | CentOS Stream 9 | PASS | +-------------------------------+----------------+ | Debian GNU/Linux 12 | PASS | +-------------------------------+----------------+ | Fedora Linux 40 | PASS | +-------------------------------+----------------+ | Fedora Linux 41 | PASS | +-------------------------------+----------------+ | Red Hat Enterprise Linux 9.5 | PASS | +-------------------------------+----------------+ | Fedora Linux 42 | PASS | +-------------------------------+----------------+ | Ubuntu 20.04 | PASS | +-------------------------------+----------------+ | Red Hat Enterprise Linux 8.10 | PASS | +-------------------------------+----------------+ | Windows Server 2022 | PASS | +-------------------------------+----------------+ | Ubuntu 24.04 | PASS | +-------------------------------+----------------+ | Ubuntu 22.04 | PASS | +-------------------------------+----------------+ CentOS Stream 10 Kernel: 5.15 Compiler: gcc gcc (GCC) 14.2.1 20250110 (Red Hat 14.2.1-8) CentOS Stream 9 Kernel: 5.15 Compiler: gcc gcc (GCC) 11.5.0 20240719 (Red Hat 11.5.0-11) Debian GNU/Linux 12 Kernel: 5.15 Compiler: gcc gcc (Debian 12.2.0-14+deb12u1) 12.2.0 Fedora Linux 40 Kernel: 5.15 Compiler: gcc gcc (GCC) 14.2.1 20240912 (Red Hat 14.2.1-3) Fedora Linux 41 Kernel: 5.15 Compiler: clang gcc (GCC) 14.3.1 20250523 (Red Hat 14.3.1-1) Red Hat Enterprise Linux 9.5 Kernel: 5.15 Compiler: gcc gcc (GCC) 11.5.0 20240719 (Red Hat 11.5.0-2) Fedora Linux 42 Kernel: 5.15 Compiler: gcc gcc (GCC) 15.2.1 20250808 (Red Hat 15.2.1-1) Ubuntu 20.04 Kernel: 5.15 Compiler: gcc gcc (Ubuntu 9.4.0-1ubuntu1~20.04.2) 9.4.0 Red Hat Enterprise Linux 8.10 Kernel: 5.15 Compiler: gcc gcc (GCC) 8.5.0 20210514 (Red Hat 8.5.0-22) Windows Server 2022 Kernel: 10.0.20348.2031 Compiler: clang 15.0.7, gcc 14.1.0 (MinGW), and MSVC VS 19.39.33521 Ubuntu 24.04 Kernel: 5.15 Compiler: gcc gcc (Ubuntu 13.3.0-6ubuntu2~24.04) 13.3.0 Ubuntu 22.04 Kernel: 5.15 Compiler: gcc gcc (Ubuntu 11.4.0-1ubuntu1~22.04) 11.4.0 To view detailed results, visit: https://lab.dpdk.org/results/dashboard/patchsets/34204/ UNH-IOL DPDK Community Lab To manage your email subscriptions, visit: https://lab.dpdk.org/results/dashboard/preferences/subscriptions/