From mboxrd@z Thu Jan 1 00:00:00 1970 Return-Path: Received: from mails.dpdk.org (mails.dpdk.org [217.70.189.124]) by inbox.dpdk.org (Postfix) with ESMTP id 714254889B for ; Fri, 3 Oct 2025 09:59:32 +0200 (CEST) Received: from mails.dpdk.org (localhost [127.0.0.1]) by mails.dpdk.org (Postfix) with ESMTP id 69E1640262; Fri, 3 Oct 2025 09:59:32 +0200 (CEST) Received: from mail-pf1-f226.google.com (mail-pf1-f226.google.com [209.85.210.226]) by mails.dpdk.org (Postfix) with ESMTP id 4889740262 for ; Fri, 3 Oct 2025 09:59:31 +0200 (CEST) Received: by mail-pf1-f226.google.com with SMTP id d2e1a72fcca58-77f343231fcso1215304b3a.3 for ; Fri, 03 Oct 2025 00:59:31 -0700 (PDT) DKIM-Signature: v=1; a=rsa-sha256; c=relaxed/relaxed; d=iol.unh.edu; s=unh-iol; t=1759478370; x=1760083170; darn=dpdk.org; h=references:in-reply-to:cc:to:from:subject:message-id:date:from:to :cc:subject:date:message-id:reply-to; bh=EQPmq2FPiJ0/I/UQaI82ZveFE3r+Y/VjokubmrMzVqY=; b=KQiD4w4A3jXE6Pszu/5MezMVuxGzhfadJsRNhpXXHGP/MYmeBzuBTB6ZusnNIFkfG7 s0jgxyLVGNfb+23cD6iJDdDBRUcRraGSRzqkEIKTlWQ2ZRCLxn6MFKhTz0fFCCqKwMkP G29Y7fGG7oFgfMUy2h9kG+UPDnEgnfvz4wzoI= X-Google-DKIM-Signature: v=1; a=rsa-sha256; c=relaxed/relaxed; d=1e100.net; s=20230601; t=1759478370; x=1760083170; h=references:in-reply-to:cc:to:from:subject:message-id:date :x-gm-message-state:from:to:cc:subject:date:message-id:reply-to; bh=EQPmq2FPiJ0/I/UQaI82ZveFE3r+Y/VjokubmrMzVqY=; b=T059aRVU9slms+WjXc6Dqij4b/VXSDzWWAYiBJeOOkH5d+dyQDCOUuJk4UCdIO6Ygk CBn7ms1SQcOunNnsvignBxjZD2piO4r9WhL+1z7Ej3igsrDC/pLCy0TWo/G4+pLxC2a3 zntQdKXmaSSYYWRBe4ltRH5bqvWIRabVjjfB/b6zQ0diEdsRMn0903tKuA9x58cR4wWI ZXpz6S+CaHw756HLuv/f0/FlnANuIsy7L3+0OSM/EeMiI0VGi2jo4sEoWD3zg63JAr9A k6MWVzrNFv9iTsVhh7bw98WxgDz/7Gd5hevjhlO0BQwyjGmOTHssjjG3GxRQokIM1N3G 8Rxw== X-Gm-Message-State: AOJu0YyCzaSAtN1pBHsdu3+woMCMchkwzUxFlhVUrq9Uj5VwdkA1jG9g ENPaV+NZFNSx0dyA4EL2HdPC6zj3O/6rBDi0ZVK1XYajcSNl1WLkpK6xAKBW00Xn/0Iow2Cur+e QQg3ofvBvNpemocixz6k0HsGm1sBjyo9MW8fjbJxFd+/Dgiykyl1BCoe/I0P6 X-Gm-Gg: ASbGnct8G8ZQCFDrV/4higqkiu3Qkr52IVHaSbIOisLmMbiZwj8gMVgegKes+Kh9aeV UIxka0M5Dd3KKJo+xRS0gbJ9O57MLEE1Qf7jHR55QBLTX45Zsj1QTEL87qL5xMTU1NwKcDLZtuF fs9ivdU9Op4X54XuTZ6owJ+4yxN1Mf6JfWTijhRz5ntEOU8qPfJ+CiYk+B71v0bbYDTs+owul8y V/Zlu8BxLGiY7HdWJJmJCjqySoXqsq5yr2W0rNCHZFowGFT/lj73FVVbBAgqrl4SIDB7cBlqYse sBK/pjoK0NQThM2+xzXFEqifxQFVUnz1MhCa1A55txhJ4PmFGUgkfWo= X-Google-Smtp-Source: AGHT+IG3+tIDlVMWGeUWe7GsInpt9YbOhD5QKD1wMXrH79V0MApl+6GIzSbX7g9YN4Pzu0sIvOcm7MarqDzh X-Received: by 2002:a05:6a20:958f:b0:264:221f:d397 with SMTP id adf61e73a8af0-32b61dfbdccmr2885077637.4.1759478370416; Fri, 03 Oct 2025 00:59:30 -0700 (PDT) Received: from postal.iol.unh.edu (postal.iol.unh.edu. [2606:4100:3880:1234::84]) by smtp-relay.gmail.com with ESMTPS id d2e1a72fcca58-78b01eae6b2sm348898b3a.0.2025.10.03.00.59.30 (version=TLS1_2 cipher=ECDHE-ECDSA-AES128-GCM-SHA256 bits=128/128); Fri, 03 Oct 2025 00:59:30 -0700 (PDT) X-Relaying-Domain: iol.unh.edu Date: Fri, 03 Oct 2025 00:59:30 -0700 (PDT) Message-ID: <68df8262.050a0220.396348.4bc5SMTPIN_ADDED_MISSING@mx.google.com> Received: from [172.21.0.3] (unknown [172.18.0.240]) by postal.iol.unh.edu (Postfix) with ESMTP id 31C726051830; Fri, 3 Oct 2025 03:59:29 -0400 (EDT) Subject: |SUCCESS| pw157230 [PATCH] [v2] test/debug: fix crash with mlx5 devi From: dpdklab@iol.unh.edu To: Test Report Cc: dpdk-test-reports@iol.unh.edu In-Reply-To: <20251003065101.617467-1-david.marchand@redhat.com> References: <20251003065101.617467-1-david.marchand@redhat.com> Content-Type: text/plain X-BeenThere: test-report@dpdk.org X-Mailman-Version: 2.1.29 Precedence: list List-Id: automatic DPDK test reports List-Unsubscribe: , List-Archive: List-Post: List-Help: List-Subscribe: , Errors-To: test-report-bounces@dpdk.org Test-Label: iol-compile-amd64-testing Test-Status: SUCCESS http://dpdk.org/patch/157230 _Testing PASS_ Submitter: David Marchand Date: Friday, October 03 2025 06:51:01 DPDK git baseline: Repo:dpdk Branch: master CommitID:76393b98bf67f94dc6aa23cf5016c32571899261 157230 --> testing pass Upstream job id: Windows-Compile-DPDK-Native#31392 Test environment and result as below: +---------------------+-------------------------+-------------------+--------------------+----------------------+ | Environment | dpdk_llvm_clang_compile | dpdk_msvc_compile | dpdk_meson_compile | dpdk_mingw64_compile | +=====================+=========================+===================+====================+======================+ | Windows Server 2022 | PASS | PASS | SKIPPED | PASS | +---------------------+-------------------------+-------------------+--------------------+----------------------+ | FreeBSD 14.2 | SKIPPED | SKIPPED | PASS | SKIPPED | +---------------------+-------------------------+-------------------+--------------------+----------------------+ | Ubuntu 20.04 | SKIPPED | SKIPPED | PASS | SKIPPED | +---------------------+-------------------------+-------------------+--------------------+----------------------+ Windows Server 2022 Kernel: 10.0.20348.2031 Compiler: clang 15.0.7, gcc 14.1.0 (MinGW), and MSVC VS 19.39.33521 FreeBSD 14.2 Kernel: 14.2-RELEASE Compiler: clang 18.1.6 Ubuntu 20.04 Kernel: 4.19 Compiler: gcc gcc (Ubuntu 9.4.0-1ubuntu1~20.04.2) 9.4.0 To view detailed results, visit: https://lab.dpdk.org/results/dashboard/patchsets/34204/ UNH-IOL DPDK Community Lab To manage your email subscriptions, visit: https://lab.dpdk.org/results/dashboard/preferences/subscriptions/