From mboxrd@z Thu Jan 1 00:00:00 1970 Return-Path: Received: from mails.dpdk.org (mails.dpdk.org [217.70.189.124]) by inbox.dpdk.org (Postfix) with ESMTP id 0DEDB4889D for ; Fri, 3 Oct 2025 10:04:29 +0200 (CEST) Received: from mails.dpdk.org (localhost [127.0.0.1]) by mails.dpdk.org (Postfix) with ESMTP id E1F1F40262; Fri, 3 Oct 2025 10:04:28 +0200 (CEST) Received: from mail-il1-f226.google.com (mail-il1-f226.google.com [209.85.166.226]) by mails.dpdk.org (Postfix) with ESMTP id 656AA40262 for ; Fri, 3 Oct 2025 10:04:27 +0200 (CEST) Received: by mail-il1-f226.google.com with SMTP id e9e14a558f8ab-4248746aabfso7382165ab.2 for ; Fri, 03 Oct 2025 01:04:27 -0700 (PDT) DKIM-Signature: v=1; a=rsa-sha256; c=relaxed/relaxed; d=iol.unh.edu; s=unh-iol; t=1759478666; x=1760083466; darn=dpdk.org; h=references:in-reply-to:cc:to:from:subject:message-id:date:from:to :cc:subject:date:message-id:reply-to; bh=rvX/dC0rROhJssNlDYqA6az6ILz7aFVfJ3n/KX8kc6U=; b=BBVJZ/A0KPzNZidip4jBppTX7hoel8cacWJG+bzToKONA3AlL6HEhW/PImdGAHZXRc mNV+5jn0S1c0qStT4/7B8g27rabDBzzsiuyLQ+2SqbPYcmAqYqvs39MOmWqqxb+sXctn GzPAc3opoMNtzLte0+AF1b5U6BHOXvLrf7fdo= X-Google-DKIM-Signature: v=1; a=rsa-sha256; c=relaxed/relaxed; d=1e100.net; s=20230601; t=1759478666; x=1760083466; h=references:in-reply-to:cc:to:from:subject:message-id:date :x-gm-message-state:from:to:cc:subject:date:message-id:reply-to; bh=rvX/dC0rROhJssNlDYqA6az6ILz7aFVfJ3n/KX8kc6U=; b=sjGdA/2LuQm71/kRtnbdr4txuNEkI7923CDZxJnGJnAr2dtsKwk0QOrc9WgnvBIRBs /GLM1TpEMeVzulrI+2zvlYzr76EqyYVVy0BFLXg0k/rsdscPtx/chV+tKXl7m8udC9x4 LGaXBfqdteGro7pqtKv+4YrPG5ZocGjpLdt+GoR2D5OLpBV3fr6gIoQev4yd22fWU1Qv gd42KfYIER80cfDWcPi9/rrZTiWzomYzWQ+UXrTrpt3+6A1SrLJ85fuBcY4+6OTQvZbx hZZzUYH2dbVMNE7cW19DND0IomiObd8plQIMgSY5WYcMdnB/raKiJ6XKScSX8YMCZXFz TWSw== X-Gm-Message-State: AOJu0YySKmEmdRFpT6xYzz90CZdqHxKE2VHqI8ZH5TXb46FaQuvPrTem iuDZwHKKfLxtQWcNnZk96R3/A1DZ7yio1IP29N4ZcEQKwSh2hpJvK3z5G9i1n8VDQPj+7H5Si9n GX5Z1f7DgPuRYthzfTEvlYqj+BMVMEOf8JqiqbLVD6wFe X-Gm-Gg: ASbGncv0Fv98ew6wOVHUPkF7rfFRfgUaZ5o/3kLPmh4UK8Hyp5LhJ9KZMgKAlw25LnU OyVJJckfgdbx24baT25sV4VDbBnfZuWesX+2YAqo1YCrczVSi+RDznVYPnXn+7Q8yKDFTtZ/RH0 MoWroGezoWb43RAyINLQTdKJz0s3T/y5mSa1BEAWlhW0lf8cr/vzg5Pd9L9Nv/OAMh6LtDdTPTH /COjXlAPiWX1F7yn5zPXfS9zB+vUnRFoYPZqD78EMJC0Bw1AFDqPrtKCX5NUsHFFFegpnI/Sw43 JXlEf+W76Eh+UXeE+hJa4+Q9515qkejqflO66NAXmYlNetvce0+GFSmuHrAfs3tmZvn9wVdqXll kdg== X-Google-Smtp-Source: AGHT+IFS8xc4SMUPJhnDaFwsbGvZpOEW0OvWkQSMuwh/mOhveBbfehtBd2tXmfx6RjrNBgHNTSgNakZ3d/Gs X-Received: by 2002:a05:6e02:1846:b0:427:a3b1:316f with SMTP id e9e14a558f8ab-42e7ad2f02fmr27804335ab.13.1759478666578; Fri, 03 Oct 2025 01:04:26 -0700 (PDT) Received: from postal.iol.unh.edu (postal.iol.unh.edu. [132.177.123.84]) by smtp-relay.gmail.com with ESMTPS id e9e14a558f8ab-42d8b299285sm3130615ab.35.2025.10.03.01.04.26 (version=TLS1_2 cipher=ECDHE-ECDSA-AES128-GCM-SHA256 bits=128/128); Fri, 03 Oct 2025 01:04:26 -0700 (PDT) X-Relaying-Domain: iol.unh.edu Date: Fri, 03 Oct 2025 01:04:26 -0700 (PDT) Message-ID: <68df838a.050a0220.1cfac.3072SMTPIN_ADDED_MISSING@mx.google.com> Received: from [172.21.0.2] (unknown [172.18.0.240]) by postal.iol.unh.edu (Postfix) with ESMTP id 1E1046051830; Fri, 3 Oct 2025 04:04:26 -0400 (EDT) Subject: |SUCCESS| pw157230 [PATCH] [v2] test/debug: fix crash with mlx5 devi From: dpdklab@iol.unh.edu To: Test Report Cc: dpdk-test-reports@iol.unh.edu In-Reply-To: <20251003065101.617467-1-david.marchand@redhat.com> References: <20251003065101.617467-1-david.marchand@redhat.com> Content-Type: text/plain X-BeenThere: test-report@dpdk.org X-Mailman-Version: 2.1.29 Precedence: list List-Id: automatic DPDK test reports List-Unsubscribe: , List-Archive: List-Post: List-Help: List-Subscribe: , Errors-To: test-report-bounces@dpdk.org Test-Label: iol-unit-amd64-testing Test-Status: SUCCESS http://dpdk.org/patch/157230 _Testing PASS_ Submitter: David Marchand Date: Friday, October 03 2025 06:51:01 DPDK git baseline: Repo:dpdk Branch: master CommitID:76393b98bf67f94dc6aa23cf5016c32571899261 157230 --> testing pass Upstream job id: Generic-VM-Unit-Test-DPDK#31561 Test environment and result as below: +-------------------------------+----------------+ | Environment | dpdk_unit_test | +===============================+================+ | CentOS Stream 10 | PASS | +-------------------------------+----------------+ | CentOS Stream 9 | PASS | +-------------------------------+----------------+ | Debian GNU/Linux 12 | PASS | +-------------------------------+----------------+ | Fedora Linux 40 | PASS | +-------------------------------+----------------+ | Fedora Linux 41 | PASS | +-------------------------------+----------------+ | Red Hat Enterprise Linux 9.5 | PASS | +-------------------------------+----------------+ | Fedora Linux 42 | PASS | +-------------------------------+----------------+ | Ubuntu 20.04 | PASS | +-------------------------------+----------------+ | Red Hat Enterprise Linux 8.10 | PASS | +-------------------------------+----------------+ | Windows Server 2022 | PASS | +-------------------------------+----------------+ | Ubuntu 24.04 | PASS | +-------------------------------+----------------+ | Ubuntu 22.04 | PASS | +-------------------------------+----------------+ CentOS Stream 10 Kernel: 5.15 Compiler: gcc gcc (GCC) 14.2.1 20250110 (Red Hat 14.2.1-8) CentOS Stream 9 Kernel: 5.15 Compiler: gcc gcc (GCC) 11.5.0 20240719 (Red Hat 11.5.0-11) Debian GNU/Linux 12 Kernel: 5.15 Compiler: gcc gcc (Debian 12.2.0-14+deb12u1) 12.2.0 Fedora Linux 40 Kernel: 5.15 Compiler: gcc gcc (GCC) 14.2.1 20240912 (Red Hat 14.2.1-3) Fedora Linux 41 Kernel: 5.15 Compiler: clang gcc (GCC) 14.3.1 20250523 (Red Hat 14.3.1-1) Red Hat Enterprise Linux 9.5 Kernel: 5.15 Compiler: gcc gcc (GCC) 11.5.0 20240719 (Red Hat 11.5.0-2) Fedora Linux 42 Kernel: 5.15 Compiler: gcc gcc (GCC) 15.2.1 20250808 (Red Hat 15.2.1-1) Ubuntu 20.04 Kernel: 5.15 Compiler: gcc gcc (Ubuntu 9.4.0-1ubuntu1~20.04.2) 9.4.0 Red Hat Enterprise Linux 8.10 Kernel: 5.15 Compiler: gcc gcc (GCC) 8.5.0 20210514 (Red Hat 8.5.0-22) Windows Server 2022 Kernel: 10.0.20348.2031 Compiler: clang 15.0.7, gcc 14.1.0 (MinGW), and MSVC VS 19.39.33521 Ubuntu 24.04 Kernel: 5.15 Compiler: gcc gcc (Ubuntu 13.3.0-6ubuntu2~24.04) 13.3.0 Ubuntu 22.04 Kernel: 5.15 Compiler: gcc gcc (Ubuntu 11.4.0-1ubuntu1~22.04) 11.4.0 To view detailed results, visit: https://lab.dpdk.org/results/dashboard/patchsets/34204/ UNH-IOL DPDK Community Lab To manage your email subscriptions, visit: https://lab.dpdk.org/results/dashboard/preferences/subscriptions/