From mboxrd@z Thu Jan 1 00:00:00 1970 Return-Path: Received: from mails.dpdk.org (mails.dpdk.org [217.70.189.124]) by inbox.dpdk.org (Postfix) with ESMTP id B645E4889D for ; Fri, 3 Oct 2025 10:35:19 +0200 (CEST) Received: from mails.dpdk.org (localhost [127.0.0.1]) by mails.dpdk.org (Postfix) with ESMTP id B181B40262; Fri, 3 Oct 2025 10:35:19 +0200 (CEST) Received: from mail-qv1-f98.google.com (mail-qv1-f98.google.com [209.85.219.98]) by mails.dpdk.org (Postfix) with ESMTP id 4F38040262 for ; Fri, 3 Oct 2025 10:35:18 +0200 (CEST) Received: by mail-qv1-f98.google.com with SMTP id 6a1803df08f44-795773ac2a2so18714676d6.1 for ; Fri, 03 Oct 2025 01:35:18 -0700 (PDT) DKIM-Signature: v=1; a=rsa-sha256; c=relaxed/relaxed; d=iol.unh.edu; s=unh-iol; t=1759480517; x=1760085317; darn=dpdk.org; h=references:in-reply-to:cc:to:from:subject:message-id:date:from:to :cc:subject:date:message-id:reply-to; bh=2/mvmpltriIJxPAXBkCjwN0t+wHPBgE1sTNprKSfEMs=; b=WjrwhtxN62jmTyiW6UVop66OagF3zNb1VPc1fb2YK+HxUOyuHHb/IEX6Z7tG0+nfHo hQpCnrrOcmUPpmK56rA4pqOv8wsrVfZUoe464rpvuNrMlr5ZU2IsNsDdehkbiM8H0OXi ZJukkotd+OjJsuPc9tN4d6T9HwC8hJjjdwji0= X-Google-DKIM-Signature: v=1; a=rsa-sha256; c=relaxed/relaxed; d=1e100.net; s=20230601; t=1759480517; x=1760085317; h=references:in-reply-to:cc:to:from:subject:message-id:date :x-gm-message-state:from:to:cc:subject:date:message-id:reply-to; bh=2/mvmpltriIJxPAXBkCjwN0t+wHPBgE1sTNprKSfEMs=; b=soxUABtZDStPi6ju0+0TGdOistbVfnWEeTQI8/Ens2xQzBHQA7iRVp7ptw6/dAEzgD iGnndMUPYyv4et0sznd1YAXoQAcn6V3p8lv23ajDCiCVWjpcDJbDRw2l4Be0CA5c40e2 K4IgDy/IfUjTGxd4F53xgSDRFpdHohbNclY1JLDW5+ta8XFm+PkEJ1ZxpQRzDFMa/Ilf D9p3D0/LEMVsnpsR3xJmC4mkSJcm4L1by6ItRKxfIOQVMH8fbtYvVJp5uf3oqg3wcjPB hLPli39zC/X++CtLFHy+MeWNUm52Q0Kv1QG1RQzhECtL47+GR3oV+a9cV1m74WVzvajw wlnA== X-Gm-Message-State: AOJu0YyNeaeLq+K5TRYOnBwW5d8LqmDaSKXEJAb+TGBub5xRitDMG+uU oQOIIsREYEwTGZ4WvFb6RYzcWX/cL1YwcJbiMKD2ZHu8N/iXoK7kJxTCjn7tgO+qhwXdHmshoRO WOzqx7msEp4jzeBZFne4UDS2IQKEFls2KkgYEGbQQvQqQ X-Gm-Gg: ASbGnctCEWGf9uxkHhcHa0yNTQr5aoIIpQsvxYwYnKFmeuC/pjXbjffO13ExO3tgeYK nrQIw9thsZq8BW6yQgIgnfKkIdeCzNJ5yRV8pIqlOnfbT7LiKUG/zYqnYJRAHWg2qS4WENERyxz ERq4s3vRm9VNrLWyADYgZ9tbkBGo4kIxN2mL34BrGC8EG5WTgOLN6ZrWZ33JYgj2CK8wEHMi/1f 2d2mESMmsrQWv7dOFe6wO79aHzD3dsAFj2IsVGGcs9yz1WmsInbdBXc+WxT/wHWeZGVodHttD4E zJ9fYt92YZ3JZ5vXc+v3koLy6LqQ+PNQGYZzo2Rqqocfsi3kR3Mymv6KXVcLR8LKZoYxZE4tbjI exA== X-Google-Smtp-Source: AGHT+IGRFtfbIHVMAESPBLHCxckKz3U9kGAO4QzYuetoJ32yJkWPKSaJ+O0JOId4yT4W5kU/FRZOY3ZEKdE2 X-Received: by 2002:a05:6214:4101:b0:725:29f0:c7c8 with SMTP id 6a1803df08f44-879dc882252mr25595226d6.47.1759480517471; Fri, 03 Oct 2025 01:35:17 -0700 (PDT) Received: from postal.iol.unh.edu (postal.iol.unh.edu. [132.177.123.84]) by smtp-relay.gmail.com with ESMTPS id 6a1803df08f44-878bda73490sm3355216d6.19.2025.10.03.01.35.17 (version=TLS1_2 cipher=ECDHE-ECDSA-AES128-GCM-SHA256 bits=128/128); Fri, 03 Oct 2025 01:35:17 -0700 (PDT) X-Relaying-Domain: iol.unh.edu Date: Fri, 03 Oct 2025 01:35:17 -0700 (PDT) Message-ID: <68df8ac5.050a0220.26a174.568aSMTPIN_ADDED_MISSING@mx.google.com> Received: from [172.21.0.3] (unknown [172.18.0.240]) by postal.iol.unh.edu (Postfix) with ESMTP id 206B560003E8; Fri, 3 Oct 2025 04:35:17 -0400 (EDT) Subject: |SUCCESS| pw157151-157155 [PATCH] [v3,5/5] usertools/mbuf: parse mbu From: dpdklab@iol.unh.edu To: Test Report Cc: dpdk-test-reports@iol.unh.edu In-Reply-To: <20250930233828.3999565-6-thomas@monjalon.net> References: <20250930233828.3999565-6-thomas@monjalon.net> Content-Type: text/plain X-BeenThere: test-report@dpdk.org X-Mailman-Version: 2.1.29 Precedence: list List-Id: automatic DPDK test reports List-Unsubscribe: , List-Archive: List-Post: List-Help: List-Subscribe: , Errors-To: test-report-bounces@dpdk.org Test-Label: iol-compile-amd64-testing Test-Status: SUCCESS http://dpdk.org/patch/157155 _Testing PASS_ Submitter: Thomas Monjalon Date: Tuesday, September 30 2025 23:25:06 DPDK git baseline: Repo:dpdk Branch: master CommitID:f3878b615e69a12087a6c5d212723478cfc79c31 157151-157155 --> testing pass Upstream job id: Generic-DPDK-Compile-Meson#430561 Test environment and result as below: +-------------------------------+--------------------+-------------------------+-------------------+----------------------+-------------------+------------------+ | Environment | dpdk_meson_compile | dpdk_llvm_clang_compile | dpdk_msvc_compile | dpdk_mingw64_compile | dpdk_compile_spdk | dpdk_compile_ovs | +===============================+====================+=========================+===================+======================+===================+==================+ | Ubuntu 20.04 | PASS | SKIPPED | SKIPPED | SKIPPED | SKIPPED | SKIPPED | +-------------------------------+--------------------+-------------------------+-------------------+----------------------+-------------------+------------------+ | FreeBSD 14.2 | PASS | SKIPPED | SKIPPED | SKIPPED | SKIPPED | SKIPPED | +-------------------------------+--------------------+-------------------------+-------------------+----------------------+-------------------+------------------+ | Red Hat Enterprise Linux 9.5 | PASS | SKIPPED | SKIPPED | SKIPPED | SKIPPED | SKIPPED | +-------------------------------+--------------------+-------------------------+-------------------+----------------------+-------------------+------------------+ | Alpine Linux 3.22.0 | PASS | SKIPPED | SKIPPED | SKIPPED | SKIPPED | SKIPPED | +-------------------------------+--------------------+-------------------------+-------------------+----------------------+-------------------+------------------+ | Ubuntu 22.04 | PASS | SKIPPED | SKIPPED | SKIPPED | PASS | SKIPPED | +-------------------------------+--------------------+-------------------------+-------------------+----------------------+-------------------+------------------+ | CentOS Stream 9 | PASS | SKIPPED | SKIPPED | SKIPPED | PASS | SKIPPED | +-------------------------------+--------------------+-------------------------+-------------------+----------------------+-------------------+------------------+ | Ubuntu 24.04 | PASS | SKIPPED | SKIPPED | SKIPPED | PASS | PASS | +-------------------------------+--------------------+-------------------------+-------------------+----------------------+-------------------+------------------+ | Red Hat Enterprise Linux 8.10 | PASS | SKIPPED | SKIPPED | SKIPPED | SKIPPED | SKIPPED | +-------------------------------+--------------------+-------------------------+-------------------+----------------------+-------------------+------------------+ | Fedora Linux 42 | PASS | SKIPPED | SKIPPED | SKIPPED | PASS | PASS | +-------------------------------+--------------------+-------------------------+-------------------+----------------------+-------------------+------------------+ | CentOS Stream 10 | PASS | SKIPPED | SKIPPED | SKIPPED | SKIPPED | SKIPPED | +-------------------------------+--------------------+-------------------------+-------------------+----------------------+-------------------+------------------+ | Windows Server 2022 | SKIPPED | PASS | PASS | PASS | SKIPPED | SKIPPED | +-------------------------------+--------------------+-------------------------+-------------------+----------------------+-------------------+------------------+ Ubuntu 20.04 Kernel: 4.19 Compiler: gcc gcc (Ubuntu 9.4.0-1ubuntu1~20.04.2) 9.4.0 FreeBSD 14.2 Kernel: 14.2-RELEASE Compiler: clang 18.1.6 Red Hat Enterprise Linux 9.5 Kernel: 5.15 Compiler: gcc gcc (GCC) 11.5.0 20240719 (Red Hat 11.5.0-2) Alpine Linux 3.22.0 Kernel: 5.15 Compiler: gcc gcc (Alpine 14.2.0) 14.2.0 Ubuntu 22.04 Kernel: 5.15 Compiler: gcc gcc (Ubuntu 11.4.0-1ubuntu1~22.04) 11.4.0 CentOS Stream 9 Kernel: 5.15 Compiler: gcc gcc (GCC) 11.5.0 20240719 (Red Hat 11.5.0-11) Ubuntu 24.04 Kernel: 5.15 Compiler: gcc gcc (Ubuntu 13.3.0-6ubuntu2~24.04) 13.3.0 Red Hat Enterprise Linux 8.10 Kernel: 5.15 Compiler: gcc gcc (GCC) 8.5.0 20210514 (Red Hat 8.5.0-22) Fedora Linux 42 Kernel: 5.15 Compiler: clang gcc (GCC) 15.2.1 20250808 (Red Hat 15.2.1-1) CentOS Stream 10 Kernel: 5.15 Compiler: gcc gcc (GCC) 14.2.1 20250110 (Red Hat 14.2.1-8) Windows Server 2022 Kernel: 10.0.20348.2031 Compiler: clang 15.0.7, gcc 14.1.0 (MinGW), and MSVC VS 19.39.33521 To view detailed results, visit: https://lab.dpdk.org/results/dashboard/patchsets/34187/ UNH-IOL DPDK Community Lab To manage your email subscriptions, visit: https://lab.dpdk.org/results/dashboard/preferences/subscriptions/