From mboxrd@z Thu Jan 1 00:00:00 1970 Return-Path: Received: from mails.dpdk.org (mails.dpdk.org [217.70.189.124]) by inbox.dpdk.org (Postfix) with ESMTP id A57D34889D for ; Fri, 3 Oct 2025 11:22:37 +0200 (CEST) Received: from mails.dpdk.org (localhost [127.0.0.1]) by mails.dpdk.org (Postfix) with ESMTP id 85CDE40262; Fri, 3 Oct 2025 11:22:37 +0200 (CEST) Received: from mail-oa1-f97.google.com (mail-oa1-f97.google.com [209.85.160.97]) by mails.dpdk.org (Postfix) with ESMTP id 4CB9440262 for ; Fri, 3 Oct 2025 11:22:36 +0200 (CEST) Received: by mail-oa1-f97.google.com with SMTP id 586e51a60fabf-30ccec59b4bso1453228fac.3 for ; Fri, 03 Oct 2025 02:22:36 -0700 (PDT) DKIM-Signature: v=1; a=rsa-sha256; c=relaxed/relaxed; d=iol.unh.edu; s=unh-iol; t=1759483355; x=1760088155; darn=dpdk.org; h=references:in-reply-to:cc:to:from:subject:message-id:date:from:to :cc:subject:date:message-id:reply-to; bh=sXHKpOqtDxqaLpBQSgzWcio1EkbdEmppsGWDsDxSk9E=; b=GyYmApgdJVwUPRCRVy7ztdB/65+gzB8IX8SOqUOaqMWuFTcXmx1tkZBNR++v6e5Dzf +88EpKF7e4lSgrXrEWeXLsb17o/x+Wib88BmxmMvl6V5kHfrmvR5w1rivMrXRHjFZylB lpnmsi7uP/bQ7kt5STFRw1LzgupMm2nI18ogs= X-Google-DKIM-Signature: v=1; a=rsa-sha256; c=relaxed/relaxed; d=1e100.net; s=20230601; t=1759483355; x=1760088155; h=references:in-reply-to:cc:to:from:subject:message-id:date :x-gm-message-state:from:to:cc:subject:date:message-id:reply-to; bh=sXHKpOqtDxqaLpBQSgzWcio1EkbdEmppsGWDsDxSk9E=; b=SAXornop9p77vzq7NeA3sX75O06sBhiYW2GYKETGu5NvtcX5ZDZqqNljgiQqDz+3MB S8ui+syj3xv7pcMn6g7aYWscBaHPkyM6qZKosi6OGa/yPmu+UDTaEfetw2a2n9B2Mzh/ zxBSGwbR3+XcSPd9fG4Obsr7q4z2Thojr2NexvWlnatTwdZ6qDxbfBUsmbApd6AjVzbD xnCdDCB4kEzwjm0/LVyYhcSXl/oR1ao52jsX0I/u34no3XLpNRMuCJ8RShnw8UZQLnIb 7A4VkNUS+fZma6iIGoAHVZZpjnSncBkuvpztdJ1pZywosRd2RvmjL/MLwKrgCqyz6E0b O9dw== X-Gm-Message-State: AOJu0YytCwCyh0G6t8hMYZJCEATPgR92LIxLNrx2mwOWpTZ++Sae1YTh tuqqc/Zr9lleHruwqn3ZJJoSCTGZRgm4rc89IPsa5RCJRoqgSpEV2/vCswQWkpfkDcGzt0Kwv16 x8ULJcNohnYaB+KQiW4maro8J0OQriNSJ3BbKQTdm1i/1 X-Gm-Gg: ASbGncvnnjvKzTWnfr4QXwh4Ze0J6sRf6dAdkSTrx3f7RCmdvB4cIdYdzv5zDDRKP8R V6donQttK2WMVKZUcojDjVEVBffpFEFVgCwrW3vp04jlsTL2nB5Q+LXepG2aUUBwVmbk0Pbf5j7 kNLj0752KDmtjQX/WEBWVdoBVjIRrn4qSzBJkWPxWfWX4yRs/uh71V40VlJlel63pD+if5+lTeS xjWH10Dr023227xbMLG/8LY31LJPirCA8UBhXouotvqawgKRwfQkUPqyKeCxCmnEJ3lktSDkysC ibo8lgO0UDlLWSy0NfQ7xzl7vwfKX9VYAT8CV5m0xdkf13Mlxa6U1kBY/E6ceiU9t9c9LozcyYx RVg== X-Google-Smtp-Source: AGHT+IHgVv74FcWHw4mkShgJEzaFsBBTp4e1QAWlSsWW+tgPDAc6fSqF9wcxQNcqHZyNIyEZ+/ikxwaxbxtG X-Received: by 2002:a05:6870:2191:b0:372:b8a4:791a with SMTP id 586e51a60fabf-3b0f5b84309mr1535715fac.21.1759483355449; Fri, 03 Oct 2025 02:22:35 -0700 (PDT) Received: from postal.iol.unh.edu (postal.iol.unh.edu. [132.177.123.84]) by smtp-relay.gmail.com with ESMTPS id 586e51a60fabf-3ab913e2965sm351752fac.12.2025.10.03.02.22.35 (version=TLS1_2 cipher=ECDHE-ECDSA-AES128-GCM-SHA256 bits=128/128); Fri, 03 Oct 2025 02:22:35 -0700 (PDT) X-Relaying-Domain: iol.unh.edu Date: Fri, 03 Oct 2025 02:22:35 -0700 (PDT) Message-ID: <68df95db.050a0220.3a4ee4.51f6SMTPIN_ADDED_MISSING@mx.google.com> Received: from [172.21.0.2] (unknown [172.18.0.240]) by postal.iol.unh.edu (Postfix) with ESMTP id 95E896051830; Fri, 3 Oct 2025 05:22:34 -0400 (EDT) Subject: |SUCCESS| pw157231-157248 [PATCH] [v9,18/18] eal: allow lcore remapp From: dpdklab@iol.unh.edu To: Test Report Cc: dpdk-test-reports@iol.unh.edu In-Reply-To: <20251003081510.1197166-19-bruce.richardson@intel.com> References: <20251003081510.1197166-19-bruce.richardson@intel.com> Content-Type: text/plain X-BeenThere: test-report@dpdk.org X-Mailman-Version: 2.1.29 Precedence: list List-Id: automatic DPDK test reports List-Unsubscribe: , List-Archive: List-Post: List-Help: List-Subscribe: , Errors-To: test-report-bounces@dpdk.org Test-Label: iol-compile-amd64-testing Test-Status: SUCCESS http://dpdk.org/patch/157248 _Testing PASS_ Submitter: Bruce Richardson Date: Friday, October 03 2025 08:15:10 DPDK git baseline: Repo:dpdk Branch: master CommitID:76393b98bf67f94dc6aa23cf5016c32571899261 157231-157248 --> testing pass Upstream job id: Windows-Compile-DPDK-Native#31394 Test environment and result as below: +---------------------+-------------------------+--------------------+-------------------+----------------------+ | Environment | dpdk_llvm_clang_compile | dpdk_meson_compile | dpdk_msvc_compile | dpdk_mingw64_compile | +=====================+=========================+====================+===================+======================+ | Windows Server 2022 | PASS | SKIPPED | PASS | PASS | +---------------------+-------------------------+--------------------+-------------------+----------------------+ | Ubuntu 20.04 | SKIPPED | PASS | SKIPPED | SKIPPED | +---------------------+-------------------------+--------------------+-------------------+----------------------+ | FreeBSD 14.2 | SKIPPED | PASS | SKIPPED | SKIPPED | +---------------------+-------------------------+--------------------+-------------------+----------------------+ Windows Server 2022 Kernel: 10.0.20348.2031 Compiler: clang 15.0.7, gcc 14.1.0 (MinGW), and MSVC VS 19.39.33521 Ubuntu 20.04 Kernel: 4.19 Compiler: gcc gcc (Ubuntu 9.4.0-1ubuntu1~20.04.2) 9.4.0 FreeBSD 14.2 Kernel: 14.2-RELEASE Compiler: clang 18.1.6 To view detailed results, visit: https://lab.dpdk.org/results/dashboard/patchsets/34205/ UNH-IOL DPDK Community Lab To manage your email subscriptions, visit: https://lab.dpdk.org/results/dashboard/preferences/subscriptions/