From mboxrd@z Thu Jan 1 00:00:00 1970 Return-Path: Received: from mails.dpdk.org (mails.dpdk.org [217.70.189.124]) by inbox.dpdk.org (Postfix) with ESMTP id 1DC2B4889D for ; Fri, 3 Oct 2025 11:52:07 +0200 (CEST) Received: from mails.dpdk.org (localhost [127.0.0.1]) by mails.dpdk.org (Postfix) with ESMTP id 161904028B; Fri, 3 Oct 2025 11:52:07 +0200 (CEST) Received: from mail-pl1-f228.google.com (mail-pl1-f228.google.com [209.85.214.228]) by mails.dpdk.org (Postfix) with ESMTP id A4F35402BB for ; Fri, 3 Oct 2025 11:52:06 +0200 (CEST) Received: by mail-pl1-f228.google.com with SMTP id d9443c01a7336-26a0a694ea8so16094335ad.3 for ; Fri, 03 Oct 2025 02:52:06 -0700 (PDT) DKIM-Signature: v=1; a=rsa-sha256; c=relaxed/relaxed; d=iol.unh.edu; s=unh-iol; t=1759485126; x=1760089926; darn=dpdk.org; h=references:in-reply-to:cc:to:from:subject:message-id:date:from:to :cc:subject:date:message-id:reply-to; bh=m1cd0IZj/v7+pfsRqE7E8VKN3c4zChVxw/qEBWAytGY=; b=VQXg1NBXaMj9SvrY5QX2H4LQHQVoq24CX5MyrDPzQRzVDg2b6VMZAvXVqYSyojJDIA XZQ4hxls4hWf84x0nNWddeMKJpWfEg7N/QoqfjM0XfBcAWWltGHMmd4qxHvkShAFL/4Q q34Ioi0UyImB+dGcZrQshTBr8yn9V5Ufx6+kE= X-Google-DKIM-Signature: v=1; a=rsa-sha256; c=relaxed/relaxed; d=1e100.net; s=20230601; t=1759485126; x=1760089926; h=references:in-reply-to:cc:to:from:subject:message-id:date :x-gm-message-state:from:to:cc:subject:date:message-id:reply-to; bh=m1cd0IZj/v7+pfsRqE7E8VKN3c4zChVxw/qEBWAytGY=; b=QA5aiCtrDSdHvUrMFZVx9u4sLa2iRl8Y1gGibhX392Ec8RXx94/cRM9zGaEVObTPra Rnr+QxPx1L6EV4nJPYd+k+SyEdL5OzmvYWvBxAqkBaWH1DvvTZ7V3RupYsYQeMtVeUo2 EilQBWAvba2+9JwY6XHTE2ehf9sP2Nuww92tiSIZj1LCCcPNWn8R4W6MTX+r0HLHb1tI qhSb/CLaQE2DMYvS/FVeQxQ86y5ugYmRlkp912/EnHMpmB/upo+WZoM18wimhMV8+VRs exYdHaJXjh6x5N/ehQdmlOr6drDlTuwozoF0y0PyABMTYf5NdEj4Iuu6I86Ikecndb29 Ahag== X-Gm-Message-State: AOJu0Yyc3IXyOAXthvlVUlU0cx9OR04zkQjcGxqmiPx07Hc84LtFuJhg 3CN6JcSvQn6eIbKz2L1eO255ba7hYTeAiHfAHrd0KDwERpYNj8lp7l3fFgWmSBMfgINhRLIJSu9 DOg/J8bPUbWuqtx9h6iddQjvb55jQgOGXLZuKKmNGMXlo X-Gm-Gg: ASbGncvMTSqp4jnwMciWtvuoBTrrmHqmIgvvn9O5bhdO1HghVs44Y4m6vZSXn0kXL7W mWFBo9QO/KZfoEN7Wmyv6Zy37Ug51VNICZ+VaJJG1aG4iJzrMSYz8PMw89dAtvF5ylYrgDhx/YG 62/Eup6mMfOddp+Oyk6NBzNeQxNvv7Z2I+LLKI6pmzIt8cwSMddB7uwuDXo6JLqviVeWl8eUHwL sVVi8DchjA3RXfbVEvWilo1ZHRFOvIaGxJtgIo3F28byMb95Xujc3X4AbzHGlexnPuvzQLIGDlg 7m5o6gMqfawfgRGJVOAcQ2UBwAovWodxS+ZiwBjgmIr8am3t3cR+1xNV40v8o2miJk16i24jzco yfQ== X-Google-Smtp-Source: AGHT+IFuUmBH7JB8j4bVJZ97I+crIB+1kzVup8bfOZRrzFhwyE2kk+mnOvS6gT61M0G/bfwas4qxSUD2WItV X-Received: by 2002:a17:902:fc86:b0:266:3098:666 with SMTP id d9443c01a7336-28e9a6aa8c0mr28663465ad.32.1759485125754; Fri, 03 Oct 2025 02:52:05 -0700 (PDT) Received: from postal.iol.unh.edu (postal.iol.unh.edu. [132.177.123.84]) by smtp-relay.gmail.com with ESMTPS id d9443c01a7336-28e8d12c89bsm3315225ad.32.2025.10.03.02.52.05 (version=TLS1_2 cipher=ECDHE-ECDSA-AES128-GCM-SHA256 bits=128/128); Fri, 03 Oct 2025 02:52:05 -0700 (PDT) X-Relaying-Domain: iol.unh.edu Date: Fri, 03 Oct 2025 02:52:05 -0700 (PDT) Message-ID: <68df9cc5.170a0220.409ed.4335SMTPIN_ADDED_MISSING@mx.google.com> Received: from [172.21.0.2] (unknown [172.18.0.240]) by postal.iol.unh.edu (Postfix) with ESMTP id AEDB36051830; Fri, 3 Oct 2025 05:52:04 -0400 (EDT) Subject: |SUCCESS| pw157231-157248 [PATCH] [v9,18/18] eal: allow lcore remapp From: dpdklab@iol.unh.edu To: Test Report Cc: dpdk-test-reports@iol.unh.edu In-Reply-To: <20251003081510.1197166-19-bruce.richardson@intel.com> References: <20251003081510.1197166-19-bruce.richardson@intel.com> Content-Type: text/plain X-BeenThere: test-report@dpdk.org X-Mailman-Version: 2.1.29 Precedence: list List-Id: automatic DPDK test reports List-Unsubscribe: , List-Archive: List-Post: List-Help: List-Subscribe: , Errors-To: test-report-bounces@dpdk.org Test-Label: iol-unit-amd64-testing Test-Status: SUCCESS http://dpdk.org/patch/157248 _Testing PASS_ Submitter: Bruce Richardson Date: Friday, October 03 2025 08:15:10 DPDK git baseline: Repo:dpdk Branch: master CommitID:76393b98bf67f94dc6aa23cf5016c32571899261 157231-157248 --> testing pass Upstream job id: Generic-VM-Unit-Test-DPDK#31563 Test environment and result as below: +-------------------------------+----------------+ | Environment | dpdk_unit_test | +===============================+================+ | CentOS Stream 10 | PASS | +-------------------------------+----------------+ | CentOS Stream 9 | PASS | +-------------------------------+----------------+ | Debian GNU/Linux 12 | PASS | +-------------------------------+----------------+ | Fedora Linux 40 | PASS | +-------------------------------+----------------+ | Fedora Linux 41 | PASS | +-------------------------------+----------------+ | Fedora Linux 42 | PASS | +-------------------------------+----------------+ | Red Hat Enterprise Linux 9.5 | PASS | +-------------------------------+----------------+ | Ubuntu 20.04 | PASS | +-------------------------------+----------------+ | Red Hat Enterprise Linux 8.10 | PASS | +-------------------------------+----------------+ | Ubuntu 24.04 | PASS | +-------------------------------+----------------+ | Ubuntu 22.04 | PASS | +-------------------------------+----------------+ | Windows Server 2022 | PASS | +-------------------------------+----------------+ CentOS Stream 10 Kernel: 5.15 Compiler: gcc gcc (GCC) 14.2.1 20250110 (Red Hat 14.2.1-8) CentOS Stream 9 Kernel: 5.15 Compiler: gcc gcc (GCC) 11.5.0 20240719 (Red Hat 11.5.0-11) Debian GNU/Linux 12 Kernel: 5.15 Compiler: gcc gcc (Debian 12.2.0-14+deb12u1) 12.2.0 Fedora Linux 40 Kernel: 5.15 Compiler: clang gcc (GCC) 14.2.1 20240912 (Red Hat 14.2.1-3) Fedora Linux 41 Kernel: 5.15 Compiler: gcc gcc (GCC) 14.3.1 20250523 (Red Hat 14.3.1-1) Fedora Linux 42 Kernel: 5.15 Compiler: gcc gcc (GCC) 15.2.1 20250808 (Red Hat 15.2.1-1) Red Hat Enterprise Linux 9.5 Kernel: 5.15 Compiler: gcc gcc (GCC) 11.5.0 20240719 (Red Hat 11.5.0-2) Ubuntu 20.04 Kernel: 5.15 Compiler: gcc gcc (Ubuntu 9.4.0-1ubuntu1~20.04.2) 9.4.0 Red Hat Enterprise Linux 8.10 Kernel: 5.15 Compiler: gcc gcc (GCC) 8.5.0 20210514 (Red Hat 8.5.0-22) Ubuntu 24.04 Kernel: 5.15 Compiler: gcc gcc (Ubuntu 13.3.0-6ubuntu2~24.04) 13.3.0 Ubuntu 22.04 Kernel: 5.15 Compiler: gcc gcc (Ubuntu 11.4.0-1ubuntu1~22.04) 11.4.0 Windows Server 2022 Kernel: 10.0.20348.2031 Compiler: clang 15.0.7, gcc 14.1.0 (MinGW), and MSVC VS 19.39.33521 To view detailed results, visit: https://lab.dpdk.org/results/dashboard/patchsets/34205/ UNH-IOL DPDK Community Lab To manage your email subscriptions, visit: https://lab.dpdk.org/results/dashboard/preferences/subscriptions/