From mboxrd@z Thu Jan 1 00:00:00 1970 Return-Path: Received: from mails.dpdk.org (mails.dpdk.org [217.70.189.124]) by inbox.dpdk.org (Postfix) with ESMTP id DD26B4889E for ; Fri, 3 Oct 2025 12:34:41 +0200 (CEST) Received: from mails.dpdk.org (localhost [127.0.0.1]) by mails.dpdk.org (Postfix) with ESMTP id B61354025F; Fri, 3 Oct 2025 12:34:41 +0200 (CEST) Received: from mail-qt1-f228.google.com (mail-qt1-f228.google.com [209.85.160.228]) by mails.dpdk.org (Postfix) with ESMTP id F1E3D4025F for ; Fri, 3 Oct 2025 12:34:39 +0200 (CEST) Received: by mail-qt1-f228.google.com with SMTP id d75a77b69052e-4da7a3d0402so25414361cf.0 for ; Fri, 03 Oct 2025 03:34:39 -0700 (PDT) DKIM-Signature: v=1; a=rsa-sha256; c=relaxed/relaxed; d=iol.unh.edu; s=unh-iol; t=1759487679; x=1760092479; darn=dpdk.org; h=references:in-reply-to:cc:to:from:subject:message-id:date:from:to :cc:subject:date:message-id:reply-to; bh=lSRXqsAj9IMQ4wlsB8lVLFTWJ49elfxMboUk+pokF5g=; b=Ld1arT1OJL3IFmhLY0iVFmvH4rEoWd5YZcLmZL+gD1LmHiTnxaERqtPHImH5nHvPsi KDLqPD4QP6xH3QU83oHxGLEo4MgK0NKVU3anaCSWZJE/yL7e10Dh1ldMWUuy1EzkJwm4 2ugeeK/ojiQNEyu8cqyPUVivAHuPtTS6WoHmw= X-Google-DKIM-Signature: v=1; a=rsa-sha256; c=relaxed/relaxed; d=1e100.net; s=20230601; t=1759487679; x=1760092479; h=references:in-reply-to:cc:to:from:subject:message-id:date :x-gm-message-state:from:to:cc:subject:date:message-id:reply-to; bh=lSRXqsAj9IMQ4wlsB8lVLFTWJ49elfxMboUk+pokF5g=; b=Ox7awXHYMB1PuC9eURd0M+LZAaLlwAyjkhPFmegVPqFjlCEH3a5ZdgBrBxE64Bgh5c VtmmeJW4hjWO7wb847eYRR4L567grn/HnQL5glFEnCOW9nxdpAeSoQnPBuKAZv6dMGAN sDkN/M0SYc6wdzkhF0OmynoBmhq3px9IoQdGgdWYzDdo6OrI9qbor09SPs8Y+HgynDmf B96MXzaqcvbdy9CyxWdenwgONA/mpmYaOocFevSidM/Aag+vheEM7RqB8rOz7zFFNAti 7+OkHQg+6+aLvWXmnOVS/BdxaOU7oV0DkDaZ7F61xUeyTym71CXKdalHdKSWXnaW3H1P eYUA== X-Gm-Message-State: AOJu0Yx7JNrj4PrCoZ+NbA5L5vmWDyONwxXCG6KplNvWgyVhpV1ParQ7 ploPG01yvkvB2oP/aK8JH5zRX/GqfLkTXFCHqK9/59fgMwpkq2uN+Z2Gv/B1FUPfFnlSre6uIQE 9H8rrfIsSld1qLiPVFHCI51vYDAaV0UK2uV8QQUjzI4CL+0MiN+P5Qy3E4ESh X-Gm-Gg: ASbGncu5qky+f7V9QG6MEoJ8SC/eic1V/kqn1D/Z8T6zHVn/fu4fIm8JFhWEBuZ1GQZ TA9DnG+HQ4H+yY0Rm4/j7XmzHcrYqnWT0DSLl0Gbw9Jb2ynQLykMi0BWw5ESWZap7sP1ncbzrbC oZ9d/duyY9TlYpcvLmefxSjlZHL5WkFOKFgADtPNGcic1BFwGgilp9u7Bl0gFf+TiDAabdnKpA9 ibBwYv1fVcHAJq0yM2l6u73+M1S86TxO1grqr/VKEDThxV2NHc1ga9ANKXzoov35tyEgXr9bExt SmersDgs0DNGNMW53QUjSprgFzBSO8+yuAN25oV4U88uZYb4vjwhARc= X-Google-Smtp-Source: AGHT+IG9GFCDptQzdb8otE/+sJVZziXJG2rDrsWZ7F3QCQdVjX/hMWbVk/Rxe+H+iNXV/XDwTbDOO2pomDmP X-Received: by 2002:a05:622a:288:b0:4b2:8ac4:f097 with SMTP id d75a77b69052e-4e56385cc7fmr93366811cf.33.1759487679272; Fri, 03 Oct 2025 03:34:39 -0700 (PDT) Received: from postal.iol.unh.edu (postal.iol.unh.edu. [2606:4100:3880:1234::84]) by smtp-relay.gmail.com with ESMTPS id d75a77b69052e-4e55ab3fc7dsm2119531cf.8.2025.10.03.03.34.39 (version=TLS1_2 cipher=ECDHE-ECDSA-AES128-GCM-SHA256 bits=128/128); Fri, 03 Oct 2025 03:34:39 -0700 (PDT) X-Relaying-Domain: iol.unh.edu Date: Fri, 03 Oct 2025 03:34:39 -0700 (PDT) Message-ID: <68dfa6bf.050a0220.71db4.d2aaSMTPIN_ADDED_MISSING@mx.google.com> Received: from [172.21.0.2] (unknown [172.18.0.240]) by postal.iol.unh.edu (Postfix) with ESMTP id 04DFB6051830; Fri, 3 Oct 2025 06:34:39 -0400 (EDT) Subject: |SUCCESS| pw157015 [PATCH] net/zxdh: avoid use of rte_memcpy From: dpdklab@iol.unh.edu To: Test Report Cc: dpdk-test-reports@iol.unh.edu, Stephen Hemminger In-Reply-To: <20250926181017.470585-1-stephen@networkplumber.org> References: <20250926181017.470585-1-stephen@networkplumber.org> Content-Type: text/plain X-BeenThere: test-report@dpdk.org X-Mailman-Version: 2.1.29 Precedence: list List-Id: automatic DPDK test reports List-Unsubscribe: , List-Archive: List-Post: List-Help: List-Subscribe: , Errors-To: test-report-bounces@dpdk.org Test-Label: iol-compile-arm64-testing Test-Status: SUCCESS http://dpdk.org/patch/157015 _Testing PASS_ Submitter: Stephen Hemminger Date: Friday, September 26 2025 18:10:17 DPDK git baseline: Repo:dpdk-next-net Branch: master CommitID:c04bbd131b2c14b3049bf86d3ef367b34e6fdf1e 157015 --> testing pass Upstream job id: Generic-DPDK-Compile-Meson#430496 Test environment and result as below: +------------------------------+--------------------+ | Environment | dpdk_meson_compile | +==============================+====================+ | Red Hat Enterprise Linux 9.5 | PASS | +------------------------------+--------------------+ | Ubuntu 20.04 | PASS | +------------------------------+--------------------+ | Fedora Linux 42 | PASS | +------------------------------+--------------------+ | Ubuntu 24.04 | PASS | +------------------------------+--------------------+ | CentOS Stream 9 | PASS | +------------------------------+--------------------+ | Debian GNU/Linux 12 | PASS | +------------------------------+--------------------+ | Ubuntu 22.04 | PASS | +------------------------------+--------------------+ | CentOS Stream 10 | PASS | +------------------------------+--------------------+ Red Hat Enterprise Linux 9.5 Kernel: 5.4 Compiler: gcc gcc (GCC) 11.5.0 20240719 (Red Hat 11.5.0-2) Ubuntu 20.04 Kernel: 5.15 Compiler: aarch64-linux-gnu-gcc gcc (Ubuntu 9.4.0-1ubuntu1~20.04.2) 9.4.0 Fedora Linux 42 Kernel: 5.4 Compiler: gcc gcc (GCC) 15.2.1 20250808 (Red Hat 15.2.1-1) Ubuntu 24.04 Kernel: 5.4 Compiler: gcc gcc (Ubuntu 13.3.0-6ubuntu2~24.04) 13.3.0 CentOS Stream 9 Kernel: 5.4 Compiler: gcc gcc (GCC) 11.5.0 20240719 (Red Hat 11.5.0-11) Debian GNU/Linux 12 Kernel: 5.4 Compiler: gcc gcc (Debian 12.2.0-14+deb12u1) 12.2.0 Ubuntu 22.04 Kernel: 5.4 Compiler: gcc gcc (Ubuntu 11.4.0-1ubuntu1~22.04) 11.4.0 CentOS Stream 10 Kernel: 5.4 Compiler: gcc gcc (GCC) 14.2.1 20250110 (Red Hat 14.2.1-8) To view detailed results, visit: https://lab.dpdk.org/results/dashboard/patchsets/34165/ UNH-IOL DPDK Community Lab To manage your email subscriptions, visit: https://lab.dpdk.org/results/dashboard/preferences/subscriptions/