From mboxrd@z Thu Jan 1 00:00:00 1970 Return-Path: Received: from mails.dpdk.org (mails.dpdk.org [217.70.189.124]) by inbox.dpdk.org (Postfix) with ESMTP id CB31B4889E for ; Fri, 3 Oct 2025 12:35:04 +0200 (CEST) Received: from mails.dpdk.org (localhost [127.0.0.1]) by mails.dpdk.org (Postfix) with ESMTP id C6A2D4025F; Fri, 3 Oct 2025 12:35:04 +0200 (CEST) Received: from mail-pf1-f227.google.com (mail-pf1-f227.google.com [209.85.210.227]) by mails.dpdk.org (Postfix) with ESMTP id 4D2794025F for ; Fri, 3 Oct 2025 12:35:04 +0200 (CEST) Received: by mail-pf1-f227.google.com with SMTP id d2e1a72fcca58-77f67ba775aso2987903b3a.3 for ; Fri, 03 Oct 2025 03:35:04 -0700 (PDT) DKIM-Signature: v=1; a=rsa-sha256; c=relaxed/relaxed; d=iol.unh.edu; s=unh-iol; t=1759487703; x=1760092503; darn=dpdk.org; h=references:in-reply-to:cc:to:from:subject:message-id:date:from:to :cc:subject:date:message-id:reply-to; bh=cJxVB+hntqRbmIxHmlLbM7MAw8cyVD01qTLBGaqYx+g=; b=Ma2SxhRjCjJTGvNRGeUyr2NQc8MwDSmBCZjoclFhryc1hmWCyhqtMvuSHHO8FCWxzX g3fiEOA0Jz24Kkvwgz2/TGGclAHMP62pa6606z+lN8+qxj+pkYrBiciDiyHsn5WLaXzb 6+2h7CjnQC7RnJwf2JFITsOX+X4y0j2n7Seec= X-Google-DKIM-Signature: v=1; a=rsa-sha256; c=relaxed/relaxed; d=1e100.net; s=20230601; t=1759487703; x=1760092503; h=references:in-reply-to:cc:to:from:subject:message-id:date :x-gm-message-state:from:to:cc:subject:date:message-id:reply-to; bh=cJxVB+hntqRbmIxHmlLbM7MAw8cyVD01qTLBGaqYx+g=; b=U3rbA9ZBh22bNzMbFawQ+7tcfqg/BPUBJR5s1tJ8MU0VlI+fQw+rbMH7T0imFaf4X4 v3LiwoG/Er0q7SweHH2eRoUQwG0vJE0kU9rrZW8cFubtkcdU4a4xmahVWUuPtkiwnw6C N5W1TMni+/GhDvflzb3thVNEZLigHHnncx5iGeaW4nPzmhv9fckK7zudoF9msDF24KZ9 IuvvJI7uq8+J7U7blGhQINr3DkvcnOscU3LWJukRdHMuBG/4e7THUjl2p8S8uTRW7mh2 qPch62yiJ7Rw9M3keoIOE+mfKWExPKcrw20JY7RJsC+qTzq5XiEtyOK/GxVdletkUUnp tkTw== X-Gm-Message-State: AOJu0Yw/pB1DGGwwFabhw/I6wendnHpSXFCuMyv8NBMa0bI3MjDlvFhh Bbo1/fNJqdfIWdd4+s1DfiX6tH2hHatIEuHc5VytqKWZNm2Zbc9XUnUoMuglLlmvQdGW4ZFxYY+ WwqUvhb7FNmQlcAmXlt1ixyVMA0ElwdC7dZVCWnUQfHzR75YOSwW0/YF+4EaF X-Gm-Gg: ASbGncv8m39cqqbF/c56jw1B96Pb7B7xYZSJ5T9Va+zZtgyrbS8TC5C4Wig7f7nQ4zv 9kaIiyXa5Ih22PJ6DUGhD++HrbiM6qCOmi27sgKJRilJDbfdKIGTgLszEBZMxr8FilPuEq2GawI ymQnXsDq5d1HMP27sNBthjyLKk67jwzTmB+Dc0LNl2UlYSVTG8j1icNTmUuhRgsXpWCV/ByjyY6 0L2NjmZnnYHNO6JXQrVQTL0vdmyvqZXslxHKLxMPcoSQcQIUN806TXZWSVzlveZLuyBpccWw48z sb3xyvdnDoU4qXGgclJt+eWsFuHFGQ+ZB6hNMzmrka31ArDyCiQWPs4= X-Google-Smtp-Source: AGHT+IGuS12fDPWvRvLhfSVexbyn1ArssJhtWQHMp2Zf6drbsZbULIuN7+yPXKZwQPZvP+jzNp68b72y0ILu X-Received: by 2002:a05:6a00:3d0a:b0:781:18b2:36aa with SMTP id d2e1a72fcca58-78c98d3302fmr3688461b3a.4.1759487703443; Fri, 03 Oct 2025 03:35:03 -0700 (PDT) Received: from postal.iol.unh.edu (postal.iol.unh.edu. [2606:4100:3880:1234::84]) by smtp-relay.gmail.com with ESMTPS id d2e1a72fcca58-78b01f92995sm353297b3a.3.2025.10.03.03.35.03 (version=TLS1_2 cipher=ECDHE-ECDSA-AES128-GCM-SHA256 bits=128/128); Fri, 03 Oct 2025 03:35:03 -0700 (PDT) X-Relaying-Domain: iol.unh.edu Date: Fri, 03 Oct 2025 03:35:03 -0700 (PDT) Message-ID: <68dfa6d7.050a0220.1bceb6.5512SMTPIN_ADDED_MISSING@mx.google.com> Received: from [172.21.0.2] (unknown [172.18.0.240]) by postal.iol.unh.edu (Postfix) with ESMTP id AA6C56051830; Fri, 3 Oct 2025 06:35:02 -0400 (EDT) Subject: |SUCCESS| pw157014 [PATCH] [RFC] net/ark: use ark_ prefix on on glob From: dpdklab@iol.unh.edu To: Test Report Cc: dpdk-test-reports@iol.unh.edu, Stephen Hemminger In-Reply-To: <20250926163519.430680-1-stephen@networkplumber.org> References: <20250926163519.430680-1-stephen@networkplumber.org> Content-Type: text/plain X-BeenThere: test-report@dpdk.org X-Mailman-Version: 2.1.29 Precedence: list List-Id: automatic DPDK test reports List-Unsubscribe: , List-Archive: List-Post: List-Help: List-Subscribe: , Errors-To: test-report-bounces@dpdk.org Test-Label: iol-compile-arm64-testing Test-Status: SUCCESS http://dpdk.org/patch/157014 _Testing PASS_ Submitter: Stephen Hemminger Date: Friday, September 26 2025 16:35:19 DPDK git baseline: Repo:dpdk-next-net Branch: master CommitID:c1698355a8c527f256bd9571ff9b6ed7441dcbce 157014 --> testing pass Upstream job id: Generic-DPDK-Compile-Meson#430497 Test environment and result as below: +------------------------------+--------------------+ | Environment | dpdk_meson_compile | +==============================+====================+ | Red Hat Enterprise Linux 9.5 | PASS | +------------------------------+--------------------+ | Ubuntu 20.04 | PASS | +------------------------------+--------------------+ | Debian GNU/Linux 12 | PASS | +------------------------------+--------------------+ | Ubuntu 24.04 | PASS | +------------------------------+--------------------+ | CentOS Stream 9 | PASS | +------------------------------+--------------------+ | CentOS Stream 10 | PASS | +------------------------------+--------------------+ | Ubuntu 22.04 | PASS | +------------------------------+--------------------+ | Fedora Linux 42 | PASS | +------------------------------+--------------------+ Red Hat Enterprise Linux 9.5 Kernel: 5.4 Compiler: gcc gcc (GCC) 11.5.0 20240719 (Red Hat 11.5.0-2) Ubuntu 20.04 Kernel: 5.15 Compiler: aarch64-linux-gnu-gcc gcc (Ubuntu 9.4.0-1ubuntu1~20.04.2) 9.4.0 Debian GNU/Linux 12 Kernel: 5.4 Compiler: gcc gcc (Debian 12.2.0-14+deb12u1) 12.2.0 Ubuntu 24.04 Kernel: 5.4 Compiler: gcc gcc (Ubuntu 13.3.0-6ubuntu2~24.04) 13.3.0 CentOS Stream 9 Kernel: 5.4 Compiler: gcc gcc (GCC) 11.5.0 20240719 (Red Hat 11.5.0-11) CentOS Stream 10 Kernel: 5.4 Compiler: gcc gcc (GCC) 14.2.1 20250110 (Red Hat 14.2.1-8) Ubuntu 22.04 Kernel: 5.4 Compiler: gcc gcc (Ubuntu 11.4.0-1ubuntu1~22.04) 11.4.0 Fedora Linux 42 Kernel: 5.4 Compiler: clang gcc (GCC) 15.2.1 20250808 (Red Hat 15.2.1-1) To view detailed results, visit: https://lab.dpdk.org/results/dashboard/patchsets/34164/ UNH-IOL DPDK Community Lab To manage your email subscriptions, visit: https://lab.dpdk.org/results/dashboard/preferences/subscriptions/