From mboxrd@z Thu Jan 1 00:00:00 1970 Return-Path: Received: from mails.dpdk.org (mails.dpdk.org [217.70.189.124]) by inbox.dpdk.org (Postfix) with ESMTP id 0D6304889E for ; Fri, 3 Oct 2025 12:56:56 +0200 (CEST) Received: from mails.dpdk.org (localhost [127.0.0.1]) by mails.dpdk.org (Postfix) with ESMTP id 04BEC4025F; Fri, 3 Oct 2025 12:56:56 +0200 (CEST) Received: from mail-vk1-f225.google.com (mail-vk1-f225.google.com [209.85.221.225]) by mails.dpdk.org (Postfix) with ESMTP id 734394025F for ; Fri, 3 Oct 2025 12:56:55 +0200 (CEST) Received: by mail-vk1-f225.google.com with SMTP id 71dfb90a1353d-54c0bac7d6bso784720e0c.0 for ; Fri, 03 Oct 2025 03:56:55 -0700 (PDT) DKIM-Signature: v=1; a=rsa-sha256; c=relaxed/relaxed; d=iol.unh.edu; s=unh-iol; t=1759489015; x=1760093815; darn=dpdk.org; h=references:in-reply-to:cc:to:from:subject:message-id:date:from:to :cc:subject:date:message-id:reply-to; bh=aT2EIx0tzSky+ANDKpafQaLXPlz0LBp6Qwe/E+nl6lg=; b=P5MnMAmGBboCUR+9zQ2t7nIokZqadLWTAbP/PCBPQVre2ZGTT8xGvT4F0hl4ij5867 i81j3Qul9fwlkbOLLk3yHyJlhieaT/s33Y7aPP4NMjq0tmwA0Su2tGGH2ZF1lMUH/tUt dlSSlXPdkSewKmae9R9Q+zLBwl0B1b1LGFKjY= X-Google-DKIM-Signature: v=1; a=rsa-sha256; c=relaxed/relaxed; d=1e100.net; s=20230601; t=1759489015; x=1760093815; h=references:in-reply-to:cc:to:from:subject:message-id:date :x-gm-message-state:from:to:cc:subject:date:message-id:reply-to; bh=aT2EIx0tzSky+ANDKpafQaLXPlz0LBp6Qwe/E+nl6lg=; b=iBXJJzKSsnUyEQy+C90Oyu47Yx9R85r0jwXCYnh1zxYxgZnj48XZoCrU6al+Cgijxd TI7QLWCXZlkyVN0RQb76OMLE3xDgZqSRUQWLBAOrtVTktIks34AprbOhXRxkE7qtZNYG s4gddQpYvsrFnkoh+om7YeqXrcdZmrkconSzUigiCVDUMkbTMlZPrUZlJYQIP/LyYrVv 9d94Bqi3i/PQc80abwyK1NF34CEPj4GBR0KEq9rN+gF4jsyco3dXhnI4swzJ24MD21cp DtjoGaoh+z4ZLTgfklCrjdVajIpZIklr1bI9A6YrIGPDkYOzc40AIV5HgCm3q2LGpTFB Viog== X-Gm-Message-State: AOJu0YxHGU0YLud9hhy3Uotz+Frmeilsu/p/6W7tUhdeM7fpS3qR4ORh 88jpUo4u+dk14AQV/3vXnQr/sdQWK7vd0IWdpTaTQTQ3jaNIvB4vpQCRZHBEA555DA2TZ3hWm5B m3DaXYybh3ArtEObcdBJgkZ5yNs85bhl0GNCKu6tpPmKmI+e523KNnwGfGdPu X-Gm-Gg: ASbGnctJywjd0myTE/osMU4OSgSzhzfDzQKbc1GPtNfboTvoz6xkotAwPsSIplo/pg8 Oqd9krcWWHIwpF/FCos/iIJSsMi15UhHG9tRMZqEr2zdDN2LHdLTKJOnMpWovcKZrmujVmrlRI/ ekaemcYW7QuGlLwoBGLUjubjBu+uIe+SQglkDnGPGTyRF2Db1LUS/7/hl+wz8rbFSQy2VLFSir2 9aQonMcufGNX+K9/No/TsNzwkgrW2qq7XA6WVggFX0dZ1ofoutjksFYddNKlDCWbN3RaqwfPVh6 GxJF2+IsSgRFPKI0I7HPTizfrz+wTzcOdnnPyZTcNAHDQy8x7Sh+22w= X-Google-Smtp-Source: AGHT+IE+FxPl6lW4HA3QUhh2vuVTXMODwptHbBmFgpwpiabulJXmPGSsaMzmMDWASj4nj6ZN7ueIHwX/JgXG X-Received: by 2002:a05:6122:1d44:b0:542:d782:2522 with SMTP id 71dfb90a1353d-5524ea76019mr956300e0c.14.1759489014807; Fri, 03 Oct 2025 03:56:54 -0700 (PDT) Received: from postal.iol.unh.edu (postal.iol.unh.edu. [2606:4100:3880:1234::84]) by smtp-relay.gmail.com with ESMTPS id 71dfb90a1353d-5523cf13fbesm438719e0c.1.2025.10.03.03.56.54 (version=TLS1_2 cipher=ECDHE-ECDSA-AES128-GCM-SHA256 bits=128/128); Fri, 03 Oct 2025 03:56:54 -0700 (PDT) X-Relaying-Domain: iol.unh.edu Date: Fri, 03 Oct 2025 03:56:54 -0700 (PDT) Message-ID: <68dfabf6.050a0220.bf09.aed1SMTPIN_ADDED_MISSING@mx.google.com> Received: from [172.21.0.2] (unknown [172.18.0.240]) by postal.iol.unh.edu (Postfix) with ESMTP id 4BA656051830; Fri, 3 Oct 2025 06:56:54 -0400 (EDT) Subject: |SUCCESS| pw157249-157250 [PATCH] [v6,2/2] net/idpf: enable AVX2 for From: dpdklab@iol.unh.edu To: Test Report Cc: dpdk-test-reports@iol.unh.edu, Bruce Richardson In-Reply-To: <20251003094950.2818019-3-shaiq.wani@intel.com> References: <20251003094950.2818019-3-shaiq.wani@intel.com> Content-Type: text/plain X-BeenThere: test-report@dpdk.org X-Mailman-Version: 2.1.29 Precedence: list List-Id: automatic DPDK test reports List-Unsubscribe: , List-Archive: List-Post: List-Help: List-Subscribe: , Errors-To: test-report-bounces@dpdk.org Test-Label: iol-compile-amd64-testing Test-Status: SUCCESS http://dpdk.org/patch/157250 _Testing PASS_ Submitter: Shaiq Wani Date: Friday, October 03 2025 09:49:50 DPDK git baseline: Repo:dpdk-next-net-intel Branch: master CommitID:e7d8cc7ef4df3552575525697079d3c957cfcdaf 157249-157250 --> testing pass Upstream job id: Windows-Compile-DPDK-Native#31395 Test environment and result as below: +---------------------+--------------------+-------------------------+-------------------+ | Environment | dpdk_meson_compile | dpdk_llvm_clang_compile | dpdk_msvc_compile | +=====================+====================+=========================+===================+ | Ubuntu 20.04 | PASS | SKIPPED | SKIPPED | +---------------------+--------------------+-------------------------+-------------------+ | FreeBSD 14.2 | PASS | SKIPPED | SKIPPED | +---------------------+--------------------+-------------------------+-------------------+ | Windows Server 2022 | SKIPPED | PASS | PASS | +---------------------+--------------------+-------------------------+-------------------+ Ubuntu 20.04 Kernel: 4.19 Compiler: gcc gcc (Ubuntu 9.4.0-1ubuntu1~20.04.2) 9.4.0 FreeBSD 14.2 Kernel: 14.2-RELEASE Compiler: clang 18.1.6 Windows Server 2022 Kernel: 10.0.20348.2031 Compiler: clang 15.0.7, gcc 14.1.0 (MinGW), and MSVC VS 19.39.33521 To view detailed results, visit: https://lab.dpdk.org/results/dashboard/patchsets/34206/ UNH-IOL DPDK Community Lab To manage your email subscriptions, visit: https://lab.dpdk.org/results/dashboard/preferences/subscriptions/