From mboxrd@z Thu Jan 1 00:00:00 1970 Return-Path: Received: from mails.dpdk.org (mails.dpdk.org [217.70.189.124]) by inbox.dpdk.org (Postfix) with ESMTP id EAA524889E for ; Fri, 3 Oct 2025 13:04:20 +0200 (CEST) Received: from mails.dpdk.org (localhost [127.0.0.1]) by mails.dpdk.org (Postfix) with ESMTP id E632B40262; Fri, 3 Oct 2025 13:04:20 +0200 (CEST) Received: from mail-pl1-f226.google.com (mail-pl1-f226.google.com [209.85.214.226]) by mails.dpdk.org (Postfix) with ESMTP id EC62640262 for ; Fri, 3 Oct 2025 13:04:18 +0200 (CEST) Received: by mail-pl1-f226.google.com with SMTP id d9443c01a7336-27edcbcd158so26926455ad.3 for ; Fri, 03 Oct 2025 04:04:18 -0700 (PDT) DKIM-Signature: v=1; a=rsa-sha256; c=relaxed/relaxed; d=iol.unh.edu; s=unh-iol; t=1759489458; x=1760094258; darn=dpdk.org; h=references:in-reply-to:cc:to:from:subject:message-id:date:from:to :cc:subject:date:message-id:reply-to; bh=XHcHW8nqSYN2pn6/YSdSlovhnxKxVsUONkvb3r9tHbM=; b=VWT4kdS1LAsTpFwhUGgq2ZwbF/vH/GnDkvC1/VAAiW3uXMxKFcRXTaBfUnyTjlAvbW c4qj5OqK2H8umxQ5KVEw47r/Fa6zcs4/z4yYcWnc1y5E416RSCE9EoRVacPCDDoI+RpX I5Ns4LbBqQ9SQWNanZimz2sRkxtNxibV+vB0g= X-Google-DKIM-Signature: v=1; a=rsa-sha256; c=relaxed/relaxed; d=1e100.net; s=20230601; t=1759489458; x=1760094258; h=references:in-reply-to:cc:to:from:subject:message-id:date :x-gm-message-state:from:to:cc:subject:date:message-id:reply-to; bh=XHcHW8nqSYN2pn6/YSdSlovhnxKxVsUONkvb3r9tHbM=; b=RgHDtpIpQ5HzVmmyktRg6fHHH4d61OkV+jk9bkY6HNn/x4PXuwpR+Q7o0lLfuu5t8O nK0JZ5PRYT1hExmXeu+m4UOwEVVl2UX0NlMeXIOem2pJ0pvQe/jbrxI1BZhd9mfN63U2 sCE4ViLOIoayb3Vy5xZHMGLn8eUH/w0qGwXNeCTCgFMMHC9GPM1P4Hck0MAxgIl5LfuO ywYgfyoM76jnAfAoPV4w0YR0iJ9Alarf7im8+jOkdcrieRwFGjI2FI4UIWre7eVKj09O +OzQr7LLxoKv8uFvYAeLaZap8H7TW0HX7DfrHm8kKaSEkj0siCvUvJp7yHMVnLRz7LJB xdHw== X-Gm-Message-State: AOJu0Yx3RvzyrdMUNn5wgppWqroBUBZcbsWw+f8eN7eGyq+qmp2JlQw9 AB2e7mFA4lj1jT/pQQwp0TGMv6FqEcjhxwJQCLbiBUo4WTHEeOAF1fgdqYVPYa3PBYvZv/9a1vB na3a2dPmghX09SJHEB9fF1jJyPZeEboOUrw72reEaVJKi X-Gm-Gg: ASbGncvqNRWUkaeFSzrtjMJ51rbBjlb5kdclHl+RxWsLyZMDGsR3cssZMVMacFZ5JQW ekzk+Swomim0XzH9u1dMfkTmrZ+o/RMuihkKo68KBcuPYl6/yg2fReiKMgGR/HV0daQVnIsfjXX G7AKYPyP7qcRG1ARMRCiDWUFc31lChljc8nERYJPz5D63A3MobbftybQAdeRx3gEg+tQhFGngTD b/veoG+TVdoKp4ck/HH/PPLnEIprVbejSLsvAv0fJPqgKOjif/491IZS3U8VU01ZnRjZz/NSxz2 qDkkPo7TXv/oIQQdDMgfGvhCQb+pDWtdRp7aiE6tPXGNQG+YkomkZF+AfWX9GYsgfW4BlLvk0c8 +CQ== X-Google-Smtp-Source: AGHT+IF82SKVwOm2HaWh6MH2Aq5zfxcMkB8UCvMEST66qKGONF+k6ccekNepXw6YqLYk68AccSeqUufRvfNT X-Received: by 2002:a17:902:f78e:b0:275:7ee4:83bc with SMTP id d9443c01a7336-28e9a513279mr30581995ad.2.1759489458092; Fri, 03 Oct 2025 04:04:18 -0700 (PDT) Received: from postal.iol.unh.edu (postal.iol.unh.edu. [132.177.123.84]) by smtp-relay.gmail.com with ESMTPS id d9443c01a7336-28e8d12c02asm3347295ad.31.2025.10.03.04.04.17 (version=TLS1_2 cipher=ECDHE-ECDSA-AES128-GCM-SHA256 bits=128/128); Fri, 03 Oct 2025 04:04:18 -0700 (PDT) X-Relaying-Domain: iol.unh.edu Date: Fri, 03 Oct 2025 04:04:18 -0700 (PDT) Message-ID: <68dfadb2.170a0220.3b5c53.3eb4SMTPIN_ADDED_MISSING@mx.google.com> Received: from [172.21.0.2] (unknown [172.18.0.240]) by postal.iol.unh.edu (Postfix) with ESMTP id 5281C6051830; Fri, 3 Oct 2025 07:04:17 -0400 (EDT) Subject: |SUCCESS| pw157011-157013 [PATCH] [RFC,3/3] net/ntnic: make flow_loc From: dpdklab@iol.unh.edu To: Test Report Cc: dpdk-test-reports@iol.unh.edu, Stephen Hemminger In-Reply-To: <20250926162534.401577-4-stephen@networkplumber.org> References: <20250926162534.401577-4-stephen@networkplumber.org> Content-Type: text/plain X-BeenThere: test-report@dpdk.org X-Mailman-Version: 2.1.29 Precedence: list List-Id: automatic DPDK test reports List-Unsubscribe: , List-Archive: List-Post: List-Help: List-Subscribe: , Errors-To: test-report-bounces@dpdk.org Test-Label: iol-compile-arm64-testing Test-Status: SUCCESS http://dpdk.org/patch/157013 _Testing PASS_ Submitter: Stephen Hemminger Date: Friday, September 26 2025 16:24:48 DPDK git baseline: Repo:dpdk-next-net Branch: master CommitID:c1698355a8c527f256bd9571ff9b6ed7441dcbce 157011-157013 --> testing pass Upstream job id: Generic-DPDK-Compile-Meson#430508 Test environment and result as below: +------------------------------+--------------------+ | Environment | dpdk_meson_compile | +==============================+====================+ | Red Hat Enterprise Linux 9.5 | PASS | +------------------------------+--------------------+ | Ubuntu 20.04 | PASS | +------------------------------+--------------------+ | Debian GNU/Linux 12 | PASS | +------------------------------+--------------------+ | Fedora Linux 42 | PASS | +------------------------------+--------------------+ | Ubuntu 22.04 | PASS | +------------------------------+--------------------+ | Ubuntu 24.04 | PASS | +------------------------------+--------------------+ | CentOS Stream 9 | PASS | +------------------------------+--------------------+ | CentOS Stream 10 | PASS | +------------------------------+--------------------+ Red Hat Enterprise Linux 9.5 Kernel: 5.4 Compiler: gcc gcc (GCC) 11.5.0 20240719 (Red Hat 11.5.0-2) Ubuntu 20.04 Kernel: 5.15 Compiler: aarch64-linux-gnu-gcc gcc (Ubuntu 9.4.0-1ubuntu1~20.04.2) 9.4.0 Debian GNU/Linux 12 Kernel: 5.4 Compiler: gcc gcc (Debian 12.2.0-14+deb12u1) 12.2.0 Fedora Linux 42 Kernel: 5.4 Compiler: clang gcc (GCC) 15.2.1 20250808 (Red Hat 15.2.1-1) Ubuntu 22.04 Kernel: 5.4 Compiler: gcc gcc (Ubuntu 11.4.0-1ubuntu1~22.04) 11.4.0 Ubuntu 24.04 Kernel: 5.4 Compiler: gcc gcc (Ubuntu 13.3.0-6ubuntu2~24.04) 13.3.0 CentOS Stream 9 Kernel: 5.4 Compiler: gcc gcc (GCC) 11.5.0 20240719 (Red Hat 11.5.0-11) CentOS Stream 10 Kernel: 5.4 Compiler: gcc gcc (GCC) 14.2.1 20250110 (Red Hat 14.2.1-8) To view detailed results, visit: https://lab.dpdk.org/results/dashboard/patchsets/34163/ UNH-IOL DPDK Community Lab To manage your email subscriptions, visit: https://lab.dpdk.org/results/dashboard/preferences/subscriptions/