From mboxrd@z Thu Jan 1 00:00:00 1970 Return-Path: Received: from mails.dpdk.org (mails.dpdk.org [217.70.189.124]) by inbox.dpdk.org (Postfix) with ESMTP id 594A04889E for ; Fri, 3 Oct 2025 13:04:45 +0200 (CEST) Received: from mails.dpdk.org (localhost [127.0.0.1]) by mails.dpdk.org (Postfix) with ESMTP id 5525440262; Fri, 3 Oct 2025 13:04:45 +0200 (CEST) Received: from mail-io1-f99.google.com (mail-io1-f99.google.com [209.85.166.99]) by mails.dpdk.org (Postfix) with ESMTP id 868D240262 for ; Fri, 3 Oct 2025 13:04:44 +0200 (CEST) Received: by mail-io1-f99.google.com with SMTP id ca18e2360f4ac-8c3414ad279so76356239f.2 for ; Fri, 03 Oct 2025 04:04:44 -0700 (PDT) DKIM-Signature: v=1; a=rsa-sha256; c=relaxed/relaxed; d=iol.unh.edu; s=unh-iol; t=1759489484; x=1760094284; darn=dpdk.org; h=references:in-reply-to:cc:to:from:subject:message-id:date:from:to :cc:subject:date:message-id:reply-to; bh=k0vBGn3gv4odgK0d3FWAXbEZwQVwJneCO+b79eimPl4=; b=NnmQVCmAV9ruQz+yzcxo3Z/cpjp/pgSQup7oq2PaZa/nWfDFFBQvFP9vUb+wQ405yv 3F6XdgfjcmZDO2iI9EUmBqZgwzE8P0Rix1YvFCZroNWdvJRZmG/t6wm9qEdQP5d9EG0e RIgIbz/WIO+L7KWUHQjaEHCihjPsGVqqbwHsY= X-Google-DKIM-Signature: v=1; a=rsa-sha256; c=relaxed/relaxed; d=1e100.net; s=20230601; t=1759489484; x=1760094284; h=references:in-reply-to:cc:to:from:subject:message-id:date :x-gm-message-state:from:to:cc:subject:date:message-id:reply-to; bh=k0vBGn3gv4odgK0d3FWAXbEZwQVwJneCO+b79eimPl4=; b=bZ/ERVVDt+k5mE1YI+xZxkA/FNdui6d+vwrZFXZJ7ZCUut/fhif2Uy6y22xmw1hGAJ QoFCn/K9MQHEjlhld69C//skb9kqcoxZ9UKaBFtjGnAtZ1LDcQvuTFVr7YUfdsqEFJL7 kHnevqpPTsaN10eNgmFQyD+O7NXvOVCs1e/Cj7bxYmhx9jLjxOv2zX/dq4/m6WVp9AsT 0ukNQI/QqkEXzEle+DGLz2ORlfdNs28VBvIrANImYzVlCBn94PygVWx5xw8Ou+VI/V/s 0F5OGzp0byrYF+GrrRVtqMtfYWp16/zmwfXPjhWG6AuzJLSmlJFN23jc1k7Ok8rtbkQX 2WKA== X-Gm-Message-State: AOJu0YyzNg2eg6+5CoEBkZECU3jt1+NQVVRtS3Rq7VNyez97MzRV9HR+ zB1uhqzwE5bPeJTjjeqx0rp8I/mQtCFFiwuoDlJQpXSKvyfo6WAOuQkFt8rZUm+ns2Yug2FQi+b jZPtRvl6yAygKyWW+jaezQwT73u0mYRiC8ScWnB0nJOHdO1rG3kYyfdnXh6xH X-Gm-Gg: ASbGnct+CfUxlgIZYPI3dO4FtIef61+7SbwOT6WGBCcP+yBikbIsbM/OYkcQ5qkpUt7 XbxmQJEmmGfRhO5q/r4M497c9jNApWj5ylTuovgi1Dm6q6rGnXSOVO64q/6ZKKHqDKGeJauutTl 4gH6XUCCpasrqo0XjPr+8VBm+ZD6t/aFzWT0TJy6AU9X2T3gg7Upm9ioJsXJrQpUAAlApFPTwit +e6p9cIEz37Tyn9yqw/1mRtZ8THicU8qFuvfLOoJ9iXdU8ODt/FatvHwhwTnwF0UPQ1ILj/HjKl s7MRhb5Co0InL+igGIl6QJaIu/gqbndHfYLW7BZFmGFD+bL6FGplF0A= X-Google-Smtp-Source: AGHT+IF/W/A4OTjohxdAwsrSWbej6JgzrqOGJmGkDOk0jCQ/eXtJ0hIsK00TnwzClK1yAerNnS6asAgm1/Wr X-Received: by 2002:a05:6e02:198a:b0:426:3ab1:74b4 with SMTP id e9e14a558f8ab-42e7ad966f0mr36005145ab.19.1759489483753; Fri, 03 Oct 2025 04:04:43 -0700 (PDT) Received: from postal.iol.unh.edu (postal.iol.unh.edu. [2606:4100:3880:1234::84]) by smtp-relay.gmail.com with ESMTPS id e9e14a558f8ab-42d8b201e00sm3623615ab.9.2025.10.03.04.04.43 (version=TLS1_2 cipher=ECDHE-ECDSA-AES128-GCM-SHA256 bits=128/128); Fri, 03 Oct 2025 04:04:43 -0700 (PDT) X-Relaying-Domain: iol.unh.edu Date: Fri, 03 Oct 2025 04:04:43 -0700 (PDT) Message-ID: <68dfadcb.050a0220.2c758f.686fSMTPIN_ADDED_MISSING@mx.google.com> Received: from [172.21.0.8] (unknown [172.18.0.240]) by postal.iol.unh.edu (Postfix) with ESMTP id 5437B6051830; Fri, 3 Oct 2025 07:04:43 -0400 (EDT) Subject: |SUCCESS| pw157010 [PATCH] net/bonding: rename global symbols From: dpdklab@iol.unh.edu To: Test Report Cc: dpdk-test-reports@iol.unh.edu, Stephen Hemminger In-Reply-To: <20250926161837.400929-1-stephen@networkplumber.org> References: <20250926161837.400929-1-stephen@networkplumber.org> Content-Type: text/plain X-BeenThere: test-report@dpdk.org X-Mailman-Version: 2.1.29 Precedence: list List-Id: automatic DPDK test reports List-Unsubscribe: , List-Archive: List-Post: List-Help: List-Subscribe: , Errors-To: test-report-bounces@dpdk.org Test-Label: iol-compile-arm64-testing Test-Status: SUCCESS http://dpdk.org/patch/157010 _Testing PASS_ Submitter: Stephen Hemminger Date: Friday, September 26 2025 16:18:37 DPDK git baseline: Repo:dpdk-next-net Branch: master CommitID:c1698355a8c527f256bd9571ff9b6ed7441dcbce 157010 --> testing pass Upstream job id: Generic-DPDK-Compile-Meson#430518 Test environment and result as below: +------------------------------+--------------------+ | Environment | dpdk_meson_compile | +==============================+====================+ | Red Hat Enterprise Linux 9.5 | PASS | +------------------------------+--------------------+ | Ubuntu 20.04 | PASS | +------------------------------+--------------------+ | Debian GNU/Linux 12 | PASS | +------------------------------+--------------------+ | Fedora Linux 42 | PASS | +------------------------------+--------------------+ | Ubuntu 22.04 | PASS | +------------------------------+--------------------+ | Ubuntu 24.04 | PASS | +------------------------------+--------------------+ | CentOS Stream 9 | PASS | +------------------------------+--------------------+ | CentOS Stream 10 | PASS | +------------------------------+--------------------+ Red Hat Enterprise Linux 9.5 Kernel: 5.4 Compiler: gcc gcc (GCC) 11.5.0 20240719 (Red Hat 11.5.0-2) Ubuntu 20.04 Kernel: 5.15 Compiler: aarch64-linux-gnu-gcc gcc (Ubuntu 9.4.0-1ubuntu1~20.04.2) 9.4.0 Debian GNU/Linux 12 Kernel: 5.4 Compiler: gcc gcc (Debian 12.2.0-14+deb12u1) 12.2.0 Fedora Linux 42 Kernel: 5.4 Compiler: clang gcc (GCC) 15.2.1 20250808 (Red Hat 15.2.1-1) Ubuntu 22.04 Kernel: 5.4 Compiler: gcc gcc (Ubuntu 11.4.0-1ubuntu1~22.04) 11.4.0 Ubuntu 24.04 Kernel: 5.4 Compiler: gcc gcc (Ubuntu 13.3.0-6ubuntu2~24.04) 13.3.0 CentOS Stream 9 Kernel: 5.4 Compiler: gcc gcc (GCC) 11.5.0 20240719 (Red Hat 11.5.0-11) CentOS Stream 10 Kernel: 5.4 Compiler: gcc gcc (GCC) 14.2.1 20250110 (Red Hat 14.2.1-8) To view detailed results, visit: https://lab.dpdk.org/results/dashboard/patchsets/34162/ UNH-IOL DPDK Community Lab To manage your email subscriptions, visit: https://lab.dpdk.org/results/dashboard/preferences/subscriptions/