From mboxrd@z Thu Jan 1 00:00:00 1970 Return-Path: Received: from mails.dpdk.org (mails.dpdk.org [217.70.189.124]) by inbox.dpdk.org (Postfix) with ESMTP id C1E964889E for ; Fri, 3 Oct 2025 13:08:41 +0200 (CEST) Received: from mails.dpdk.org (localhost [127.0.0.1]) by mails.dpdk.org (Postfix) with ESMTP id BBBCF40262; Fri, 3 Oct 2025 13:08:41 +0200 (CEST) Received: from mail-oo1-f99.google.com (mail-oo1-f99.google.com [209.85.161.99]) by mails.dpdk.org (Postfix) with ESMTP id EA38E40262 for ; Fri, 3 Oct 2025 13:08:40 +0200 (CEST) Received: by mail-oo1-f99.google.com with SMTP id 006d021491bc7-6497c23a47aso558546eaf.1 for ; Fri, 03 Oct 2025 04:08:40 -0700 (PDT) DKIM-Signature: v=1; a=rsa-sha256; c=relaxed/relaxed; d=iol.unh.edu; s=unh-iol; t=1759489720; x=1760094520; darn=dpdk.org; h=references:in-reply-to:cc:to:from:subject:message-id:date:from:to :cc:subject:date:message-id:reply-to; bh=Ag2IhkaMMhCbaR+i3N/uKe6LM97PxbNFUOlT/dmKMFQ=; b=jkfQ5g/X9jMTvbIjYGd8iIVzS5Uil+2XsVIQjl6en9i8KtfL+Bw/mFDdnfobDGqCly S/swaRAfPGUmGZakcNxsh1DrDVVbThiOAkQK9EE54+F0CxHYchpRGDav7FbSG8BOtPSI 2r9oElQWe5uMswi9VnkufrM0nTQJV+Jrsjyok= X-Google-DKIM-Signature: v=1; a=rsa-sha256; c=relaxed/relaxed; d=1e100.net; s=20230601; t=1759489720; x=1760094520; h=references:in-reply-to:cc:to:from:subject:message-id:date :x-gm-message-state:from:to:cc:subject:date:message-id:reply-to; bh=Ag2IhkaMMhCbaR+i3N/uKe6LM97PxbNFUOlT/dmKMFQ=; b=vjrmlkoRHBd4pAk/Oc+Vggs+JfmBGN69XWHTj5tDWEIIw5+2WNZKEMaeFup/siuG+l WDklFxl87Dan2jtiM457NGKkHsprPHOFYO3GTvJapfXdcPB/7Xg4TmfJglGDkUBzaprR 8UQLWb/mvz/5K6Sz13HcnQVHMIA+PmndbJMLx+FfcHmh+16HF/nrNRzVauH5r5BMPK5w /kIKnd5SdwJiBFMAzCVmpo71dxVdRK8xBBChN3A7bPNqp+SWLPlMJzLxJVjLG4MzeRIR AjRcT7QetREm5ODTiG9F2y8YS/hxvvTygNbTj8Z8MW+HkpjVlfIwUiAxjNseZVdxHxXy 3bRA== X-Gm-Message-State: AOJu0YzlqrBjXHoVXhZS8DUEs9Y9ayHt47Mb6PbGlk/OHC9cZPY1NyKc jsduFFdp1YdTgiodgqpIk6l6WiFmBOPLN3qoBxVNNJZW9CVKqgO2sZ6Pklk76anH9Etn6sh0nSW w7tBIou6+yyms0Y1lSYB+3sEj/1Q8TpYDp1ku2EdOzdGrk2aBSr+JmxBpu/UG X-Gm-Gg: ASbGncu0c2CV3bFoaUCFDY3F6hnS1juFWiUU7CZHPJ0tu6zCDGotUBAo81LhR0Bu7A7 vO4VN9gi2QU+sl9vlNGUrt1gHxRFafkEd3X6ZGe7OEU1BySSzKDgiER+ugEUKviWUYHoj8IpMz4 zoJaPLwz8qYm5MKOzp2Objtp7EzNgzTJBcPbiaVCKskiHzh78OKGRDKzcGuMgNX4/0H9lYNWUpX 5XMviuHYezGPgHXb25hhjE6wKL4ymdNaL36I95RaMz34tvG6cy87TXuAWNzPSKeSv5uDfayilSw mQJ5hlN6EtdZpYnLbuIO3x7dhvO5znNF80n4KlX7soK1jG1x9dLlnu8= X-Google-Smtp-Source: AGHT+IERKedJ0pbH6Rj24P9n4xqEf+7pw0l4YOH38eCHrwX2pVXqKI+uUatrmwZVTorbS1MhPBXjvw54/d67 X-Received: by 2002:a05:6870:80c7:b0:35b:7d80:b175 with SMTP id 586e51a60fabf-3b0fb1da4d5mr1658049fac.44.1759489720086; Fri, 03 Oct 2025 04:08:40 -0700 (PDT) Received: from postal.iol.unh.edu (postal.iol.unh.edu. [2606:4100:3880:1234::84]) by smtp-relay.gmail.com with ESMTPS id 586e51a60fabf-3ab7ec1e47fsm367686fac.9.2025.10.03.04.08.40 (version=TLS1_2 cipher=ECDHE-ECDSA-AES128-GCM-SHA256 bits=128/128); Fri, 03 Oct 2025 04:08:40 -0700 (PDT) X-Relaying-Domain: iol.unh.edu Date: Fri, 03 Oct 2025 04:08:40 -0700 (PDT) Message-ID: <68dfaeb8.050a0220.30c2de.6c3aSMTPIN_ADDED_MISSING@mx.google.com> Received: from [172.21.0.3] (unknown [172.18.0.240]) by postal.iol.unh.edu (Postfix) with ESMTP id 4AEDD6051830; Fri, 3 Oct 2025 07:08:39 -0400 (EDT) Subject: |SUCCESS| pw157249-157250 [PATCH] [v6,2/2] net/idpf: enable AVX2 for From: dpdklab@iol.unh.edu To: Test Report Cc: dpdk-test-reports@iol.unh.edu, Bruce Richardson In-Reply-To: <20251003094950.2818019-3-shaiq.wani@intel.com> References: <20251003094950.2818019-3-shaiq.wani@intel.com> Content-Type: text/plain X-BeenThere: test-report@dpdk.org X-Mailman-Version: 2.1.29 Precedence: list List-Id: automatic DPDK test reports List-Unsubscribe: , List-Archive: List-Post: List-Help: List-Subscribe: , Errors-To: test-report-bounces@dpdk.org Test-Label: iol-unit-amd64-testing Test-Status: SUCCESS http://dpdk.org/patch/157250 _Testing PASS_ Submitter: Shaiq Wani Date: Friday, October 03 2025 09:49:50 DPDK git baseline: Repo:dpdk-next-net-intel Branch: master CommitID:e7d8cc7ef4df3552575525697079d3c957cfcdaf 157249-157250 --> testing pass Upstream job id: Generic-VM-Unit-Test-DPDK#31564 Test environment and result as below: +-------------------------------+----------------+ | Environment | dpdk_unit_test | +===============================+================+ | CentOS Stream 9 | PASS | +-------------------------------+----------------+ | CentOS Stream 10 | PASS | +-------------------------------+----------------+ | Debian GNU/Linux 12 | PASS | +-------------------------------+----------------+ | Fedora Linux 41 | PASS | +-------------------------------+----------------+ | Fedora Linux 40 | PASS | +-------------------------------+----------------+ | Fedora Linux 42 | PASS | +-------------------------------+----------------+ | Red Hat Enterprise Linux 8.10 | PASS | +-------------------------------+----------------+ | Red Hat Enterprise Linux 9.5 | PASS | +-------------------------------+----------------+ | Ubuntu 20.04 | PASS | +-------------------------------+----------------+ | Ubuntu 22.04 | PASS | +-------------------------------+----------------+ | Windows Server 2022 | PASS | +-------------------------------+----------------+ | Ubuntu 24.04 | PASS | +-------------------------------+----------------+ CentOS Stream 9 Kernel: 5.15 Compiler: gcc gcc (GCC) 11.5.0 20240719 (Red Hat 11.5.0-11) CentOS Stream 10 Kernel: 5.15 Compiler: gcc gcc (GCC) 14.2.1 20250110 (Red Hat 14.2.1-8) Debian GNU/Linux 12 Kernel: 5.15 Compiler: gcc gcc (Debian 12.2.0-14+deb12u1) 12.2.0 Fedora Linux 41 Kernel: 5.15 Compiler: clang gcc (GCC) 14.3.1 20250523 (Red Hat 14.3.1-1) Fedora Linux 40 Kernel: 5.15 Compiler: clang gcc (GCC) 14.2.1 20240912 (Red Hat 14.2.1-3) Fedora Linux 42 Kernel: 5.15 Compiler: clang gcc (GCC) 15.2.1 20250808 (Red Hat 15.2.1-1) Red Hat Enterprise Linux 8.10 Kernel: 5.15 Compiler: gcc gcc (GCC) 8.5.0 20210514 (Red Hat 8.5.0-22) Red Hat Enterprise Linux 9.5 Kernel: 5.15 Compiler: gcc gcc (GCC) 11.5.0 20240719 (Red Hat 11.5.0-2) Ubuntu 20.04 Kernel: 5.15 Compiler: gcc gcc (Ubuntu 9.4.0-1ubuntu1~20.04.2) 9.4.0 Ubuntu 22.04 Kernel: 5.15 Compiler: gcc gcc (Ubuntu 11.4.0-1ubuntu1~22.04) 11.4.0 Windows Server 2022 Kernel: 10.0.20348.2031 Compiler: clang 15.0.7, gcc 14.1.0 (MinGW), and MSVC VS 19.39.33521 Ubuntu 24.04 Kernel: 5.15 Compiler: gcc gcc (Ubuntu 13.3.0-6ubuntu2~24.04) 13.3.0 To view detailed results, visit: https://lab.dpdk.org/results/dashboard/patchsets/34206/ UNH-IOL DPDK Community Lab To manage your email subscriptions, visit: https://lab.dpdk.org/results/dashboard/preferences/subscriptions/