From mboxrd@z Thu Jan 1 00:00:00 1970 Return-Path: Received: from mails.dpdk.org (mails.dpdk.org [217.70.189.124]) by inbox.dpdk.org (Postfix) with ESMTP id 12FA34889E for ; Fri, 3 Oct 2025 13:25:23 +0200 (CEST) Received: from mails.dpdk.org (localhost [127.0.0.1]) by mails.dpdk.org (Postfix) with ESMTP id F3B814025F; Fri, 3 Oct 2025 13:25:22 +0200 (CEST) Received: from mail-vk1-f226.google.com (mail-vk1-f226.google.com [209.85.221.226]) by mails.dpdk.org (Postfix) with ESMTP id 3B84F4025F for ; Fri, 3 Oct 2025 13:25:21 +0200 (CEST) Received: by mail-vk1-f226.google.com with SMTP id 71dfb90a1353d-551b9d94603so751240e0c.1 for ; Fri, 03 Oct 2025 04:25:21 -0700 (PDT) DKIM-Signature: v=1; a=rsa-sha256; c=relaxed/relaxed; d=iol.unh.edu; s=unh-iol; t=1759490720; x=1760095520; darn=dpdk.org; h=references:in-reply-to:cc:to:from:subject:message-id:date:from:to :cc:subject:date:message-id:reply-to; bh=wt/ShQ4s3M3zOD0T0J11Q413Q5nS9L3dLoRTQXqlIBQ=; b=aAUVDdRSMNdH7mdsrjh5KaKkBFhQN8//rR2cz3UNMF4IzzYJLcfuscWsS6NV+o8bCi xy8S+FZH69sBkbFSI4z4TS78aoCP/5kT6mP5a48ls5Wzxad3OW5LiRCCK6MUrIL5247O n1qGVg+VEh1kd120b57Fj2s+edZs5D4hlfOQo= X-Google-DKIM-Signature: v=1; a=rsa-sha256; c=relaxed/relaxed; d=1e100.net; s=20230601; t=1759490720; x=1760095520; h=references:in-reply-to:cc:to:from:subject:message-id:date :x-gm-message-state:from:to:cc:subject:date:message-id:reply-to; bh=wt/ShQ4s3M3zOD0T0J11Q413Q5nS9L3dLoRTQXqlIBQ=; b=g0PbLf4UjvIwmaUZFHZIXzoZ4YfZHL64SiMBcgChSVWh1yymnpe0UX8EBCae4AQO3O z3UGlJU1S63Jr9ahCtZnUkiKWsYr8LJCwhJm/ku4xK/r/lWjRct+IinGhhwWA+PwjBWH yYM7msf/sDxt0xcgke1wfmjW9aJIeUkpY3tVEpDuwgQVyOjlX7WI9pGdsJkwzhTeKjrJ wmRTvw7u2r/b59E5azvbhOhi8hpycPEr9B2woPINLmFzJSG2pSwJAkMhFjLJHUIbKlcx p4O0jE7ezX5tWykq5zA2TQy7zA1PBqWqwjxxBTnpPH2LCezNJkBwcbU1RxudPlIblMYi lZ3Q== X-Gm-Message-State: AOJu0Yyvgv4jKe42j4B+nBjiJtmnaFQiDZQkCxqORfKP3hDyDgIuSy/m ogPZsfnebbV69gdJRbf9HGYLglmM8t9LonDk0HPshFa8cwqCV5bhTKDoeG4y4zzhK/vDX1VoSv+ htQajrQLHfRxezwgN1EpSrQz45OBzm7ExK5VYOtsZvfv+ X-Gm-Gg: ASbGncssJ8YyVbZ5wQO/CkH+aWu2I6Qh8sjdaZbieeK2+8F2qrcpkNqZf+ATa9RUM8E UZ2MK7/cK9cAvnQ7ySvAO4DDz/3C5eH6XlmhKqoRgKkMV3LKM5nQZlLvSq1oUJNh9po8EHitc4l YXl6DdHfrrPoR8+ma/GAIyTx3FAuwKxaiV+EhUHdQR0+jHt/6weTmmGzyFzMUMuZNZH6vMz7/8v E5vJ2VuVt+3yT4FZqN284MMh0P53e8N+0pOm24ZgJgfqefXoRD6DS0Z2SnJ2Wg9TO4OTGKcFO4J +NoE8xz1sy0jhBGlnnqJkYMSNnbb+C3W/qZZGwg9KZimdLpvaitYEVSVifeuB01jqd89+Cpxie0 nLQ== X-Google-Smtp-Source: AGHT+IGD0G3oNXhaiNHAp8RhLfah+ZmErP/lfF1Bugn8ZUq2QiCflfvOQlpDm49nTPCdwsx3WZDZnAlxc+p8 X-Received: by 2002:a05:6122:311b:b0:54a:9e02:f9c2 with SMTP id 71dfb90a1353d-5524e897101mr742213e0c.6.1759490720588; Fri, 03 Oct 2025 04:25:20 -0700 (PDT) Received: from postal.iol.unh.edu (postal.iol.unh.edu. [132.177.123.84]) by smtp-relay.gmail.com with ESMTPS id 71dfb90a1353d-5523d031ffbsm432089e0c.5.2025.10.03.04.25.20 (version=TLS1_2 cipher=ECDHE-ECDSA-AES128-GCM-SHA256 bits=128/128); Fri, 03 Oct 2025 04:25:20 -0700 (PDT) X-Relaying-Domain: iol.unh.edu Date: Fri, 03 Oct 2025 04:25:20 -0700 (PDT) Message-ID: <68dfb2a0.050a0220.34a713.9e7bSMTPIN_ADDED_MISSING@mx.google.com> Received: from [172.21.0.3] (unknown [172.18.0.240]) by postal.iol.unh.edu (Postfix) with ESMTP id 49B9B6051830; Fri, 3 Oct 2025 07:25:20 -0400 (EDT) Subject: |SUCCESS| pw157251-157252 [PATCH] [v2,2/2] net/iavf: add restore com From: dpdklab@iol.unh.edu To: Test Report Cc: dpdk-test-reports@iol.unh.edu, Bruce Richardson In-Reply-To: <20251003102359.823028-2-ciara.loftus@intel.com> References: <20251003102359.823028-2-ciara.loftus@intel.com> Content-Type: text/plain X-BeenThere: test-report@dpdk.org X-Mailman-Version: 2.1.29 Precedence: list List-Id: automatic DPDK test reports List-Unsubscribe: , List-Archive: List-Post: List-Help: List-Subscribe: , Errors-To: test-report-bounces@dpdk.org Test-Label: iol-unit-amd64-testing Test-Status: SUCCESS http://dpdk.org/patch/157252 _Testing PASS_ Submitter: Loftus, Ciara Date: Friday, October 03 2025 10:23:59 DPDK git baseline: Repo:dpdk-next-net-intel Branch: master CommitID:e7d8cc7ef4df3552575525697079d3c957cfcdaf 157251-157252 --> testing pass Upstream job id: Generic-Unit-Test-DPDK#378198 Test environment and result as below: +-------------------------------+----------------+ | Environment | dpdk_unit_test | +===============================+================+ | CentOS Stream 10 | PASS | +-------------------------------+----------------+ | CentOS Stream 9 | PASS | +-------------------------------+----------------+ | Debian GNU/Linux 12 | PASS | +-------------------------------+----------------+ | Fedora Linux 40 | PASS | +-------------------------------+----------------+ | Fedora Linux 41 | PASS | +-------------------------------+----------------+ | Fedora Linux 42 | PASS | +-------------------------------+----------------+ | Ubuntu 22.04 | PASS | +-------------------------------+----------------+ | Ubuntu 20.04 | PASS | +-------------------------------+----------------+ | Red Hat Enterprise Linux 9.5 | PASS | +-------------------------------+----------------+ | Red Hat Enterprise Linux 8.10 | PASS | +-------------------------------+----------------+ | Ubuntu 24.04 | PASS | +-------------------------------+----------------+ CentOS Stream 10 Kernel: 5.15 Compiler: gcc gcc (GCC) 14.2.1 20250110 (Red Hat 14.2.1-8) CentOS Stream 9 Kernel: 5.15 Compiler: gcc gcc (GCC) 11.5.0 20240719 (Red Hat 11.5.0-11) Debian GNU/Linux 12 Kernel: 5.15 Compiler: gcc gcc (Debian 12.2.0-14+deb12u1) 12.2.0 Fedora Linux 40 Kernel: 5.15 Compiler: clang gcc (GCC) 14.2.1 20240912 (Red Hat 14.2.1-3) Fedora Linux 41 Kernel: 5.15 Compiler: gcc gcc (GCC) 14.3.1 20250523 (Red Hat 14.3.1-1) Fedora Linux 42 Kernel: 5.15 Compiler: clang gcc (GCC) 15.2.1 20250808 (Red Hat 15.2.1-1) Ubuntu 22.04 Kernel: 5.15 Compiler: gcc gcc (Ubuntu 11.4.0-1ubuntu1~22.04) 11.4.0 Ubuntu 20.04 Kernel: 5.15 Compiler: gcc gcc (Ubuntu 9.4.0-1ubuntu1~20.04.2) 9.4.0 Red Hat Enterprise Linux 9.5 Kernel: 5.15 Compiler: gcc gcc (GCC) 11.5.0 20240719 (Red Hat 11.5.0-2) Red Hat Enterprise Linux 8.10 Kernel: 5.15 Compiler: gcc gcc (GCC) 8.5.0 20210514 (Red Hat 8.5.0-22) Ubuntu 24.04 Kernel: 5.15 Compiler: gcc gcc (Ubuntu 13.3.0-6ubuntu2~24.04) 13.3.0 To view detailed results, visit: https://lab.dpdk.org/results/dashboard/patchsets/34207/ UNH-IOL DPDK Community Lab To manage your email subscriptions, visit: https://lab.dpdk.org/results/dashboard/preferences/subscriptions/