From mboxrd@z Thu Jan 1 00:00:00 1970 Return-Path: Received: from mails.dpdk.org (mails.dpdk.org [217.70.189.124]) by inbox.dpdk.org (Postfix) with ESMTP id 137064889E for ; Fri, 3 Oct 2025 13:25:32 +0200 (CEST) Received: from mails.dpdk.org (localhost [127.0.0.1]) by mails.dpdk.org (Postfix) with ESMTP id 0CF5C4025F; Fri, 3 Oct 2025 13:25:32 +0200 (CEST) Received: from mail-yx1-f97.google.com (mail-yx1-f97.google.com [74.125.224.97]) by mails.dpdk.org (Postfix) with ESMTP id 9A2EB4025F for ; Fri, 3 Oct 2025 13:25:30 +0200 (CEST) Received: by mail-yx1-f97.google.com with SMTP id 956f58d0204a3-63605f6f926so1864891d50.0 for ; Fri, 03 Oct 2025 04:25:30 -0700 (PDT) DKIM-Signature: v=1; a=rsa-sha256; c=relaxed/relaxed; d=iol.unh.edu; s=unh-iol; t=1759490730; x=1760095530; darn=dpdk.org; h=references:in-reply-to:cc:to:from:subject:message-id:date:from:to :cc:subject:date:message-id:reply-to; bh=KGb793fItNtTJNPx8+birOX++jbZ1I7ECTNKIsFe+hs=; b=Ai82FBYVAl9/TpU/B8LzrOBm+rOHjKCl3vgE2FytUoX28c31j1EUV3bKpMahH/y+Cf oOTnG4cyYeJxN2miSp0Of+rkuIcEWGVJvt5zs9r90PUWMCon1ZkM8aQxuFuB2hAJJN2J e0xUbkJH7CkecTv+3z7YRjwvNXGcd6AEikYA8= X-Google-DKIM-Signature: v=1; a=rsa-sha256; c=relaxed/relaxed; d=1e100.net; s=20230601; t=1759490730; x=1760095530; h=references:in-reply-to:cc:to:from:subject:message-id:date :x-gm-message-state:from:to:cc:subject:date:message-id:reply-to; bh=KGb793fItNtTJNPx8+birOX++jbZ1I7ECTNKIsFe+hs=; b=Qoh4r9w3DGOGQesjmqCuKQCkLMUY1pgNVv6rzVtNNOUBOAIp6MkYwzCig/hNwNoavP nusI3TlILCkiIdBlaYivCYPBgc00wRU0PUV/QC8gc+ysXP24L4PuO8Ku65mXmy1xe6sI IfPoKsAxglzYv7KWA+lt1C3EqcxvEgT9n/TbBY9VoTHHHKVnlgysTZ3oqyw5bziXFKlz XzoUjbPaTBzideh3kaWygLUG5uk3xVYeTdKvdx2SPjGogKzFtQFG2LFJIlGRaFtRon40 O1HV57rgX7AD9fE4o+0GxP9KpMfZSvNmgaedRjWKZgQAA/pmNy7kmCLisXWAz37BXjk7 W3fg== X-Gm-Message-State: AOJu0YwekgIQ7NjBc7dnrplLnoQSARHSF2p0jy/rliF2OUzT5PN40n6P Je8xjh3nTZQ1vpyHMkOhqXHYVLqqGkdyUMMjMFTjrf6IRc2UDxFCMslXypxx2JwX5TswHc+WTA4 Arkw7VEtFYJtMQMnLDq0G9sM5DvZogZ7FgGFuP4I4EBOA X-Gm-Gg: ASbGnct7H+TG/1Z4NdnW3Ps424G5PmyLCZSc4jBH6PUyH6eYcHyB/Uw5ioMxEq0t7vZ oOVKby4v6KbJiJ0OsvA/gSXeCj3EIwbc0XCecvp58yik9XxJ+8AQuL7WoX9dgKiLR0itj6HuEHv rU/Rif/sFGl+DmNvt1SOchpKUSwt/t/ItMkkqFV32CEg2/dOb0MONAOzudlfuzozXJtAqym9pLD 8HMorvmXikJEo8IJLo12dyJ9KbCAdW5KvxQ2cqUADTZQiNtYo2XSfxXW0zmxMBO69r+5mFNDZQ8 drKsBkALwjC67z+MYerjzoky66A3gNcosJk/2DpxYMlMig6uRw2zXOnw/22hzIQZxlOAW3+uc8z Mtw== X-Google-Smtp-Source: AGHT+IEaq4Cn6XwFC+I43bLzWzC78oxV+0Cu/lsBBIg+vELR+dqiRjQbFe4Cz17xXnQJjdOoQcBGZjqW4mNR X-Received: by 2002:a05:690e:8d:b0:63b:8ed2:f996 with SMTP id 956f58d0204a3-63b9a0e0b55mr1410515d50.33.1759490729792; Fri, 03 Oct 2025 04:25:29 -0700 (PDT) Received: from postal.iol.unh.edu (postal.iol.unh.edu. [132.177.123.84]) by smtp-relay.gmail.com with ESMTPS id 00721157ae682-77f81c07ff1sm2585157b3.9.2025.10.03.04.25.29 (version=TLS1_2 cipher=ECDHE-ECDSA-AES128-GCM-SHA256 bits=128/128); Fri, 03 Oct 2025 04:25:29 -0700 (PDT) X-Relaying-Domain: iol.unh.edu Date: Fri, 03 Oct 2025 04:25:29 -0700 (PDT) Message-ID: <68dfb2a9.050a0220.11fa40.0366SMTPIN_ADDED_MISSING@mx.google.com> Received: from [172.21.0.4] (unknown [172.18.0.240]) by postal.iol.unh.edu (Postfix) with ESMTP id 7760A6051830; Fri, 3 Oct 2025 07:25:29 -0400 (EDT) Subject: |SUCCESS| pw157249-157250 [PATCH] [v6,2/2] net/idpf: enable AVX2 for From: dpdklab@iol.unh.edu To: Test Report Cc: dpdk-test-reports@iol.unh.edu, Bruce Richardson In-Reply-To: <20251003094950.2818019-3-shaiq.wani@intel.com> References: <20251003094950.2818019-3-shaiq.wani@intel.com> Content-Type: text/plain X-BeenThere: test-report@dpdk.org X-Mailman-Version: 2.1.29 Precedence: list List-Id: automatic DPDK test reports List-Unsubscribe: , List-Archive: List-Post: List-Help: List-Subscribe: , Errors-To: test-report-bounces@dpdk.org Test-Label: iol-unit-amd64-testing Test-Status: SUCCESS http://dpdk.org/patch/157250 _Testing PASS_ Submitter: Shaiq Wani Date: Friday, October 03 2025 09:49:50 DPDK git baseline: Repo:dpdk-next-net-intel Branch: master CommitID:e7d8cc7ef4df3552575525697079d3c957cfcdaf 157249-157250 --> testing pass Upstream job id: Generic-VM-Unit-Test-DPDK#31565 Test environment and result as below: +-------------------------------+----------------+ | Environment | dpdk_unit_test | +===============================+================+ | CentOS Stream 9 | PASS | +-------------------------------+----------------+ | CentOS Stream 10 | PASS | +-------------------------------+----------------+ | Debian GNU/Linux 12 | PASS | +-------------------------------+----------------+ | Fedora Linux 41 | PASS | +-------------------------------+----------------+ | Fedora Linux 40 | PASS | +-------------------------------+----------------+ | Fedora Linux 42 | PASS | +-------------------------------+----------------+ | Red Hat Enterprise Linux 8.10 | PASS | +-------------------------------+----------------+ | Red Hat Enterprise Linux 9.5 | PASS | +-------------------------------+----------------+ | Ubuntu 20.04 | PASS | +-------------------------------+----------------+ | Ubuntu 22.04 | PASS | +-------------------------------+----------------+ | Windows Server 2022 | PASS | +-------------------------------+----------------+ | Ubuntu 24.04 | PASS | +-------------------------------+----------------+ CentOS Stream 9 Kernel: 5.15 Compiler: gcc gcc (GCC) 11.5.0 20240719 (Red Hat 11.5.0-11) CentOS Stream 10 Kernel: 5.15 Compiler: gcc gcc (GCC) 14.2.1 20250110 (Red Hat 14.2.1-8) Debian GNU/Linux 12 Kernel: 5.15 Compiler: gcc gcc (Debian 12.2.0-14+deb12u1) 12.2.0 Fedora Linux 41 Kernel: 5.15 Compiler: clang gcc (GCC) 14.3.1 20250523 (Red Hat 14.3.1-1) Fedora Linux 40 Kernel: 5.15 Compiler: clang gcc (GCC) 14.2.1 20240912 (Red Hat 14.2.1-3) Fedora Linux 42 Kernel: 5.15 Compiler: clang gcc (GCC) 15.2.1 20250808 (Red Hat 15.2.1-1) Red Hat Enterprise Linux 8.10 Kernel: 5.15 Compiler: gcc gcc (GCC) 8.5.0 20210514 (Red Hat 8.5.0-22) Red Hat Enterprise Linux 9.5 Kernel: 5.15 Compiler: gcc gcc (GCC) 11.5.0 20240719 (Red Hat 11.5.0-2) Ubuntu 20.04 Kernel: 5.15 Compiler: gcc gcc (Ubuntu 9.4.0-1ubuntu1~20.04.2) 9.4.0 Ubuntu 22.04 Kernel: 5.15 Compiler: gcc gcc (Ubuntu 11.4.0-1ubuntu1~22.04) 11.4.0 Windows Server 2022 Kernel: 10.0.20348.2031 Compiler: clang 15.0.7, gcc 14.1.0 (MinGW), and MSVC VS 19.39.33521 Ubuntu 24.04 Kernel: 5.15 Compiler: gcc gcc (Ubuntu 13.3.0-6ubuntu2~24.04) 13.3.0 To view detailed results, visit: https://lab.dpdk.org/results/dashboard/patchsets/34206/ UNH-IOL DPDK Community Lab To manage your email subscriptions, visit: https://lab.dpdk.org/results/dashboard/preferences/subscriptions/