From mboxrd@z Thu Jan 1 00:00:00 1970 Return-Path: Received: from mails.dpdk.org (mails.dpdk.org [217.70.189.124]) by inbox.dpdk.org (Postfix) with ESMTP id 5C9E34889E for ; Fri, 3 Oct 2025 13:27:27 +0200 (CEST) Received: from mails.dpdk.org (localhost [127.0.0.1]) by mails.dpdk.org (Postfix) with ESMTP id 57C4040262; Fri, 3 Oct 2025 13:27:27 +0200 (CEST) Received: from mail-yw1-f226.google.com (mail-yw1-f226.google.com [209.85.128.226]) by mails.dpdk.org (Postfix) with ESMTP id 1156240262 for ; Fri, 3 Oct 2025 13:27:26 +0200 (CEST) Received: by mail-yw1-f226.google.com with SMTP id 00721157ae682-71d5fe46572so29464227b3.1 for ; Fri, 03 Oct 2025 04:27:26 -0700 (PDT) DKIM-Signature: v=1; a=rsa-sha256; c=relaxed/relaxed; d=iol.unh.edu; s=unh-iol; t=1759490845; x=1760095645; darn=dpdk.org; h=cc:to:from:subject:message-id:date:from:to:cc:subject:date :message-id:reply-to; bh=Kf7ivkQIey6wPetUqk3+9EM3ZgxPk8dLgLV2bphc3Do=; b=ZKtNdoTrijMIkR5p0EJuMskQh8vBZ4ppbWEPfLxDBmMn+jVJHyeHw5Zjg5g4GUCzeb eyG4yC9PEkRns2OYit0mNdjmkvXLtdm0nRYKk7uCsVtz/ybR3uIC2N9TkD+p09nQofdM 8jNlxtoj6iuS/pFo6tMiuesrAYJrlWj+WTG0g= X-Google-DKIM-Signature: v=1; a=rsa-sha256; c=relaxed/relaxed; d=1e100.net; s=20230601; t=1759490845; x=1760095645; h=cc:to:from:subject:message-id:date:x-gm-message-state:from:to:cc :subject:date:message-id:reply-to; bh=Kf7ivkQIey6wPetUqk3+9EM3ZgxPk8dLgLV2bphc3Do=; b=m3SANB+7ohrCEvfn7t4lSikiOsxRWX5Z4nFaFovNaLRkf9zbYmDVa9NODN3JfCd59r jbbsV93HUJfw//gA8glq26vlEiOrnL5Q8/iHnkJxZd0AUDaUwB1X0rXYpwlTARKMUZr4 tcJ95eBDeRRMG2ePfISyVtIhVNMebSA/Ld4kmc8p4BwRe+BMNbVTMezW8RZhiH9qDNEs i865trE0Ob9w3C+zmOMU6Ig8Rk+VXDVRsKdOp2WVo/lBR1/BUAS6zcq1/Mm5pb6TjIsG Yl3H2kXniaoZMVP5B20U0dn1HflKO06jGgPVJnKh70uhxx/GYEcsBL7UcYJWgOksJu4q D+EA== X-Gm-Message-State: AOJu0Yzd0PnIf+eJPlEaaX/Z0hR5PVnzRbcgpQqvM883YcjoPegPKPUb s5PvwUYb16fsWUpH0qa28lBpZIaDgJPV1inq75EFG42wW6yl+JPpyKsRYBorIvGz9rlOMP4k+1e VuAITGF9Y6+PKDJaMfhY6GGmNDIVp0By1wP3d X-Gm-Gg: ASbGnctTaY3JNm6ISo5mEa0cTmnixR0NnSHkZev9axFPZopCheeU4WDUoGw8phpS8KA ANV2pbbisBpxtt1wZuMTQ7bnvyEtByu/oEaKIOobkQr9w8AP9emem86KWFV61qLK/II7wCAGzVd GqDZ1w9iIWLQij9cR0Du1K2FmAgt+XQ6IEEO0f8vBd03zYNJPqNCa01kkktPhdOazcBfTfZolVV ITc1cJrZd0q21waCw3GkpY3BlxvWhfbdawNM7tGTk3CokVBp6TQRDAPM23vwaQTDfo0sCu51pA9 OSvGkXvvxIBMWyw0HIA2JhkMBcZPMpRbA3oYxg+1xj5mD8+cicOZ+Pf7dDNXidh9iUfgNzzOYi9 Fnw== X-Google-Smtp-Source: AGHT+IHc+QJICzCN1hX7J2JemqOF/tTJpErCEOD52Li+yzcBAtB4mjiaRKNnz/eQgfuzZrZ/5jmPOBTft5YD X-Received: by 2002:a05:690c:6484:b0:77f:7213:df0a with SMTP id 00721157ae682-77f94bf63b3mr33651587b3.27.1759490845310; Fri, 03 Oct 2025 04:27:25 -0700 (PDT) Received: from postal.iol.unh.edu (postal.iol.unh.edu. [132.177.123.84]) by smtp-relay.gmail.com with ESMTPS id 00721157ae682-77f96a09d04sm943477b3.38.2025.10.03.04.27.25 (version=TLS1_2 cipher=ECDHE-ECDSA-AES128-GCM-SHA256 bits=128/128); Fri, 03 Oct 2025 04:27:25 -0700 (PDT) X-Relaying-Domain: iol.unh.edu Date: Fri, 03 Oct 2025 04:27:25 -0700 (PDT) Message-ID: <68dfb31d.050a0220.13f867.59c3SMTPIN_ADDED_MISSING@mx.google.com> Received: from [172.21.0.4] (unknown [172.18.0.240]) by postal.iol.unh.edu (Postfix) with ESMTP id 074A16051830; Fri, 3 Oct 2025 07:27:25 -0400 (EDT) Subject: |SUCCESS| [GIT MASTER] 3b43ce3f4a54468e7ef65760c2fd7b4d6ee6d9fc From: dpdklab@iol.unh.edu To: Test Report Cc: dpdk-test-reports@iol.unh.edu, Xueming Li , Christian Ehrhardt , Kevin Traynor , Luca Boccassi Content-Type: text/plain X-BeenThere: test-report@dpdk.org X-Mailman-Version: 2.1.29 Precedence: list List-Id: automatic DPDK test reports List-Unsubscribe: , List-Archive: List-Post: List-Help: List-Subscribe: , Errors-To: test-report-bounces@dpdk.org _Testing PASS_ Branch: tags/v22.11 3b43ce3f4a54468e7ef65760c2fd7b4d6ee6d9fc --> testing pass Upstream job id: Generic-DPDK-Compile-Meson#430582 Test environment and result as below: +---------------------+--------------------+-------------------------+----------------------+ | Environment | dpdk_meson_compile | dpdk_llvm_clang_compile | dpdk_mingw64_compile | +=====================+====================+=========================+======================+ | Ubuntu 20.04 | PASS | SKIPPED | SKIPPED | +---------------------+--------------------+-------------------------+----------------------+ | FreeBSD 14.2 | PASS | SKIPPED | SKIPPED | +---------------------+--------------------+-------------------------+----------------------+ | openSUSE Leap 15.6 | PASS | SKIPPED | SKIPPED | +---------------------+--------------------+-------------------------+----------------------+ | CentOS Stream 9 | PASS | SKIPPED | SKIPPED | +---------------------+--------------------+-------------------------+----------------------+ | Windows Server 2022 | SKIPPED | PASS | PASS | +---------------------+--------------------+-------------------------+----------------------+ Ubuntu 20.04 Kernel: 4.19 Compiler: gcc gcc (Ubuntu 9.4.0-1ubuntu1~20.04.2) 9.4.0 FreeBSD 14.2 Kernel: 14.2-RELEASE Compiler: clang 18.1.6 openSUSE Leap 15.6 Kernel: 5.15 Compiler: gcc gcc (SUSE Linux) 7.5.0 CentOS Stream 9 Kernel: 5.15 Compiler: gcc gcc (GCC) 11.5.0 20240719 (Red Hat 11.5.0-11) Windows Server 2022 Kernel: 10.0.20348.2031 Compiler: clang 15.0.7, gcc 14.1.0 (MinGW), and MSVC VS 19.39.33521 To view detailed results, visit: https://lab.dpdk.org/results/dashboard/tarballs/35067/ UNH-IOL DPDK Community Lab To manage your email subscriptions, visit: https://lab.dpdk.org/results/dashboard/preferences/subscriptions/