From mboxrd@z Thu Jan 1 00:00:00 1970 Return-Path: Received: from mails.dpdk.org (mails.dpdk.org [217.70.189.124]) by inbox.dpdk.org (Postfix) with ESMTP id 75D824889E for ; Fri, 3 Oct 2025 13:28:17 +0200 (CEST) Received: from mails.dpdk.org (localhost [127.0.0.1]) by mails.dpdk.org (Postfix) with ESMTP id 6F4DD40262; Fri, 3 Oct 2025 13:28:17 +0200 (CEST) Received: from mail-qk1-f225.google.com (mail-qk1-f225.google.com [209.85.222.225]) by mails.dpdk.org (Postfix) with ESMTP id C30C44028B for ; Fri, 3 Oct 2025 13:28:15 +0200 (CEST) Received: by mail-qk1-f225.google.com with SMTP id af79cd13be357-816ac9f9507so354506185a.1 for ; Fri, 03 Oct 2025 04:28:15 -0700 (PDT) DKIM-Signature: v=1; a=rsa-sha256; c=relaxed/relaxed; d=iol.unh.edu; s=unh-iol; t=1759490895; x=1760095695; darn=dpdk.org; h=references:in-reply-to:cc:to:from:subject:message-id:date:from:to :cc:subject:date:message-id:reply-to; bh=Z94V3417hIY1C1hZjoCv6xZhwR+VMPJbwvrwifKphgw=; b=OuJOLW3tn7/YJnSJLb0LY1WduJKeZs4MmjqU+F3Ker3BMk4nhJGdYLAEdqAYN0hXiV H5nLN4QuVxoScNyDHQi5xFXwfFF2eRsrK6zmoDjVy3L4oWv1Vc9S1PNSN+mcn+Keqa7s mPvu6cDo0TRsU9kvUYHjSgaky6LxBPIM3F3sI= X-Google-DKIM-Signature: v=1; a=rsa-sha256; c=relaxed/relaxed; d=1e100.net; s=20230601; t=1759490895; x=1760095695; h=references:in-reply-to:cc:to:from:subject:message-id:date :x-gm-message-state:from:to:cc:subject:date:message-id:reply-to; bh=Z94V3417hIY1C1hZjoCv6xZhwR+VMPJbwvrwifKphgw=; b=Sqhm+YrVNPmo7kGXMuJavOPx42mjPqn1eDTiX7IcDmZkPYzOYbPukfJgWgj+1/h4Sa wDZdnhYcSquoyC9qhTqF2B37dLcxHiraYT8qrwjVQSUsEvYTKDyxCjJGi0X7r6JYUksr l48+Q0u/sugbzFWi/cFzAIFBCoTYMXhyyvz9KE45kGIwLc1pZSszBKiCMade7Bc1D+H7 h5w/+M0VdriMpzlxyw24/mzPpd5Zs029mQnU42cGwUBLXwgzlQCfgcCFM/B4tsZCwLZV wIehSTwM9uqzrSh/+uWB2cR5L2ijtkwXdm8Qp8dNnDsBBMi6yRgtXC49vCVpiHHfZFIO 4kYQ== X-Gm-Message-State: AOJu0YwyPL+itNYo9WxV5OWAvnQNMxScpDDOGeofKX3s0lRYk5Kymztt QxoixBCeQLthYlSaeqhRcfRLP1+/1DdHJeiYh50xFE5/x6nIzdfCDDwEEtP/eo7uEn8GO93UnNt 1DTqLYHvSzDyVjL7h9asvcrgnUY3cybMBlo/ZzdGTl+X1vMzTeeAtpoVr8JmQ X-Gm-Gg: ASbGncsMaxRje++a06t1GC+lsIRr6KAI0JE11GjaHneoWKS+kxtzPYudbaq9D8hjImu X28GEsyqmOSQk32yjvhcXBLFRql15xdavdcT3ixrhmBS93kKGN5Q0H2TheK0Ne5LwXux9wF0wJP MYrqoB7izmVmzzETM1KbDBv8CUIyxUu3SQhbsdwll53Z4XV+C1gx9hHDv+aAV1besZjuuv0OJ9y s5VhZYrnLMuDgKcjE5RSdO30fdFBfNxxNW1Sp+LAUKMlclettWhoFfivoeEV4WOH/S2rRD3Y6ft 80FNiK5expktTAsKrlnb1k7UC8eVoD1LKfN2085rZ+rdF7MaiGNXhWg= X-Google-Smtp-Source: AGHT+IHldCLc6Y3qeRtPKJgPAXZS/7+I+/BQnKOM1Kheq1XuYT5zgiEy1VxBXjSM9NsfiWZ0KKp4wtJvzRKM X-Received: by 2002:a05:620a:d8d:b0:823:9bff:ab98 with SMTP id af79cd13be357-8776720c670mr933899385a.17.1759490895041; Fri, 03 Oct 2025 04:28:15 -0700 (PDT) Received: from postal.iol.unh.edu (postal.iol.unh.edu. [2606:4100:3880:1234::84]) by smtp-relay.gmail.com with ESMTPS id af79cd13be357-87774db040fsm33125685a.4.2025.10.03.04.28.14 (version=TLS1_2 cipher=ECDHE-ECDSA-AES128-GCM-SHA256 bits=128/128); Fri, 03 Oct 2025 04:28:15 -0700 (PDT) X-Relaying-Domain: iol.unh.edu Date: Fri, 03 Oct 2025 04:28:15 -0700 (PDT) Message-ID: <68dfb34f.050a0220.19af0a.4b88SMTPIN_ADDED_MISSING@mx.google.com> Received: from [172.21.0.3] (unknown [172.18.0.240]) by postal.iol.unh.edu (Postfix) with ESMTP id C0EDF6051830; Fri, 3 Oct 2025 07:28:14 -0400 (EDT) Subject: |SUCCESS| pw157151-157155 [PATCH] [v3,5/5] usertools/mbuf: parse mbu From: dpdklab@iol.unh.edu To: Test Report Cc: dpdk-test-reports@iol.unh.edu In-Reply-To: <20250930233828.3999565-6-thomas@monjalon.net> References: <20250930233828.3999565-6-thomas@monjalon.net> Content-Type: text/plain X-BeenThere: test-report@dpdk.org X-Mailman-Version: 2.1.29 Precedence: list List-Id: automatic DPDK test reports List-Unsubscribe: , List-Archive: List-Post: List-Help: List-Subscribe: , Errors-To: test-report-bounces@dpdk.org Test-Label: iol-compile-amd64-testing Test-Status: SUCCESS http://dpdk.org/patch/157155 _Testing PASS_ Submitter: Thomas Monjalon Date: Tuesday, September 30 2025 23:25:06 DPDK git baseline: Repo:dpdk Branch: master CommitID:f3878b615e69a12087a6c5d212723478cfc79c31 157151-157155 --> testing pass Upstream job id: Generic-DPDK-Compile-Meson#430577 Test environment and result as below: +-------------------------------+--------------------+-------------------------+-------------------+----------------------+-------------------+------------------+ | Environment | dpdk_meson_compile | dpdk_llvm_clang_compile | dpdk_msvc_compile | dpdk_mingw64_compile | dpdk_compile_spdk | dpdk_compile_ovs | +===============================+====================+=========================+===================+======================+===================+==================+ | Ubuntu 20.04 | PASS | SKIPPED | SKIPPED | SKIPPED | SKIPPED | SKIPPED | +-------------------------------+--------------------+-------------------------+-------------------+----------------------+-------------------+------------------+ | FreeBSD 14.2 | PASS | SKIPPED | SKIPPED | SKIPPED | SKIPPED | SKIPPED | +-------------------------------+--------------------+-------------------------+-------------------+----------------------+-------------------+------------------+ | Red Hat Enterprise Linux 9.5 | PASS | SKIPPED | SKIPPED | SKIPPED | SKIPPED | SKIPPED | +-------------------------------+--------------------+-------------------------+-------------------+----------------------+-------------------+------------------+ | Alpine Linux 3.22.0 | PASS | SKIPPED | SKIPPED | SKIPPED | SKIPPED | SKIPPED | +-------------------------------+--------------------+-------------------------+-------------------+----------------------+-------------------+------------------+ | Ubuntu 22.04 | PASS | SKIPPED | SKIPPED | SKIPPED | PASS | SKIPPED | +-------------------------------+--------------------+-------------------------+-------------------+----------------------+-------------------+------------------+ | CentOS Stream 9 | PASS | SKIPPED | SKIPPED | SKIPPED | PASS | SKIPPED | +-------------------------------+--------------------+-------------------------+-------------------+----------------------+-------------------+------------------+ | Ubuntu 24.04 | PASS | SKIPPED | SKIPPED | SKIPPED | PASS | PASS | +-------------------------------+--------------------+-------------------------+-------------------+----------------------+-------------------+------------------+ | Red Hat Enterprise Linux 8.10 | PASS | SKIPPED | SKIPPED | SKIPPED | SKIPPED | SKIPPED | +-------------------------------+--------------------+-------------------------+-------------------+----------------------+-------------------+------------------+ | Fedora Linux 42 | PASS | SKIPPED | SKIPPED | SKIPPED | PASS | PASS | +-------------------------------+--------------------+-------------------------+-------------------+----------------------+-------------------+------------------+ | CentOS Stream 10 | PASS | SKIPPED | SKIPPED | SKIPPED | SKIPPED | SKIPPED | +-------------------------------+--------------------+-------------------------+-------------------+----------------------+-------------------+------------------+ | Debian GNU/Linux 12 | PASS | SKIPPED | SKIPPED | SKIPPED | PASS | SKIPPED | +-------------------------------+--------------------+-------------------------+-------------------+----------------------+-------------------+------------------+ | openSUSE Leap 15.6 | PASS | SKIPPED | SKIPPED | SKIPPED | SKIPPED | SKIPPED | +-------------------------------+--------------------+-------------------------+-------------------+----------------------+-------------------+------------------+ | Windows Server 2022 | SKIPPED | PASS | PASS | PASS | SKIPPED | SKIPPED | +-------------------------------+--------------------+-------------------------+-------------------+----------------------+-------------------+------------------+ Ubuntu 20.04 Kernel: 4.19 Compiler: gcc gcc (Ubuntu 9.4.0-1ubuntu1~20.04.2) 9.4.0 FreeBSD 14.2 Kernel: 14.2-RELEASE Compiler: clang 18.1.6 Red Hat Enterprise Linux 9.5 Kernel: 5.15 Compiler: gcc gcc (GCC) 11.5.0 20240719 (Red Hat 11.5.0-2) Alpine Linux 3.22.0 Kernel: 5.15 Compiler: gcc gcc (Alpine 14.2.0) 14.2.0 Ubuntu 22.04 Kernel: 5.15 Compiler: gcc gcc (Ubuntu 11.4.0-1ubuntu1~22.04) 11.4.0 CentOS Stream 9 Kernel: 5.15 Compiler: gcc gcc (GCC) 11.5.0 20240719 (Red Hat 11.5.0-11) Ubuntu 24.04 Kernel: 5.15 Compiler: gcc gcc (Ubuntu 13.3.0-6ubuntu2~24.04) 13.3.0 Red Hat Enterprise Linux 8.10 Kernel: 5.15 Compiler: gcc gcc (GCC) 8.5.0 20210514 (Red Hat 8.5.0-22) Fedora Linux 42 Kernel: 5.15 Compiler: clang gcc (GCC) 15.2.1 20250808 (Red Hat 15.2.1-1) CentOS Stream 10 Kernel: 5.15 Compiler: gcc gcc (GCC) 14.2.1 20250110 (Red Hat 14.2.1-8) Debian GNU/Linux 12 Kernel: 5.15 Compiler: gcc gcc (Debian 12.2.0-14+deb12u1) 12.2.0 openSUSE Leap 15.6 Kernel: 5.15 Compiler: gcc gcc (SUSE Linux) 7.5.0 Windows Server 2022 Kernel: 10.0.20348.2031 Compiler: clang 15.0.7, gcc 14.1.0 (MinGW), and MSVC VS 19.39.33521 To view detailed results, visit: https://lab.dpdk.org/results/dashboard/patchsets/34187/ UNH-IOL DPDK Community Lab To manage your email subscriptions, visit: https://lab.dpdk.org/results/dashboard/preferences/subscriptions/