From mboxrd@z Thu Jan 1 00:00:00 1970 Return-Path: Received: from mails.dpdk.org (mails.dpdk.org [217.70.189.124]) by inbox.dpdk.org (Postfix) with ESMTP id 0AB1A4889E for ; Fri, 3 Oct 2025 13:33:34 +0200 (CEST) Received: from mails.dpdk.org (localhost [127.0.0.1]) by mails.dpdk.org (Postfix) with ESMTP id 037DC40262; Fri, 3 Oct 2025 13:33:34 +0200 (CEST) Received: from mail-pl1-f227.google.com (mail-pl1-f227.google.com [209.85.214.227]) by mails.dpdk.org (Postfix) with ESMTP id 358C240262 for ; Fri, 3 Oct 2025 13:33:32 +0200 (CEST) Received: by mail-pl1-f227.google.com with SMTP id d9443c01a7336-26c209802c0so20924765ad.0 for ; Fri, 03 Oct 2025 04:33:32 -0700 (PDT) DKIM-Signature: v=1; a=rsa-sha256; c=relaxed/relaxed; d=iol.unh.edu; s=unh-iol; t=1759491211; x=1760096011; darn=dpdk.org; h=references:in-reply-to:cc:to:from:subject:message-id:date:from:to :cc:subject:date:message-id:reply-to; bh=n5Ir4SXgh/Vq/kZ/1RnuPS41fnWrQV99b9Heipb2ca0=; b=b37gzq2UN9Qaz2t7QdT2lGurt+F+yT8g0AtSvNhe1kuEbLxKEb4ufIBwQA5O7fyeo/ qaXMrOrDbz5/ySVqMQ/ydTw/5uSPW8yZVxLIlC3G8Tag3hmbdbLnXVD7vICdUQmE6joK 5rMTYFh0dT1jKgXCwTuXX6qbv5cZj/YG0rGcY= X-Google-DKIM-Signature: v=1; a=rsa-sha256; c=relaxed/relaxed; d=1e100.net; s=20230601; t=1759491211; x=1760096011; h=references:in-reply-to:cc:to:from:subject:message-id:date :x-gm-message-state:from:to:cc:subject:date:message-id:reply-to; bh=n5Ir4SXgh/Vq/kZ/1RnuPS41fnWrQV99b9Heipb2ca0=; b=qWlvMnCh4IIg/6FEt587P8irZQd6iPLn72pecCe2k4m/sOG5s/HyJssMw047QvMKrO 8Ihz178s8+AXULuO4lm8RcGjHzPw2W2m5QNprYt5APKg0B2r8knjnHUCetrTqs205QsU RagGmrJO4q2YTmdKyiE0Ub5EaJ4L3aehAw9rE9LV7f0gYTUO+PsF9IUQkI5arGRaSPv3 NTYiQNbtjfxOBbSjRTyFGvbMsLQYI6YrhOY96dZ+0lki4syW7EUNUbLjgxtslrSHxj0s 57y6sJow+9MVC8R89VA74izF2252EQqoP6y+S9mDC/0p26uSR1CEMMJlMlpdBvAV6B8N rgWA== X-Gm-Message-State: AOJu0Yxv8Bdgkq0UryKYHnkRm0wvL/8mJ7hN5bza/N3Q/I5tuR7a1dH1 wZa3Svcw4ZKg1punzcDqwCZhKJYbw3v0H9jBjnvFX3YE4i+Rip5BAeF2h2vb0Ok9z/TzfL+IZkE QtbC8AkliMcIWWO5p4h4nYyq5X+wHi5aY92QkFypVpXfh X-Gm-Gg: ASbGncuZJQdRAY3fBLxb6yeWtmvx0PbMTz7/2jemGQM18eE3tQFy7E9z6Q7E2L2aEIt jNFgCG2zNJ00kNqSlN4r2ItNB6iuSo21k/zLXlVxqxHyhQ/xrLRpNsKy+J81oQzrZaxoPSl6LNL o0iodt3Gyr8qtQ0KWQdwyCL07diMgK3cjXcKlIFCbjh6hdE4jOGuSKwYhKjVcagCL4QoDu+txsq wRYGQ9fxGoKO3EQRTW0JPLqqf96UwAjM/HLClYzxMJo/kN+iwIR6Yy54jNONLZyAvdO/XkVR9K4 1wqS9z8lQeDTjGOVY13AKeavPSlWTOADAN3ZzCVzll2FSh+zQWgSfVgN75eKUgRC5mVT3K31uA3 SEg== X-Google-Smtp-Source: AGHT+IFBWXCpJ42VlUOdYuAYk8j3pRL61+kgvvkjuSdcMi6qTbh4ZeirvFbnKx+n3s1gef97BpjeuPY9xBXm X-Received: by 2002:a17:902:ebc4:b0:24d:1f99:713a with SMTP id d9443c01a7336-28e9a628bf0mr29143435ad.31.1759491211278; Fri, 03 Oct 2025 04:33:31 -0700 (PDT) Received: from postal.iol.unh.edu (postal.iol.unh.edu. [132.177.123.84]) by smtp-relay.gmail.com with ESMTPS id d9443c01a7336-28e8d11809csm3690945ad.26.2025.10.03.04.33.31 (version=TLS1_2 cipher=ECDHE-ECDSA-AES128-GCM-SHA256 bits=128/128); Fri, 03 Oct 2025 04:33:31 -0700 (PDT) X-Relaying-Domain: iol.unh.edu Date: Fri, 03 Oct 2025 04:33:31 -0700 (PDT) Message-ID: <68dfb48b.170a0220.35468b.6cbcSMTPIN_ADDED_MISSING@mx.google.com> Received: from [172.21.0.5] (unknown [172.18.0.240]) by postal.iol.unh.edu (Postfix) with ESMTP id B67126051830; Fri, 3 Oct 2025 07:33:30 -0400 (EDT) Subject: |SUCCESS| pw157008-157009 [PATCH] [v3,2/2] crypto/ipsec-mb: use cons From: dpdklab@iol.unh.edu To: Test Report Cc: dpdk-test-reports@iol.unh.edu In-Reply-To: <20250926160209.56496-2-kai.ji@intel.com> References: <20250926160209.56496-2-kai.ji@intel.com> Content-Type: text/plain X-BeenThere: test-report@dpdk.org X-Mailman-Version: 2.1.29 Precedence: list List-Id: automatic DPDK test reports List-Unsubscribe: , List-Archive: List-Post: List-Help: List-Subscribe: , Errors-To: test-report-bounces@dpdk.org Test-Label: iol-compile-arm64-testing Test-Status: SUCCESS http://dpdk.org/patch/157009 _Testing PASS_ Submitter: Kai Ji Date: Friday, September 26 2025 16:02:09 DPDK git baseline: Repo:dpdk Branch: master CommitID:1d627ea13aeec2bcccf27246e6be2508370d171e 157008-157009 --> testing pass Upstream job id: Generic-DPDK-Compile-Meson#430530 Test environment and result as below: +------------------------------+--------------------+ | Environment | dpdk_meson_compile | +==============================+====================+ | Ubuntu 20.04 | PASS | +------------------------------+--------------------+ | Debian GNU/Linux 12 | PASS | +------------------------------+--------------------+ | Fedora Linux 42 | PASS | +------------------------------+--------------------+ | Red Hat Enterprise Linux 9.5 | PASS | +------------------------------+--------------------+ | Ubuntu 22.04 | PASS | +------------------------------+--------------------+ | CentOS Stream 9 | PASS | +------------------------------+--------------------+ | Ubuntu 24.04 | PASS | +------------------------------+--------------------+ | CentOS Stream 10 | PASS | +------------------------------+--------------------+ Ubuntu 20.04 Kernel: 5.15 Compiler: aarch64-linux-gnu-gcc gcc (Ubuntu 9.4.0-1ubuntu1~20.04.2) 9.4.0 Debian GNU/Linux 12 Kernel: 5.4 Compiler: gcc gcc (Debian 12.2.0-14+deb12u1) 12.2.0 Fedora Linux 42 Kernel: 5.4 Compiler: clang gcc (GCC) 15.2.1 20250808 (Red Hat 15.2.1-1) Red Hat Enterprise Linux 9.5 Kernel: 5.4 Compiler: gcc gcc (GCC) 11.5.0 20240719 (Red Hat 11.5.0-2) Ubuntu 22.04 Kernel: 5.4 Compiler: gcc gcc (Ubuntu 11.4.0-1ubuntu1~22.04) 11.4.0 CentOS Stream 9 Kernel: 5.4 Compiler: gcc gcc (GCC) 11.5.0 20240719 (Red Hat 11.5.0-11) Ubuntu 24.04 Kernel: 5.4 Compiler: gcc gcc (Ubuntu 13.3.0-6ubuntu2~24.04) 13.3.0 CentOS Stream 10 Kernel: 5.4 Compiler: gcc gcc (GCC) 14.2.1 20250110 (Red Hat 14.2.1-8) To view detailed results, visit: https://lab.dpdk.org/results/dashboard/patchsets/34161/ UNH-IOL DPDK Community Lab To manage your email subscriptions, visit: https://lab.dpdk.org/results/dashboard/preferences/subscriptions/